BEGIN:VCALENDAR
VERSION:2.0
PRODID:-//Stateline Kids - ECPv6.5.1.3//NONSGML v1.0//EN
CALSCALE:GREGORIAN
METHOD:PUBLISH
X-ORIGINAL-URL:https://statelinekids.com
X-WR-CALDESC:Events for Stateline Kids
REFRESH-INTERVAL;VALUE=DURATION:PT1H
X-Robots-Tag:noindex
X-PUBLISHED-TTL:PT1H
BEGIN:VTIMEZONE
TZID:America/Chicago
BEGIN:DAYLIGHT
TZOFFSETFROM:-0600
TZOFFSETTO:-0500
TZNAME:CDT
DTSTART:20210314T080000
END:DAYLIGHT
BEGIN:STANDARD
TZOFFSETFROM:-0500
TZOFFSETTO:-0600
TZNAME:CST
DTSTART:20211107T070000
END:STANDARD
END:VTIMEZONE
BEGIN:VEVENT
DTSTART;TZID=America/Chicago:20210713T183000
DTEND;TZID=America/Chicago:20210713T203000
DTSTAMP:20260425T124234
CREATED:20210711T210726Z
LAST-MODIFIED:20210711T210726Z
UID:16682-1626201000-1626208200@statelinekids.com
SUMMARY:Music at the Marv: Bree Morgan Reloaded (LIVE MUSIC)
DESCRIPTION:Check out live music outdoors. This week’s concert is Bree Morgan Reloaded.
URL:https://statelinekids.com/event/music-at-the-marv-bree-morgan-reloaded-live-music/
LOCATION:Courthouse Park\, 51 S. Main St.\, Janesville\, WI\, United States
CATEGORIES:Janesville
END:VEVENT
BEGIN:VEVENT
DTSTART;TZID=America/Chicago:20210706T183000
DTEND;TZID=America/Chicago:20210706T203000
DTSTAMP:20260425T124234
CREATED:20210704T180415Z
LAST-MODIFIED:20210704T180415Z
UID:16521-1625596200-1625603400@statelinekids.com
SUMMARY:Music at the Marv: Rainbow Bridge Band
DESCRIPTION:Check out live music outdoors. This week’s concert is the Rainbow Bridge Band.
URL:https://statelinekids.com/event/music-at-the-marv-rainbow-bridge-band/
LOCATION:Courthouse Park\, 51 S. Main St.\, Janesville\, WI\, United States
CATEGORIES:Janesville
END:VEVENT
END:VCALENDAR