BEGIN:VCALENDAR
VERSION:2.0
PRODID:-//Stateline Kids - ECPv6.5.1.3//NONSGML v1.0//EN
CALSCALE:GREGORIAN
METHOD:PUBLISH
X-WR-CALNAME:Stateline Kids
X-ORIGINAL-URL:https://statelinekids.com
X-WR-CALDESC:Events for Stateline Kids
REFRESH-INTERVAL;VALUE=DURATION:PT1H
X-Robots-Tag:noindex
X-PUBLISHED-TTL:PT1H
BEGIN:VTIMEZONE
TZID:America/Chicago
BEGIN:DAYLIGHT
TZOFFSETFROM:-0600
TZOFFSETTO:-0500
TZNAME:CDT
DTSTART:20180311T080000
END:DAYLIGHT
BEGIN:STANDARD
TZOFFSETFROM:-0500
TZOFFSETTO:-0600
TZNAME:CST
DTSTART:20181104T070000
END:STANDARD
BEGIN:DAYLIGHT
TZOFFSETFROM:-0600
TZOFFSETTO:-0500
TZNAME:CDT
DTSTART:20190310T080000
END:DAYLIGHT
BEGIN:STANDARD
TZOFFSETFROM:-0500
TZOFFSETTO:-0600
TZNAME:CST
DTSTART:20191103T070000
END:STANDARD
END:VTIMEZONE
BEGIN:VEVENT
DTSTART;TZID=America/Chicago:20191228T100000
DTEND;TZID=America/Chicago:20191228T160000
DTSTAMP:20260424T113147
CREATED:20191221T195409Z
LAST-MODIFIED:20191221T195409Z
UID:9114-1577527200-1577548800@statelinekids.com
SUMMARY:Building Bonanza at Cherry Valley Public Library
DESCRIPTION:Stop by the library to make Lego\, Duplo and Big Blue Blocks projects. 
URL:https://statelinekids.com/event/building-bonanza-at-cherry-valley-public-library-2/
LOCATION:Cherry Valley Public Library\, 755 E. State St\, Cherry Valley\, IL\, United States
CATEGORIES:Cherry Valley
END:VEVENT
BEGIN:VEVENT
DTSTART;TZID=America/Chicago:20191227T100000
DTEND;TZID=America/Chicago:20191227T160000
DTSTAMP:20260424T113147
CREATED:20191221T195319Z
LAST-MODIFIED:20191221T195319Z
UID:9112-1577440800-1577462400@statelinekids.com
SUMMARY:Building Bonanza at Cherry Valley Public Library
DESCRIPTION:Stop by the library to make Lego\, Duplo and Big Blue Blocks projects. This event continues Saturday from 10 am – 4 pm.
URL:https://statelinekids.com/event/building-bonanza-at-cherry-valley-public-library/
LOCATION:Cherry Valley Public Library\, 755 E. State St\, Cherry Valley\, IL\, United States
CATEGORIES:Cherry Valley
END:VEVENT
BEGIN:VEVENT
DTSTART;TZID=America/Chicago:20191113T160000
DTEND;TZID=America/Chicago:20191113T170000
DTSTAMP:20260424T113147
CREATED:20191110T162351Z
LAST-MODIFIED:20191110T162351Z
UID:8493-1573660800-1573664400@statelinekids.com
SUMMARY:Doreen Cronin Book Club
DESCRIPTION:Kids ages 3-6 can listen to the stories by Doreen Cronin\, talk about the author\, and do fun activities related to her books. Register here.
URL:https://statelinekids.com/event/doreen-cronin-book-club/
LOCATION:Cherry Valley Public Library\, 755 E. State St\, Cherry Valley\, IL\, United States
CATEGORIES:Cherry Valley
END:VEVENT
BEGIN:VEVENT
DTSTART;TZID=America/Chicago:20190430T093000
DTEND;TZID=America/Chicago:20190430T101500
DTSTAMP:20260424T113147
CREATED:20190430T033838Z
LAST-MODIFIED:20190430T033838Z
UID:5524-1556616600-1556619300@statelinekids.com
SUMMARY:Book Babies
DESCRIPTION:Babies ages 6 – 24 months can enjoy finger plays\, short stories\, and playtime. Register here.
URL:https://statelinekids.com/event/book-babies/
LOCATION:Cherry Valley Public Library\, 755 E. State St\, Cherry Valley\, IL\, United States
CATEGORIES:Cherry Valley
END:VEVENT
BEGIN:VEVENT
DTSTART;TZID=America/Chicago:20190327T150000
DTEND;TZID=America/Chicago:20190327T160000
DTSTAMP:20260424T113147
CREATED:20190327T033507Z
LAST-MODIFIED:20190327T033507Z
UID:5193-1553698800-1553702400@statelinekids.com
SUMMARY:Home Depot Build Day
DESCRIPTION:Kids 6 and older can build a planter box and get a seed starter kit. Call 815-332-5161 to register.
URL:https://statelinekids.com/event/home-depot-build-day/
LOCATION:Cherry Valley Public Library\, 755 E. State St\, Cherry Valley\, IL\, United States
CATEGORIES:Cherry Valley
END:VEVENT
BEGIN:VEVENT
DTSTART;TZID=America/Chicago:20190304T180000
DTEND;TZID=America/Chicago:20190304T190000
DTSTAMP:20260424T113147
CREATED:20190304T044501Z
LAST-MODIFIED:20190304T044501Z
UID:5006-1551722400-1551726000@statelinekids.com
SUMMARY:Star Party
DESCRIPTION:Learn about how the library’s telescopes work then go outside (weather permitting) to look for stars. Dress appropriately. Registration is required. Call 815-332-5161.
URL:https://statelinekids.com/event/star-party/
LOCATION:Cherry Valley Public Library\, 755 E. State St\, Cherry Valley\, IL\, United States
CATEGORIES:Cherry Valley
END:VEVENT
BEGIN:VEVENT
DTSTART;TZID=America/Chicago:20190302T110000
DTEND;TZID=America/Chicago:20190302T120000
DTSTAMP:20260424T113147
CREATED:20190225T044320Z
LAST-MODIFIED:20190225T044320Z
UID:4990-1551524400-1551528000@statelinekids.com
SUMMARY:Dr. Seuss Party
DESCRIPTION:Listen to stories\, make crafts\, and create a Cat in the Hat hat. Registration is required\, call 815-332-5161.
URL:https://statelinekids.com/event/dr-seuss-party/
LOCATION:Cherry Valley Public Library\, 755 E. State St\, Cherry Valley\, IL\, United States
CATEGORIES:Cherry Valley
END:VEVENT
BEGIN:VEVENT
DTSTART;VALUE=DATE:20190223
DTEND;VALUE=DATE:20190225
DTSTAMP:20260424T113147
CREATED:20190206T194031Z
LAST-MODIFIED:20190207T013938Z
UID:4778-1550880000-1551052799@statelinekids.com
SUMMARY:Mini-Golf in the Library and Silent Auction
DESCRIPTION:The Cherry Valley Public Library is transforming into a miniature golf course on Sat.\, Feb. 23 and Sun.\, Feb. 24 for their seventh annual “Mini-Golf in the Library and Silent Auction” fundraiser. \nFor $5.00 each\, young and old alike can test out their putting skills on the nine holes arranged throughout the aisles and bookshelves in the library. Ages three and under are free with a paying adult! Tee times are available on Sat. from 10:00 am to 4:00 pm and on Sun. from 1:00 to 4:00 pm. To reserve your tee time\, call the library at 815-332-5161. Everyone is welcome…no library card is needed! \nRefreshments will be available for purchase on both days and over 100 Silent Auction items will be displayed for bids until 4:00 pm on Sunday. If mini-golf isn’t your thing\, then come for lunch or a snack and stay to browse and bid on the silent auction goodies. On Saturday\, there will be Salamone’s pizza by the slice and Cold Stone Creamery on both days in addition to other snacks. \nItems up for auction include baskets with gift certificates from local restaurants and businesses\, tickets to a variety of entertainment venues\, and some beautiful handcrafted items. Proceeds will go toward a building expansion which will include a youth services program room and drive-up book return.
URL:https://statelinekids.com/event/mini-golf-in-the-library-and-silent-auction/
LOCATION:Cherry Valley Public Library\, 755 E. State St\, Cherry Valley\, IL\, United States
CATEGORIES:Cherry Valley
ATTACH;FMTTYPE=image/png:https://statelinekids.com/wp-content/uploads/2019/02/facebook-mini-golf-poster2-1.png
END:VEVENT
BEGIN:VEVENT
DTSTART;TZID=America/Chicago:20190218T180000
DTEND;TZID=America/Chicago:20190218T190000
DTSTAMP:20260424T113147
CREATED:20190217T204125Z
LAST-MODIFIED:20190217T204125Z
UID:4887-1550512800-1550516400@statelinekids.com
SUMMARY:Spectacular Science
DESCRIPTION:Learn how to construct a propeller airplane and pop rockets. For ages 6 and up. Call the library at 815-332-5161 to register.
URL:https://statelinekids.com/event/spectacular-science/
LOCATION:Cherry Valley Public Library\, 755 E. State St\, Cherry Valley\, IL\, United States
CATEGORIES:Cherry Valley
END:VEVENT
BEGIN:VEVENT
DTSTART;TZID=America/Chicago:20190105T110000
DTEND;TZID=America/Chicago:20190105T120000
DTSTAMP:20260424T113147
CREATED:20181230T214045Z
LAST-MODIFIED:20181230T214045Z
UID:4403-1546686000-1546689600@statelinekids.com
SUMMARY:Family Winter Storytime
DESCRIPTION:Listen to winter stories\, decorate mitten shaped cookies\, paint snow\, and make crafts! \nRegister your child to ensure the library has materials for everyone. Call the library at 815-332-5161. All ages are welcome.
URL:https://statelinekids.com/event/family-winter-storytime/
LOCATION:Cherry Valley Public Library\, 755 E. State St\, Cherry Valley\, IL\, United States
CATEGORIES:Cherry Valley
END:VEVENT
BEGIN:VEVENT
DTSTART;TZID=America/Chicago:20181231T110000
DTEND;TZID=America/Chicago:20181231T120000
DTSTAMP:20260424T113147
CREATED:20181230T215533Z
LAST-MODIFIED:20181230T215533Z
UID:4413-1546254000-1546257600@statelinekids.com
SUMMARY:Noon Year’s Eve Party at Cherry Valley Public Library
DESCRIPTION:Cherry Valley Library will host a Noon Year’s Eve party for kids ages 2 – 6 years old. They will listen to a story\, make party hats\, have noisemakers\, and celebrate the New Year with a toast. Registration is required\, call 815-332-5161 to register your child.
URL:https://statelinekids.com/event/noon-years-eve-party-at-cherry-valley-public-library/
LOCATION:Cherry Valley Public Library\, 755 E. State St\, Cherry Valley\, IL\, United States
CATEGORIES:Cherry Valley
END:VEVENT
BEGIN:VEVENT
DTSTART;TZID=America/Chicago:20180910T180000
DTEND;TZID=America/Chicago:20180910T190000
DTSTAMP:20260424T113147
CREATED:20180910T131518Z
LAST-MODIFIED:20180910T131518Z
UID:2496-1536602400-1536606000@statelinekids.com
SUMMARY:Reader’s Theater
DESCRIPTION:Kids ages 6-12 gather once a month at the library\, receive parts in short plays and skits\, and practice reading their lines from 6-6:30. They perform the play at 6:40. Register here.
URL:https://statelinekids.com/event/readers-theater/
LOCATION:Cherry Valley Public Library\, 755 E. State St\, Cherry Valley\, IL\, United States
CATEGORIES:Cherry Valley
END:VEVENT
END:VCALENDAR