BEGIN:VCALENDAR
VERSION:2.0
PRODID:-//Stateline Kids - ECPv6.5.1.3//NONSGML v1.0//EN
CALSCALE:GREGORIAN
METHOD:PUBLISH
X-ORIGINAL-URL:https://statelinekids.com
X-WR-CALDESC:Events for Stateline Kids
REFRESH-INTERVAL;VALUE=DURATION:PT1H
X-Robots-Tag:noindex
X-PUBLISHED-TTL:PT1H
BEGIN:VTIMEZONE
TZID:America/Chicago
BEGIN:DAYLIGHT
TZOFFSETFROM:-0600
TZOFFSETTO:-0500
TZNAME:CDT
DTSTART:20220313T080000
END:DAYLIGHT
BEGIN:STANDARD
TZOFFSETFROM:-0500
TZOFFSETTO:-0600
TZNAME:CST
DTSTART:20221106T070000
END:STANDARD
END:VTIMEZONE
BEGIN:VEVENT
DTSTART;TZID=America/Chicago:20221001T090000
DTEND;TZID=America/Chicago:20221001T150000
DTSTAMP:20260422T015322
CREATED:20220925T185809Z
LAST-MODIFIED:20220925T185809Z
UID:23908-1664614800-1664636400@statelinekids.com
SUMMARY:Fall Fest Market
DESCRIPTION:Shop from 20+ crafters and MLMs.
URL:https://statelinekids.com/event/fall-fest-market/
LOCATION:Chapel Specialties on the Square\, 819 E. High St.\, Milton\, WI\, United States
CATEGORIES:Milton
END:VEVENT
BEGIN:VEVENT
DTSTART;TZID=America/Chicago:20221001T090000
DTEND;TZID=America/Chicago:20221001T150000
DTSTAMP:20260422T015322
CREATED:20220924T215210Z
LAST-MODIFIED:20220924T215210Z
UID:23876-1664614800-1664636400@statelinekids.com
SUMMARY:Fall Fest Market: Craft and Vendor Fair
DESCRIPTION:Shop from more than 20 crafts\, MLMs\, and other vendors.
URL:https://statelinekids.com/event/fall-fest-market-craft-and-vendor-fair/
LOCATION:Chapel Specialties on the Square\, 819 E. High St.\, Milton\, WI\, United States
CATEGORIES:Milton
END:VEVENT
BEGIN:VEVENT
DTSTART;TZID=America/Chicago:20220813T090000
DTEND;TZID=America/Chicago:20220813T140000
DTSTAMP:20260422T015322
CREATED:20220806T215635Z
LAST-MODIFIED:20220806T215635Z
UID:22843-1660381200-1660399200@statelinekids.com
SUMMARY:Milton Mega Market
DESCRIPTION: Shop from a flea market with more than 16 vendors and a food truck.
URL:https://statelinekids.com/event/milton-mega-market/
LOCATION:Chapel Specialties on the Square\, 819 E. High St.\, Milton\, WI\, United States
CATEGORIES:Milton
END:VEVENT
END:VCALENDAR