BEGIN:VCALENDAR
VERSION:2.0
PRODID:-//Stateline Kids - ECPv6.5.1.3//NONSGML v1.0//EN
CALSCALE:GREGORIAN
METHOD:PUBLISH
X-WR-CALNAME:Stateline Kids
X-ORIGINAL-URL:https://statelinekids.com
X-WR-CALDESC:Events for Stateline Kids
REFRESH-INTERVAL;VALUE=DURATION:PT1H
X-Robots-Tag:noindex
X-PUBLISHED-TTL:PT1H
BEGIN:VTIMEZONE
TZID:America/Chicago
BEGIN:DAYLIGHT
TZOFFSETFROM:-0600
TZOFFSETTO:-0500
TZNAME:CDT
DTSTART:20180311T080000
END:DAYLIGHT
BEGIN:STANDARD
TZOFFSETFROM:-0500
TZOFFSETTO:-0600
TZNAME:CST
DTSTART:20181104T070000
END:STANDARD
BEGIN:DAYLIGHT
TZOFFSETFROM:-0600
TZOFFSETTO:-0500
TZNAME:CDT
DTSTART:20190310T080000
END:DAYLIGHT
BEGIN:STANDARD
TZOFFSETFROM:-0500
TZOFFSETTO:-0600
TZNAME:CST
DTSTART:20191103T070000
END:STANDARD
BEGIN:DAYLIGHT
TZOFFSETFROM:-0600
TZOFFSETTO:-0500
TZNAME:CDT
DTSTART:20200308T080000
END:DAYLIGHT
BEGIN:STANDARD
TZOFFSETFROM:-0500
TZOFFSETTO:-0600
TZNAME:CST
DTSTART:20201101T070000
END:STANDARD
BEGIN:DAYLIGHT
TZOFFSETFROM:-0600
TZOFFSETTO:-0500
TZNAME:CDT
DTSTART:20210314T080000
END:DAYLIGHT
BEGIN:STANDARD
TZOFFSETFROM:-0500
TZOFFSETTO:-0600
TZNAME:CST
DTSTART:20211107T070000
END:STANDARD
BEGIN:DAYLIGHT
TZOFFSETFROM:-0600
TZOFFSETTO:-0500
TZNAME:CDT
DTSTART:20220313T080000
END:DAYLIGHT
BEGIN:STANDARD
TZOFFSETFROM:-0500
TZOFFSETTO:-0600
TZNAME:CST
DTSTART:20221106T070000
END:STANDARD
BEGIN:DAYLIGHT
TZOFFSETFROM:-0600
TZOFFSETTO:-0500
TZNAME:CDT
DTSTART:20230312T080000
END:DAYLIGHT
BEGIN:STANDARD
TZOFFSETFROM:-0500
TZOFFSETTO:-0600
TZNAME:CST
DTSTART:20231105T070000
END:STANDARD
BEGIN:DAYLIGHT
TZOFFSETFROM:-0600
TZOFFSETTO:-0500
TZNAME:CDT
DTSTART:20240310T080000
END:DAYLIGHT
BEGIN:STANDARD
TZOFFSETFROM:-0500
TZOFFSETTO:-0600
TZNAME:CST
DTSTART:20241103T070000
END:STANDARD
END:VTIMEZONE
BEGIN:VEVENT
DTSTART;TZID=America/Chicago:20240316T080000
DTEND;TZID=America/Chicago:20240316T110000
DTSTAMP:20260422T080319
CREATED:20240310T195316Z
LAST-MODIFIED:20240310T195316Z
UID:33795-1710576000-1710586800@statelinekids.com
SUMMARY:Maple Syrup Festival and Pancake Breakfast
DESCRIPTION:Tour the farm\, tapped trees\, working evaporator and enjoy a pancake breakfast. \nCost: $6 for ages 13 and up / $4 for ages 12 and under / free for three and younger \n 
URL:https://statelinekids.com/event/maple-syrup-festival-and-pancake-breakfast/
LOCATION:Byron Forest Preserve\, 7993 N River Rd\, Byron\, IL\, United States
CATEGORIES:Byron
END:VEVENT
BEGIN:VEVENT
DTSTART;TZID=America/Chicago:20231104T090000
DTEND;TZID=America/Chicago:20231104T150000
DTSTAMP:20260422T080319
CREATED:20231028T151830Z
LAST-MODIFIED:20231028T151830Z
UID:31659-1699088400-1699110000@statelinekids.com
SUMMARY:Annual Holiday Gift Sale
DESCRIPTION:Shop from over 35 vendors offering hand-crafted items for the holidays as well as MLMs.
URL:https://statelinekids.com/event/annual-holiday-gift-sale/
LOCATION:Byron Forest Preserve\, 7993 N River Rd\, Byron\, IL\, United States
CATEGORIES:Byron
END:VEVENT
BEGIN:VEVENT
DTSTART;TZID=America/Chicago:20231022T120000
DTEND;TZID=America/Chicago:20231022T160000
DTSTAMP:20260422T080319
CREATED:20231015T160623Z
LAST-MODIFIED:20231015T160623Z
UID:31377-1697976000-1697990400@statelinekids.com
SUMMARY:Halloween on the Prairie
DESCRIPTION:Families can enjoy games\, hayrides\, crafts\, Raptor Rehab owl and hawk demonstrations\, a bounce house and more. There will be free hot dogs\, chips\, and bottled water.
URL:https://statelinekids.com/event/halloween-on-the-prairie-3/
LOCATION:Byron Forest Preserve\, 7993 N River Rd\, Byron\, IL\, United States
CATEGORIES:Byron
END:VEVENT
BEGIN:VEVENT
DTSTART;TZID=America/Chicago:20230723T190000
DTEND;TZID=America/Chicago:20230723T220000
DTSTAMP:20260422T080319
CREATED:20230716T160419Z
LAST-MODIFIED:20230716T160419Z
UID:29410-1690138800-1690149600@statelinekids.com
SUMMARY:Summer Concert Series: Backroads Trio
DESCRIPTION:Watch a live concert in the preserve. Bring your own chairs.
URL:https://statelinekids.com/event/summer-concert-series-backroads-trio/
LOCATION:Byron Forest Preserve\, 7993 N River Rd\, Byron\, IL\, United States
CATEGORIES:Byron
END:VEVENT
BEGIN:VEVENT
DTSTART;TZID=America/Chicago:20230716T190000
DTEND;TZID=America/Chicago:20230716T210000
DTSTAMP:20260422T080319
CREATED:20230709T190256Z
LAST-MODIFIED:20230709T190256Z
UID:29358-1689534000-1689541200@statelinekids.com
SUMMARY:Summer Concert Series: Freeborn Men
DESCRIPTION:Watch a live concert in the preserve. Bring your own chairs.
URL:https://statelinekids.com/event/summer-concert-series-freeborn-men/
LOCATION:Byron Forest Preserve\, 7993 N River Rd\, Byron\, IL\, United States
CATEGORIES:Byron
END:VEVENT
BEGIN:VEVENT
DTSTART;TZID=America/Chicago:20230709T190000
DTEND;TZID=America/Chicago:20230709T210000
DTSTAMP:20260422T080319
CREATED:20230701T165825Z
LAST-MODIFIED:20230701T165825Z
UID:29173-1688929200-1688936400@statelinekids.com
SUMMARY:Summer Concert Series: Patchouli
DESCRIPTION:Bring your own lawn chairs and blankets to enjoy a concert on the Heritage Farm Stage.
URL:https://statelinekids.com/event/summer-concert-series-patchouli/
LOCATION:Byron Forest Preserve\, 7993 N River Rd\, Byron\, IL\, United States
CATEGORIES:Byron
END:VEVENT
BEGIN:VEVENT
DTSTART;TZID=America/Chicago:20230430T130000
DTEND;TZID=America/Chicago:20230430T140000
DTSTAMP:20260422T080319
CREATED:20230421T164058Z
LAST-MODIFIED:20230421T164058Z
UID:27570-1682859600-1682863200@statelinekids.com
SUMMARY:Spring Family Concert: Northern Illinois Raptor Rehab and Education
DESCRIPTION:Learn about wildlife\, conservation\, ecology and more with live birds of prey.
URL:https://statelinekids.com/event/spring-family-concert-northern-illinois-raptor-rehab-and-education/
LOCATION:Byron Forest Preserve\, 7993 N River Rd\, Byron\, IL\, United States
CATEGORIES:Byron
END:VEVENT
BEGIN:VEVENT
DTSTART;TZID=America/Chicago:20230422T100000
DTEND;TZID=America/Chicago:20230422T160000
DTSTAMP:20260422T080319
CREATED:20230416T192949Z
LAST-MODIFIED:20230416T192949Z
UID:27494-1682157600-1682179200@statelinekids.com
SUMMARY:SPROUT: Earth Day Market and Expo
DESCRIPTION:Visit with local vendors selling eco-friendly products\, handmade items\, and artwork.
URL:https://statelinekids.com/event/sprout-earth-day-market-and-expo/
LOCATION:Byron Forest Preserve\, 7993 N River Rd\, Byron\, IL\, United States
CATEGORIES:Byron
END:VEVENT
BEGIN:VEVENT
DTSTART;TZID=America/Chicago:20230318T080000
DTEND;TZID=America/Chicago:20230318T110000
DTSTAMP:20260422T080319
CREATED:20230311T193326Z
LAST-MODIFIED:20230311T193405Z
UID:26909-1679126400-1679137200@statelinekids.com
SUMMARY:Maple Syrup Festival
DESCRIPTION:Bring your family out for a yummy breakfast and learn how maple syrup is made. There will be tours and syrup will be available for purchase as well. \nCost: $7 per adult / $5 per kid ages 12 and under / free for kids 3 and under
URL:https://statelinekids.com/event/maple-syrup-festival/
LOCATION:Byron Forest Preserve\, 7993 N River Rd\, Byron\, IL\, United States
CATEGORIES:Byron
END:VEVENT
BEGIN:VEVENT
DTSTART;TZID=America/Chicago:20230311T180000
DTEND;TZID=America/Chicago:20230311T193000
DTSTAMP:20260422T080319
CREATED:20230304T194911Z
LAST-MODIFIED:20230304T194923Z
UID:26728-1678557600-1678563000@statelinekids.com
SUMMARY:Night Hike
DESCRIPTION:Take a night hike to identify winter constellations then enjoy some hot cocoa. Call 815-234-8535 to register before March 10th.
URL:https://statelinekids.com/event/night-hike-4/
LOCATION:Byron Forest Preserve\, 7993 N River Rd\, Byron\, IL\, United States
CATEGORIES:Byron
END:VEVENT
BEGIN:VEVENT
DTSTART;TZID=America/Chicago:20181028T120000
DTEND;TZID=America/Chicago:20181028T160000
DTSTAMP:20260422T080319
CREATED:20181015T011435Z
LAST-MODIFIED:20181015T011435Z
UID:3308-1540728000-1540742400@statelinekids.com
SUMMARY:Halloween on the Prairie
DESCRIPTION:Hayrides\, games\, face painting\, and more! Be sure to try an apple cider donut or a delicious caramel apple. Most activities are free\, however\, games are 5/$1.00. Games are appropriate for kids age 10 and under.
URL:https://statelinekids.com/event/halloween-on-the-prairie/
LOCATION:Byron Forest Preserve\, 7993 N River Rd\, Byron\, IL\, United States
CATEGORIES:Byron
END:VEVENT
END:VCALENDAR