BEGIN:VCALENDAR
VERSION:2.0
PRODID:-//Stateline Kids - ECPv6.5.1.3//NONSGML v1.0//EN
CALSCALE:GREGORIAN
METHOD:PUBLISH
X-WR-CALNAME:Stateline Kids
X-ORIGINAL-URL:https://statelinekids.com
X-WR-CALDESC:Events for Stateline Kids
REFRESH-INTERVAL;VALUE=DURATION:PT1H
X-Robots-Tag:noindex
X-PUBLISHED-TTL:PT1H
BEGIN:VTIMEZONE
TZID:America/Chicago
BEGIN:DAYLIGHT
TZOFFSETFROM:-0600
TZOFFSETTO:-0500
TZNAME:CDT
DTSTART:20190310T080000
END:DAYLIGHT
BEGIN:STANDARD
TZOFFSETFROM:-0500
TZOFFSETTO:-0600
TZNAME:CST
DTSTART:20191103T070000
END:STANDARD
END:VTIMEZONE
BEGIN:VEVENT
DTSTART;TZID=America/Chicago:20190908T110000
DTEND;TZID=America/Chicago:20190908T160000
DTSTAMP:20260425T162409
CREATED:20190901T144854Z
LAST-MODIFIED:20190901T144854Z
UID:7236-1567940400-1567958400@statelinekids.com
SUMMARY:Trask Bridge Picnic
DESCRIPTION:Enjoy a family fun day in the country with face painting\, bounce houses\, craft table\, antique vehicles and tractors\, live music and food and ice cream for sale.
URL:https://statelinekids.com/event/trask-bridge-picnic/
LOCATION:Burritt Township Hall\, 8284 Trask Bridge Rd.\, Rockford\, IL\, United States
CATEGORIES:Rockford
END:VEVENT
END:VCALENDAR