BEGIN:VCALENDAR
VERSION:2.0
PRODID:-//Stateline Kids - ECPv6.5.1.3//NONSGML v1.0//EN
CALSCALE:GREGORIAN
METHOD:PUBLISH
X-ORIGINAL-URL:https://statelinekids.com
X-WR-CALDESC:Events for Stateline Kids
REFRESH-INTERVAL;VALUE=DURATION:PT1H
X-Robots-Tag:noindex
X-PUBLISHED-TTL:PT1H
BEGIN:VTIMEZONE
TZID:America/Chicago
BEGIN:DAYLIGHT
TZOFFSETFROM:-0600
TZOFFSETTO:-0500
TZNAME:CDT
DTSTART:20200308T080000
END:DAYLIGHT
BEGIN:STANDARD
TZOFFSETFROM:-0500
TZOFFSETTO:-0600
TZNAME:CST
DTSTART:20201101T070000
END:STANDARD
BEGIN:DAYLIGHT
TZOFFSETFROM:-0600
TZOFFSETTO:-0500
TZNAME:CDT
DTSTART:20210314T080000
END:DAYLIGHT
BEGIN:STANDARD
TZOFFSETFROM:-0500
TZOFFSETTO:-0600
TZNAME:CST
DTSTART:20211107T070000
END:STANDARD
BEGIN:DAYLIGHT
TZOFFSETFROM:-0600
TZOFFSETTO:-0500
TZNAME:CDT
DTSTART:20220313T080000
END:DAYLIGHT
BEGIN:STANDARD
TZOFFSETFROM:-0500
TZOFFSETTO:-0600
TZNAME:CST
DTSTART:20221106T070000
END:STANDARD
BEGIN:DAYLIGHT
TZOFFSETFROM:-0600
TZOFFSETTO:-0500
TZNAME:CDT
DTSTART:20230312T080000
END:DAYLIGHT
BEGIN:STANDARD
TZOFFSETFROM:-0500
TZOFFSETTO:-0600
TZNAME:CST
DTSTART:20231105T070000
END:STANDARD
BEGIN:DAYLIGHT
TZOFFSETFROM:-0600
TZOFFSETTO:-0500
TZNAME:CDT
DTSTART:20240310T080000
END:DAYLIGHT
BEGIN:STANDARD
TZOFFSETFROM:-0500
TZOFFSETTO:-0600
TZNAME:CST
DTSTART:20241103T070000
END:STANDARD
END:VTIMEZONE
BEGIN:VEVENT
DTSTART;TZID=America/Chicago:20240223T130000
DTEND;TZID=America/Chicago:20240223T190000
DTSTAMP:20260420T225357
CREATED:20240218T183037Z
LAST-MODIFIED:20240218T183037Z
UID:33454-1708693200-1708714800@statelinekids.com
SUMMARY:Lucky Charms Walk In and Paint
DESCRIPTION:Walk in and choose from over 35 projects that are St. Patrick’s\, Gnomes\, and more.
URL:https://statelinekids.com/event/lucky-charms-walk-in-and-paint/2024-02-23/
LOCATION:Bristle and Timber\, 6140 E. Riverside Blvd.\, Loves Park\, IL\, United States
CATEGORIES:Loves Park
END:VEVENT
BEGIN:VEVENT
DTSTART;TZID=America/Chicago:20240213T183000
DTEND;TZID=America/Chicago:20240213T193000
DTSTAMP:20260420T225357
CREATED:20240211T220230Z
LAST-MODIFIED:20240211T220230Z
UID:33376-1707849000-1707852600@statelinekids.com
SUMMARY:Swiftie Bingo Night
DESCRIPTION:Enjoy a night of six rounds of bingo\, an Eras candy heart to-go project\, popcorn\, and more. Get tickets here.
URL:https://statelinekids.com/event/swiftie-bingo-night/
LOCATION:Bristle and Timber\, 6140 E. Riverside Blvd.\, Loves Park\, IL\, United States
END:VEVENT
BEGIN:VEVENT
DTSTART;TZID=America/Chicago:20240119T130000
DTEND;TZID=America/Chicago:20240119T190000
DTSTAMP:20260420T225357
CREATED:20240114T231226Z
LAST-MODIFIED:20240114T231226Z
UID:32987-1705669200-1705690800@statelinekids.com
SUMMARY:Arctic BRRRR! Walk In Painting Event
DESCRIPTION:Stop by to choose from over 35 projects that are winter\, gnome\, surprise\, and general themed. You can paint in a project or bring the project home to go.
URL:https://statelinekids.com/event/arctic-brrrr-walk-in-painting-event/2024-01-19/
LOCATION:Bristle and Timber\, 6140 E. Riverside Blvd.\, Loves Park\, IL\, United States
END:VEVENT
BEGIN:VEVENT
DTSTART;TZID=America/Chicago:20231223T100000
DTEND;TZID=America/Chicago:20231223T150000
DTSTAMP:20260420T225357
CREATED:20231217T200807Z
LAST-MODIFIED:20231217T200808Z
UID:32692-1703325600-1703343600@statelinekids.com
SUMMARY:Jingle All The Way Walk In Painting Event
DESCRIPTION:Walk in to paint one of 40 winter\, gnomes\, and holiday projects.
URL:https://statelinekids.com/event/jingle-all-the-way-walk-in-painting-event-2/
LOCATION:Bristle and Timber\, 6140 E. Riverside Blvd.\, Loves Park\, IL\, United States
CATEGORIES:Loves Park
END:VEVENT
BEGIN:VEVENT
DTSTART;TZID=America/Chicago:20231208T130000
DTEND;TZID=America/Chicago:20231208T180000
DTSTAMP:20260420T225357
CREATED:20231203T203500Z
LAST-MODIFIED:20231203T203500Z
UID:32398-1702040400-1702058400@statelinekids.com
SUMMARY:Jingle All The Way Walk In Painting Event
DESCRIPTION:Choose from over 40 projects with themes of Christmas\, Winter\, gnome\, and more. You can paint there or bring home a to-go kit.
URL:https://statelinekids.com/event/jingle-all-the-way-walk-in-painting-event/2023-12-08/
LOCATION:Bristle and Timber\, 6140 E. Riverside Blvd.\, Loves Park\, IL\, United States
CATEGORIES:Loves Park
END:VEVENT
BEGIN:VEVENT
DTSTART;TZID=America/Chicago:20231118T100000
DTEND;TZID=America/Chicago:20231118T150000
DTSTAMP:20260420T225357
CREATED:20231111T185951Z
LAST-MODIFIED:20231111T185951Z
UID:32072-1700301600-1700319600@statelinekids.com
SUMMARY:Happiest Place on Earth: Walk In Painting Event
DESCRIPTION:Drop in to paint your own Disney inspired piece or bring it home to paint there.
URL:https://statelinekids.com/event/happiest-place-on-earth-walk-in-painting-event/2023-11-18/
LOCATION:Bristle and Timber\, 6140 E. Riverside Blvd.\, Loves Park\, IL\, United States
CATEGORIES:Loves Park
END:VEVENT
BEGIN:VEVENT
DTSTART;TZID=America/Chicago:20231103T130000
DTEND;TZID=America/Chicago:20231103T190000
DTSTAMP:20260420T225357
CREATED:20231028T151608Z
LAST-MODIFIED:20231028T151608Z
UID:31655-1699016400-1699038000@statelinekids.com
SUMMARY:Paintsgiving
DESCRIPTION:Choose from over 30 Thanksgiving\, Christmas\, Fall and Winter projects to stop in and paint or take it home as a To-Go kit.
URL:https://statelinekids.com/event/paintsgiving/2023-11-03/
LOCATION:Bristle and Timber\, 6140 E. Riverside Blvd.\, Loves Park\, IL\, United States
CATEGORIES:Loves Park
END:VEVENT
BEGIN:VEVENT
DTSTART;TZID=America/Chicago:20230804T150000
DTEND;TZID=America/Chicago:20230804T200000
DTSTAMP:20260420T225357
CREATED:20230730T154957Z
LAST-MODIFIED:20230730T154957Z
UID:29668-1691161200-1691179200@statelinekids.com
SUMMARY:Hogwarts Walk In Make and Take
DESCRIPTION:Stop in to create a Hogwarts themed board. Most projects are $25.
URL:https://statelinekids.com/event/hogwarts-walk-in-make-and-take/2023-08-04/
LOCATION:Bristle and Timber\, 6140 E. Riverside Blvd.\, Loves Park\, IL\, United States
CATEGORIES:Loves Park
END:VEVENT
BEGIN:VEVENT
DTSTART;TZID=America/Chicago:20230325T110000
DTEND;TZID=America/Chicago:20230325T160000
DTSTAMP:20260420T225357
CREATED:20230319T180007Z
LAST-MODIFIED:20230319T180007Z
UID:27026-1679742000-1679760000@statelinekids.com
SUMMARY:Hogwarts in Bloom Walk In Make and Take
DESCRIPTION:Choose from over 30 designs including Hogwarts projects\, Easter\, Spring\, Home and Gnomes.
URL:https://statelinekids.com/event/hogwarts-in-bloom-walk-in-make-and-take/2023-03-25/
LOCATION:Bristle and Timber\, 6140 E. Riverside Blvd.\, Loves Park\, IL\, United States
CATEGORIES:Loves Park
END:VEVENT
BEGIN:VEVENT
DTSTART;TZID=America/Chicago:20230304T090000
DTEND;TZID=America/Chicago:20230304T140000
DTSTAMP:20260420T225357
CREATED:20230225T181833Z
LAST-MODIFIED:20230225T181833Z
UID:26608-1677920400-1677938400@statelinekids.com
SUMMARY:St. Patrick’s / Easter Walk - In Make and Take
DESCRIPTION:Stop in to paint a St. Patrick’s\, Easter\, Home themed\, or gnome boards.
URL:https://statelinekids.com/event/st-patricks-easter-walk-in-make-and-take/
LOCATION:Bristle and Timber\, 6140 E. Riverside Blvd.\, Loves Park\, IL\, United States
CATEGORIES:Loves Park
END:VEVENT
BEGIN:VEVENT
DTSTART;TZID=America/Chicago:20230128T140000
DTEND;TZID=America/Chicago:20230128T190000
DTSTAMP:20260420T225357
CREATED:20230122T170808Z
LAST-MODIFIED:20230122T170808Z
UID:25995-1674914400-1674932400@statelinekids.com
SUMMARY:Valentine’s Walk-In Make and Take Painting Event
DESCRIPTION:Walk in and create a Valentine’s Day board from over 30 available designs.
URL:https://statelinekids.com/event/valentines-walk-in-make-and-take-painting-event/
LOCATION:Bristle and Timber\, 6140 E. Riverside Blvd.\, Loves Park\, IL\, United States
CATEGORIES:Loves Park
END:VEVENT
BEGIN:VEVENT
DTSTART;TZID=America/Chicago:20220326T090000
DTEND;TZID=America/Chicago:20220326T120000
DTSTAMP:20260420T225357
CREATED:20220320T175240Z
LAST-MODIFIED:20220320T175240Z
UID:19494-1648285200-1648296000@statelinekids.com
SUMMARY:Easter and Spring Walk-In
DESCRIPTION:Walk in and pick an Easter or spring board for $20 or more.
URL:https://statelinekids.com/event/easter-and-spring-walk-in/2022-03-26/
LOCATION:Bristle and Timber\, 6140 E. Riverside Blvd.\, Loves Park\, IL\, United States
CATEGORIES:Loves Park
END:VEVENT
BEGIN:VEVENT
DTSTART;TZID=America/Chicago:20210313T100000
DTEND;TZID=America/Chicago:20210313T150000
DTSTAMP:20260420T225357
CREATED:20210307T184029Z
LAST-MODIFIED:20210307T184029Z
UID:14989-1615629600-1615647600@statelinekids.com
SUMMARY:Spring Walk-In Make and Take
DESCRIPTION:Walk in and choose a pre-sanded and stained board and stencil and complete your board in the studio.
URL:https://statelinekids.com/event/spring-walk-in-make-and-take-2/
LOCATION:Bristle and Timber\, 6140 E. Riverside Blvd.\, Loves Park\, IL\, United States
CATEGORIES:Loves Park
END:VEVENT
BEGIN:VEVENT
DTSTART;TZID=America/Chicago:20200314T090000
DTEND;TZID=America/Chicago:20200314T140000
DTSTAMP:20260420T225357
CREATED:20200307T180254Z
LAST-MODIFIED:20200307T180254Z
UID:10119-1584176400-1584194400@statelinekids.com
SUMMARY:Spring Walk In Workshop at Bristle and Timber
DESCRIPTION:Families can drop in and make a spring themed project for $15.
URL:https://statelinekids.com/event/spring-walk-in-workshop-at-bristle-and-timber/
LOCATION:Bristle and Timber\, 6140 E. Riverside Blvd.\, Loves Park\, IL\, United States
CATEGORIES:Loves Park
END:VEVENT
END:VCALENDAR