BEGIN:VCALENDAR
VERSION:2.0
PRODID:-//Stateline Kids - ECPv6.5.1.3//NONSGML v1.0//EN
CALSCALE:GREGORIAN
METHOD:PUBLISH
X-WR-CALNAME:Stateline Kids
X-ORIGINAL-URL:https://statelinekids.com
X-WR-CALDESC:Events for Stateline Kids
REFRESH-INTERVAL;VALUE=DURATION:PT1H
X-Robots-Tag:noindex
X-PUBLISHED-TTL:PT1H
BEGIN:VTIMEZONE
TZID:America/Chicago
BEGIN:DAYLIGHT
TZOFFSETFROM:-0600
TZOFFSETTO:-0500
TZNAME:CDT
DTSTART:20190310T080000
END:DAYLIGHT
BEGIN:STANDARD
TZOFFSETFROM:-0500
TZOFFSETTO:-0600
TZNAME:CST
DTSTART:20191103T070000
END:STANDARD
BEGIN:DAYLIGHT
TZOFFSETFROM:-0600
TZOFFSETTO:-0500
TZNAME:CDT
DTSTART:20200308T080000
END:DAYLIGHT
BEGIN:STANDARD
TZOFFSETFROM:-0500
TZOFFSETTO:-0600
TZNAME:CST
DTSTART:20201101T070000
END:STANDARD
BEGIN:DAYLIGHT
TZOFFSETFROM:-0600
TZOFFSETTO:-0500
TZNAME:CDT
DTSTART:20210314T080000
END:DAYLIGHT
BEGIN:STANDARD
TZOFFSETFROM:-0500
TZOFFSETTO:-0600
TZNAME:CST
DTSTART:20211107T070000
END:STANDARD
BEGIN:DAYLIGHT
TZOFFSETFROM:-0600
TZOFFSETTO:-0500
TZNAME:CDT
DTSTART:20220313T080000
END:DAYLIGHT
BEGIN:STANDARD
TZOFFSETFROM:-0500
TZOFFSETTO:-0600
TZNAME:CST
DTSTART:20221106T070000
END:STANDARD
BEGIN:DAYLIGHT
TZOFFSETFROM:-0600
TZOFFSETTO:-0500
TZNAME:CDT
DTSTART:20230312T080000
END:DAYLIGHT
BEGIN:STANDARD
TZOFFSETFROM:-0500
TZOFFSETTO:-0600
TZNAME:CST
DTSTART:20231105T070000
END:STANDARD
BEGIN:DAYLIGHT
TZOFFSETFROM:-0600
TZOFFSETTO:-0500
TZNAME:CDT
DTSTART:20240310T080000
END:DAYLIGHT
BEGIN:STANDARD
TZOFFSETFROM:-0500
TZOFFSETTO:-0600
TZNAME:CST
DTSTART:20241103T070000
END:STANDARD
BEGIN:DAYLIGHT
TZOFFSETFROM:-0600
TZOFFSETTO:-0500
TZNAME:CDT
DTSTART:20250309T080000
END:DAYLIGHT
BEGIN:STANDARD
TZOFFSETFROM:-0500
TZOFFSETTO:-0600
TZNAME:CST
DTSTART:20251102T070000
END:STANDARD
END:VTIMEZONE
BEGIN:VEVENT
DTSTART;TZID=America/Chicago:20250406T100000
DTEND;TZID=America/Chicago:20250406T140000
DTSTAMP:20260421T165042
CREATED:20250329T202727Z
LAST-MODIFIED:20250329T202727Z
UID:40043-1743933600-1743948000@statelinekids.com
SUMMARY:Easter Event
DESCRIPTION:Walk through the museum\, do a make and take craft\, enjoy donuts and coffee and photos with the Easter Bunny ($5 cash for photo). \nCost: $10 per family
URL:https://statelinekids.com/event/easter-event-2/
LOCATION:Boone County Museum of History\, 314 S. State St\, Belvidere\, IL\, United States
CATEGORIES:Belvidere
END:VEVENT
BEGIN:VEVENT
DTSTART;TZID=America/Chicago:20240324T100000
DTEND;TZID=America/Chicago:20240324T140000
DTSTAMP:20260421T165042
CREATED:20240317T175837Z
LAST-MODIFIED:20240317T175837Z
UID:33947-1711274400-1711288800@statelinekids.com
SUMMARY:Photos with the Easter Bunny
DESCRIPTION:There will also be fun for the whole family at the museum\, make and take crafts\, and more. JKirk Photography will be offering photos with the Easter Bunny. Photos are $5 each and can be downloaded after the event. \nCost: $10 per family museum admission / $5 per digital photo with Easter Bunny from Jamie Kirk / Cash preferred
URL:https://statelinekids.com/event/photos-with-the-easter-bunny-2/
LOCATION:Boone County Museum of History\, 314 S. State St\, Belvidere\, IL\, United States
CATEGORIES:Belvidere
END:VEVENT
BEGIN:VEVENT
DTSTART;TZID=America/Chicago:20231216T100000
DTEND;TZID=America/Chicago:20231216T140000
DTSTAMP:20260421T165042
CREATED:20231210T190807Z
LAST-MODIFIED:20231210T190807Z
UID:32517-1702720800-1702735200@statelinekids.com
SUMMARY:Santa’s Coming to Town
DESCRIPTION:Enjoy a day with Santa\, making crafts\, a museum self-tour\, scavenger hunt and more.
URL:https://statelinekids.com/event/santas-coming-to-town/
LOCATION:Boone County Museum of History\, 314 S. State St\, Belvidere\, IL\, United States
CATEGORIES:Belvidere
END:VEVENT
BEGIN:VEVENT
DTSTART;TZID=America/Chicago:20220223T103000
DTEND;TZID=America/Chicago:20220223T113000
DTSTAMP:20260421T165042
CREATED:20220219T214458Z
LAST-MODIFIED:20220219T214458Z
UID:19217-1645612200-1645615800@statelinekids.com
SUMMARY:Ida’s Storytime On the Go
DESCRIPTION:Enjoy an in-person storytime for kids 2 and up.
URL:https://statelinekids.com/event/idas-storytime-on-the-go-2/
LOCATION:Boone County Museum of History\, 314 S. State St\, Belvidere\, IL\, United States
CATEGORIES:Belvidere
END:VEVENT
BEGIN:VEVENT
DTSTART;TZID=America/Chicago:20190420T110000
DTEND;TZID=America/Chicago:20190420T140000
DTSTAMP:20260421T165042
CREATED:20190413T212447Z
LAST-MODIFIED:20190413T212447Z
UID:5422-1555758000-1555768800@statelinekids.com
SUMMARY:Easter Party
DESCRIPTION:Easter party with the Easter bunny\, crafts\, games\, and baby chicks.
URL:https://statelinekids.com/event/easter-party/
LOCATION:Boone County Museum of History\, 314 S. State St\, Belvidere\, IL\, United States
CATEGORIES:Belvidere
END:VEVENT
END:VCALENDAR