BEGIN:VCALENDAR
VERSION:2.0
PRODID:-//Stateline Kids - ECPv6.5.1.3//NONSGML v1.0//EN
CALSCALE:GREGORIAN
METHOD:PUBLISH
X-ORIGINAL-URL:https://statelinekids.com
X-WR-CALDESC:Events for Stateline Kids
REFRESH-INTERVAL;VALUE=DURATION:PT1H
X-Robots-Tag:noindex
X-PUBLISHED-TTL:PT1H
BEGIN:VTIMEZONE
TZID:America/Chicago
BEGIN:DAYLIGHT
TZOFFSETFROM:-0600
TZOFFSETTO:-0500
TZNAME:CDT
DTSTART:20190310T080000
END:DAYLIGHT
BEGIN:STANDARD
TZOFFSETFROM:-0500
TZOFFSETTO:-0600
TZNAME:CST
DTSTART:20191103T070000
END:STANDARD
BEGIN:DAYLIGHT
TZOFFSETFROM:-0600
TZOFFSETTO:-0500
TZNAME:CDT
DTSTART:20200308T080000
END:DAYLIGHT
BEGIN:STANDARD
TZOFFSETFROM:-0500
TZOFFSETTO:-0600
TZNAME:CST
DTSTART:20201101T070000
END:STANDARD
END:VTIMEZONE
BEGIN:VEVENT
DTSTART;TZID=America/Chicago:20200315T090000
DTEND;TZID=America/Chicago:20200315T160000
DTSTAMP:20260423T083251
CREATED:20200307T175036Z
LAST-MODIFIED:20200314T040959Z
UID:10111-1584262800-1584288000@statelinekids.com
SUMMARY:CANCELED: Make and Take Spring Boards
DESCRIPTION:Stop by to make a spring project for $15 each. \n 
URL:https://statelinekids.com/event/make-and-take-spring-boards/
LOCATION:Board and Brush\, 11361 Main St.\, Roscoe\, IL\, United States
CATEGORIES:Roscoe
END:VEVENT
BEGIN:VEVENT
DTSTART;TZID=America/Chicago:20200307T090000
DTEND;TZID=America/Chicago:20200307T160000
DTSTAMP:20260423T083251
CREATED:20200301T154624Z
LAST-MODIFIED:20200301T154624Z
UID:10028-1583571600-1583596800@statelinekids.com
SUMMARY:Spring Walk-In Make and Take
DESCRIPTION:Stop by and make a family-friendly spring project. \nCost: $15 per project \n 
URL:https://statelinekids.com/event/spring-walk-in-make-and-take/
LOCATION:Board and Brush\, 11361 Main St.\, Roscoe\, IL\, United States
CATEGORIES:Roscoe
END:VEVENT
BEGIN:VEVENT
DTSTART;TZID=America/Chicago:20190811T140000
DTEND;TZID=America/Chicago:20190811T170000
DTSTAMP:20260423T083251
CREATED:20190804T202626Z
LAST-MODIFIED:20190804T202626Z
UID:6857-1565532000-1565542800@statelinekids.com
SUMMARY:Princess Parent Child Board Painting Workshop
DESCRIPTION:Save the date and join us for our very special workshop.. Frozen in Summer Princess workshop Sunday\, August 11th ☀️❄️??\nThis is a parent child workshop and we would love for your prince and princess to dress in their favorite royal costume!!\nElsa will be joining us for this workshop.. your kiddos will make a project of choice and also enjoy storytime\, songs and every child will get a photo with Elsa? ❄️\nAdults can make any project from the gallery!\nThis is going to be such a special workshop filled with frozen prizes and so many fun surprises.. make sure to join us❄️???\nhttps://boardandbrush.com/roscoe/events/specialeventprincessworkshopwithguestelsaparent38childworkshop/ \nCost is $68 per parent\, $25 per child
URL:https://statelinekids.com/event/princess-parent-child-board-painting-workshop/
LOCATION:Board and Brush\, 11361 Main St.\, Roscoe\, IL\, United States
CATEGORIES:Roscoe
END:VEVENT
END:VCALENDAR