BEGIN:VCALENDAR
VERSION:2.0
PRODID:-//Stateline Kids - ECPv6.5.1.3//NONSGML v1.0//EN
CALSCALE:GREGORIAN
METHOD:PUBLISH
X-WR-CALNAME:Stateline Kids
X-ORIGINAL-URL:https://statelinekids.com
X-WR-CALDESC:Events for Stateline Kids
REFRESH-INTERVAL;VALUE=DURATION:PT1H
X-Robots-Tag:noindex
X-PUBLISHED-TTL:PT1H
BEGIN:VTIMEZONE
TZID:America/Chicago
BEGIN:DAYLIGHT
TZOFFSETFROM:-0600
TZOFFSETTO:-0500
TZNAME:CDT
DTSTART:20180311T080000
END:DAYLIGHT
BEGIN:STANDARD
TZOFFSETFROM:-0500
TZOFFSETTO:-0600
TZNAME:CST
DTSTART:20181104T070000
END:STANDARD
BEGIN:DAYLIGHT
TZOFFSETFROM:-0600
TZOFFSETTO:-0500
TZNAME:CDT
DTSTART:20190310T080000
END:DAYLIGHT
BEGIN:STANDARD
TZOFFSETFROM:-0500
TZOFFSETTO:-0600
TZNAME:CST
DTSTART:20191103T070000
END:STANDARD
BEGIN:DAYLIGHT
TZOFFSETFROM:-0600
TZOFFSETTO:-0500
TZNAME:CDT
DTSTART:20200308T080000
END:DAYLIGHT
BEGIN:STANDARD
TZOFFSETFROM:-0500
TZOFFSETTO:-0600
TZNAME:CST
DTSTART:20201101T070000
END:STANDARD
BEGIN:DAYLIGHT
TZOFFSETFROM:-0600
TZOFFSETTO:-0500
TZNAME:CDT
DTSTART:20210314T080000
END:DAYLIGHT
BEGIN:STANDARD
TZOFFSETFROM:-0500
TZOFFSETTO:-0600
TZNAME:CST
DTSTART:20211107T070000
END:STANDARD
BEGIN:DAYLIGHT
TZOFFSETFROM:-0600
TZOFFSETTO:-0500
TZNAME:CDT
DTSTART:20220313T080000
END:DAYLIGHT
BEGIN:STANDARD
TZOFFSETFROM:-0500
TZOFFSETTO:-0600
TZNAME:CST
DTSTART:20221106T070000
END:STANDARD
BEGIN:DAYLIGHT
TZOFFSETFROM:-0600
TZOFFSETTO:-0500
TZNAME:CDT
DTSTART:20230312T080000
END:DAYLIGHT
BEGIN:STANDARD
TZOFFSETFROM:-0500
TZOFFSETTO:-0600
TZNAME:CST
DTSTART:20231105T070000
END:STANDARD
BEGIN:DAYLIGHT
TZOFFSETFROM:-0600
TZOFFSETTO:-0500
TZNAME:CDT
DTSTART:20240310T080000
END:DAYLIGHT
BEGIN:STANDARD
TZOFFSETFROM:-0500
TZOFFSETTO:-0600
TZNAME:CST
DTSTART:20241103T070000
END:STANDARD
END:VTIMEZONE
BEGIN:VEVENT
DTSTART;TZID=America/Chicago:20240614T210000
DTEND;TZID=America/Chicago:20240614T220000
DTSTAMP:20260423T212246
CREATED:20240609T175312Z
LAST-MODIFIED:20240609T175312Z
UID:35341-1718398800-1718402400@statelinekids.com
SUMMARY:Glow Golf
DESCRIPTION:Spend the evening golfing in the dark with mini putt\, long drive competitions\, and more. Get tickets here.
URL:https://statelinekids.com/event/glow-golf-4/
LOCATION:Aldeen Golf Club\, 1900 Reid Farm Rd\, Rockford\, IL\, United States
CATEGORIES:Rockford
END:VEVENT
BEGIN:VEVENT
DTSTART;TZID=America/Chicago:20240530T180000
DTEND;TZID=America/Chicago:20240530T210000
DTSTAMP:20260423T212246
CREATED:20240526T191304Z
LAST-MODIFIED:20240526T191304Z
UID:35174-1717092000-1717102800@statelinekids.com
SUMMARY:Women’s Golf Day
DESCRIPTION:Women of all ages are welcome to play five holes of golf\, eat pizza and salad\, and make candles with Craft and Foster. Register here.
URL:https://statelinekids.com/event/womens-golf-day/
LOCATION:Aldeen Golf Club\, 1900 Reid Farm Rd\, Rockford\, IL\, United States
CATEGORIES:Rockford
END:VEVENT
BEGIN:VEVENT
DTSTART;TZID=America/Chicago:20240519T150000
DTEND;TZID=America/Chicago:20240519T170000
DTSTAMP:20260423T212246
CREATED:20240510T161856Z
LAST-MODIFIED:20240510T161856Z
UID:34843-1716130800-1716138000@statelinekids.com
SUMMARY:A Day at the Fairway
DESCRIPTION:This mother/daughter event is $25 per person for nine holes of golf\, cart\, and fun fair food on the course! There will be contests for best team outfits\, best-decorated golf cart\, and most creative team name. There will be on-course games and activities as well. \nRegister here.
URL:https://statelinekids.com/event/a-day-at-the-fairway/
LOCATION:Aldeen Golf Club\, 1900 Reid Farm Rd\, Rockford\, IL\, United States
CATEGORIES:Rockford
ATTACH;FMTTYPE=image/jpeg:https://statelinekids.com/wp-content/uploads/2024/05/Golf.jpeg
END:VEVENT
BEGIN:VEVENT
DTSTART;TZID=America/Chicago:20231210T090000
DTEND;TZID=America/Chicago:20231210T103000
DTSTAMP:20260423T212246
CREATED:20231203T212826Z
LAST-MODIFIED:20231203T212826Z
UID:32420-1702198800-1702204200@statelinekids.com
SUMMARY:Tidings on the Tee Box
DESCRIPTION:Join Santa and his elves for fun on the tee box. The event includes a breakfast buffet\, cocoa bar\, and photos with Santa. Register here.
URL:https://statelinekids.com/event/tidings-on-the-tee-box/
LOCATION:Aldeen Golf Club\, 1900 Reid Farm Rd\, Rockford\, IL\, United States
CATEGORIES:Rockford
END:VEVENT
BEGIN:VEVENT
DTSTART;TZID=America/Chicago:20231027T190000
DTEND;TZID=America/Chicago:20231027T210000
DTSTAMP:20260423T212246
CREATED:20231020T003923Z
LAST-MODIFIED:20231020T003923Z
UID:31512-1698433200-1698440400@statelinekids.com
SUMMARY:Hallo’deen Glow Par-Tee
DESCRIPTION:Wear costumes and celebrate Halloween on the course. There will be glow mini putt\, marshmallow long drive contest\, and more. Get tickets here.
URL:https://statelinekids.com/event/hallodeen-glow-par-tee-2/
LOCATION:Aldeen Golf Club\, 1900 Reid Farm Rd\, Rockford\, IL\, United States
CATEGORIES:Rockford
END:VEVENT
BEGIN:VEVENT
DTSTART;TZID=America/Chicago:20231027T190000
DTEND;TZID=America/Chicago:20231027T210000
DTSTAMP:20260423T212246
CREATED:20231002T234745Z
LAST-MODIFIED:20231002T234746Z
UID:31096-1698433200-1698440400@statelinekids.com
SUMMARY:Hallo-deen Glow Par-Tee
DESCRIPTION:Join us for our second annual Hallo-deen Glo Par-Tee Event at Aldeen Golf Club! Bring a friend or your entire family to help us celebrate Halloween on the course; costumes are highly recommended! The event ticket includes: glow mini-putt\, marshmallow long drive contest\, golf cart ride on the haunted course\, pumpkin decorating\, treats\, and hot cider! Get tickets here.\n\nTickets: $20/person
URL:https://statelinekids.com/event/hallo-deen-glow-par-tee/
LOCATION:Aldeen Golf Club\, 1900 Reid Farm Rd\, Rockford\, IL\, United States
CATEGORIES:Rockford
ATTACH;FMTTYPE=image/jpeg:https://statelinekids.com/wp-content/uploads/2023/10/Hallodeen.jpeg
END:VEVENT
BEGIN:VEVENT
DTSTART;TZID=America/Chicago:20230924T150000
DTEND;TZID=America/Chicago:20230924T190000
DTSTAMP:20260423T212246
CREATED:20230906T211516Z
LAST-MODIFIED:20230906T211517Z
UID:30255-1695567600-1695582000@statelinekids.com
SUMMARY:Around the World in 9 Holes
DESCRIPTION:Rockford Park District invites adults age 21 and older to sign up for the Around the World in 9 Holes golf scramble scheduled for Sunday\, September 24\, 2023\, at Aldeen Golf Club\, 1902 Reid Farm Rd.\, Rockford\, IL\, with a 3 pm shotgun start. The $150 per couple entry fee for the festive international-themed event includes nine holes of golf plus cart\, and food and drinks for two people by Alchemy at Aldeen with tastings of China\, Italy\, Mexico\, France\, Germany\, Greece\, Japan\, Spain\, and Costa Rica. Get tickets here.
URL:https://statelinekids.com/event/around-the-world-in-9-holes/
LOCATION:Aldeen Golf Club\, 1900 Reid Farm Rd\, Rockford\, IL\, United States
CATEGORIES:Rockford
ATTACH;FMTTYPE=image/png:https://statelinekids.com/wp-content/uploads/2023/09/AroundTheWorld_1200x628.png
END:VEVENT
BEGIN:VEVENT
DTSTART;TZID=America/Chicago:20230924T150000
DTEND;TZID=America/Chicago:20230924T180000
DTSTAMP:20260423T212246
CREATED:20230917T172228Z
LAST-MODIFIED:20230917T172228Z
UID:30564-1695567600-1695578400@statelinekids.com
SUMMARY:DATE NIGHT: Around the World in 9 Holes
DESCRIPTION:Golf nine holes and get food and drinks for two people that include tastings of cuisine from China\, Italy\, Mexico\, France\, Germany\, Greece\, Japan\, Spain\, and Costa Rica. Get tickets here.
URL:https://statelinekids.com/event/date-night-around-the-world-in-9-holes-2/
LOCATION:Aldeen Golf Club\, 1900 Reid Farm Rd\, Rockford\, IL\, United States
END:VEVENT
BEGIN:VEVENT
DTSTART;TZID=America/Chicago:20230812T210000
DTEND;TZID=America/Chicago:20230812T220000
DTSTAMP:20260423T212246
CREATED:20230805T155349Z
LAST-MODIFIED:20230805T155350Z
UID:29782-1691874000-1691877600@statelinekids.com
SUMMARY:Glow Golf
DESCRIPTION:Enjoy a night of glow mini-putt\, glow chipping corn hole\, long drive glow competition\, and food and music. Get tickets here.
URL:https://statelinekids.com/event/glow-golf-3/
LOCATION:Aldeen Golf Club\, 1900 Reid Farm Rd\, Rockford\, IL\, United States
CATEGORIES:Rockford
ATTACH;FMTTYPE=image/jpeg:https://statelinekids.com/wp-content/uploads/2023/08/Glow-Golf.jpeg
END:VEVENT
BEGIN:VEVENT
DTSTART;TZID=America/Chicago:20230708T170000
DTEND;TZID=America/Chicago:20230708T190000
DTSTAMP:20260423T212246
CREATED:20230701T174029Z
LAST-MODIFIED:20230701T174045Z
UID:29199-1688835600-1688842800@statelinekids.com
SUMMARY:DATE NIGHT: 3\,6\,9 Golf Event
DESCRIPTION:Adults can use three clubs to play nine holes and sample six beers while there. Get tickets here. \nCost: $50 per person \n 
URL:https://statelinekids.com/event/date-night/
LOCATION:Aldeen Golf Club\, 1900 Reid Farm Rd\, Rockford\, IL\, United States
CATEGORIES:Rockford
END:VEVENT
BEGIN:VEVENT
DTSTART;TZID=America/Chicago:20230706T090000
DTEND;TZID=America/Chicago:20230706T110000
DTSTAMP:20260423T212246
CREATED:20230701T180055Z
LAST-MODIFIED:20230701T180055Z
UID:29208-1688634000-1688641200@statelinekids.com
SUMMARY:Kids Qualifier: Drive\, Chip\, and Putt
DESCRIPTION:Kids ages 7-15 can compete in age brackets on driving\, chipping\, and putting. Register here.
URL:https://statelinekids.com/event/kids-qualifier-drive-chip-and-putt/
LOCATION:Aldeen Golf Club\, 1900 Reid Farm Rd\, Rockford\, IL\, United States
CATEGORIES:Rockford
END:VEVENT
BEGIN:VEVENT
DTSTART;TZID=America/Chicago:20230630T180000
DTEND;TZID=America/Chicago:20230630T210000
DTSTAMP:20260423T212246
CREATED:20230623T231642Z
LAST-MODIFIED:20230623T231642Z
UID:29029-1688148000-1688158800@statelinekids.com
SUMMARY:GIRLS NIGHT OUT: Women’s Golf Day
DESCRIPTION:Ladies are invited to play 5 holes of golf\, eat pizza and salad\, and make candles. Register here. \nCost: $60 per person
URL:https://statelinekids.com/event/girls-night-out-womens-golf-day/
LOCATION:Aldeen Golf Club\, 1900 Reid Farm Rd\, Rockford\, IL\, United States
CATEGORIES:Rockford
END:VEVENT
BEGIN:VEVENT
DTSTART;TZID=America/Chicago:20230521T150000
DTEND;TZID=America/Chicago:20230521T170000
DTSTAMP:20260423T212246
CREATED:20230513T214830Z
LAST-MODIFIED:20230513T214830Z
UID:28039-1684681200-1684688400@statelinekids.com
SUMMARY:A Day at the Fair-Way
DESCRIPTION:Mom and daughters can enjoy a day of golf and fair food on the course. Prizes will be awarded for best outfits and best decorated golf cart. Get tickets here.
URL:https://statelinekids.com/event/a-day-at-the-fair-way-2/
LOCATION:Aldeen Golf Club\, 1900 Reid Farm Rd\, Rockford\, IL\, United States
CATEGORIES:Rockford
ATTACH;FMTTYPE=image/jpeg:https://statelinekids.com/wp-content/uploads/2023/05/Fairway.jpeg
END:VEVENT
BEGIN:VEVENT
DTSTART;TZID=America/Chicago:20221119T073000
DTEND;TZID=America/Chicago:20221119T093000
DTSTAMP:20260423T212246
CREATED:20221112T220203Z
LAST-MODIFIED:20221112T220203Z
UID:24882-1668843000-1668850200@statelinekids.com
SUMMARY:Aldeen Bird Walk
DESCRIPTION:Take a walk through the golf club with Joel Neylon from Wild Birds Unlimited to look for birds. Get tickets here. \nCost: $10 per person
URL:https://statelinekids.com/event/aldeen-bird-walk/
LOCATION:Aldeen Golf Club\, 1900 Reid Farm Rd\, Rockford\, IL\, United States
CATEGORIES:Rockford
END:VEVENT
BEGIN:VEVENT
DTSTART;TZID=America/Chicago:20221030T180000
DTEND;TZID=America/Chicago:20221030T200000
DTSTAMP:20260423T212246
CREATED:20221023T213414Z
LAST-MODIFIED:20221023T213414Z
UID:24557-1667152800-1667160000@statelinekids.com
SUMMARY:Hallo’Deen Glow Par-Tee
DESCRIPTION:Enjoy a glowing mini-putt\, marshmallow long drive\, golf cart ride on the haunted course and more. Wear your costumes to play! Get tickets here.
URL:https://statelinekids.com/event/hallodeen-glow-par-tee/
LOCATION:Aldeen Golf Club\, 1900 Reid Farm Rd\, Rockford\, IL\, United States
CATEGORIES:Rockford
ATTACH;FMTTYPE=image/jpeg:https://statelinekids.com/wp-content/uploads/2022/10/Hallodeen.jpeg
END:VEVENT
BEGIN:VEVENT
DTSTART;TZID=America/Chicago:20220918T150000
DTEND;TZID=America/Chicago:20220918T200000
DTSTAMP:20260423T212246
CREATED:20220911T193431Z
LAST-MODIFIED:20220911T193432Z
UID:23482-1663513200-1663531200@statelinekids.com
SUMMARY:DATE NIGHT: Around the World in 9 Holes
DESCRIPTION:Enjoy a nine-hole golf event that takes you around the world trying drinks and food. Countries you will experience include China\, Italy\, Mexico\, France\, and more. Get tickets here.
URL:https://statelinekids.com/event/date-night-around-the-world-in-9-holes/
LOCATION:Aldeen Golf Club\, 1900 Reid Farm Rd\, Rockford\, IL\, United States
CATEGORIES:Rockford
ATTACH;FMTTYPE=image/jpeg:https://statelinekids.com/wp-content/uploads/2022/09/9-Holes.jpeg
END:VEVENT
BEGIN:VEVENT
DTSTART;TZID=America/Chicago:20220711T170000
DTEND;TZID=America/Chicago:20220711T180000
DTSTAMP:20260423T212246
CREATED:20220706T012200Z
LAST-MODIFIED:20220706T012200Z
UID:22356-1657558800-1657562400@statelinekids.com
SUMMARY:Family Night at the Range
DESCRIPTION:This event gives families the opportunity to all learn the game of golf at the same time. \nLessons will be held simultaneously with participants divided into three age groups (ages 4-6\, 7-14\, and 15+)\, so everyone can learn in an environment that is fit for them. Family Nights will be offered throughout the summer\, so come out when it fits your schedule. \nAt least one adult golfer per family group required. At least one adult golfer per family group required. $15 per person. \nSign up here.
URL:https://statelinekids.com/event/family-night-at-the-range-3/2022-07-11/
LOCATION:Aldeen Golf Club\, 1900 Reid Farm Rd\, Rockford\, IL\, United States
CATEGORIES:Rockford
ATTACH;FMTTYPE=image/jpeg:https://statelinekids.com/wp-content/uploads/2022/07/Family.jpeg
END:VEVENT
BEGIN:VEVENT
DTSTART;TZID=America/Chicago:20220709T150000
DTEND;TZID=America/Chicago:20220709T170000
DTSTAMP:20260423T212246
CREATED:20220703T185256Z
LAST-MODIFIED:20220703T185316Z
UID:22318-1657378800-1657386000@statelinekids.com
SUMMARY:3\,6\,9 Golfing and Beer Tasting Event
DESCRIPTION:Enjoy three clubs\, six beers\, and nine holes. There will be beer tasting on six holes\, a long drive\, closest to the pin\, and a floating target challenge. Cost includes golfing\, cart\, and beer. Must be 21 and up. Register here.
URL:https://statelinekids.com/event/369-golfing-and-beer-tasting-event/
LOCATION:Aldeen Golf Club\, 1900 Reid Farm Rd\, Rockford\, IL\, United States
CATEGORIES:Rockford
ATTACH;FMTTYPE=image/jpeg:https://statelinekids.com/wp-content/uploads/2022/07/369-Golf.jpeg
END:VEVENT
BEGIN:VEVENT
DTSTART;TZID=America/Chicago:20220626T150000
DTEND;TZID=America/Chicago:20220626T170000
DTSTAMP:20260423T212246
CREATED:20220619T174718Z
LAST-MODIFIED:20220619T174737Z
UID:21310-1656255600-1656262800@statelinekids.com
SUMMARY:A Day at the Fair-Way
DESCRIPTION:Mom and daughter can play 9 holes of golf\, use a golf cart\, and enjoy fair food on the course. There will be on-course games and activities. Get tickets here.
URL:https://statelinekids.com/event/a-day-at-the-fair-way/
LOCATION:Aldeen Golf Club\, 1900 Reid Farm Rd\, Rockford\, IL\, United States
CATEGORIES:Rockford
ATTACH;FMTTYPE=image/jpeg:https://statelinekids.com/wp-content/uploads/2022/06/Golf.jpeg
END:VEVENT
BEGIN:VEVENT
DTSTART;TZID=America/Chicago:20210910T183000
DTEND;TZID=America/Chicago:20210910T200000
DTSTAMP:20260423T212246
CREATED:20210905T201641Z
LAST-MODIFIED:20210905T201641Z
UID:17246-1631298600-1631304000@statelinekids.com
SUMMARY:Ladies Night
DESCRIPTION:Enjoy a ladies night of golf with a lesson and appetizers. Get tickets here.
URL:https://statelinekids.com/event/ladies-night/
LOCATION:Aldeen Golf Club\, 1900 Reid Farm Rd\, Rockford\, IL\, United States
CATEGORIES:Rockford
END:VEVENT
BEGIN:VEVENT
DTSTART;TZID=America/Chicago:20210719T180000
DTEND;TZID=America/Chicago:20210719T190000
DTSTAMP:20260423T212246
CREATED:20210718T165047Z
LAST-MODIFIED:20210718T165047Z
UID:16779-1626717600-1626721200@statelinekids.com
SUMMARY:Family Night at the Range
DESCRIPTION:Families can learn how to play golf. Kids will be split into age groups (4-6\, 7-14\, and 15 and up) to learn the game. Get tickets here. \nCost: $10 per person
URL:https://statelinekids.com/event/family-night-at-the-range/2021-07-19/
LOCATION:Aldeen Golf Club\, 1900 Reid Farm Rd\, Rockford\, IL\, United States
CATEGORIES:Rockford
END:VEVENT
BEGIN:VEVENT
DTSTART;TZID=America/Chicago:20210522T110000
DTEND;TZID=America/Chicago:20210522T130000
DTSTAMP:20260423T212246
CREATED:20210516T170208Z
LAST-MODIFIED:20210516T170208Z
UID:15630-1621681200-1621688400@statelinekids.com
SUMMARY:Golf Performance Academy
DESCRIPTION:Learn about the new Golf Performance Academy\, play putting games\, get your kids fitted for clubs\, and register for lessons.
URL:https://statelinekids.com/event/golf-performance-academy/
LOCATION:Aldeen Golf Club\, 1900 Reid Farm Rd\, Rockford\, IL\, United States
CATEGORIES:Rockford
END:VEVENT
BEGIN:VEVENT
DTSTART;TZID=America/Chicago:20190915T140000
DTEND;TZID=America/Chicago:20190915T163000
DTSTAMP:20260423T212246
CREATED:20190908T155536Z
LAST-MODIFIED:20190908T155536Z
UID:7348-1568556000-1568565000@statelinekids.com
SUMMARY:Family Golf Day
DESCRIPTION:Families can learn to golf\, participate in chipping and putting contests and go up against Golfzilla. There will be prizes and contests.
URL:https://statelinekids.com/event/family-golf-day-4/
LOCATION:Aldeen Golf Club\, 1900 Reid Farm Rd\, Rockford\, IL\, United States
CATEGORIES:Rockford
END:VEVENT
BEGIN:VEVENT
DTSTART;TZID=America/Chicago:20190728T140000
DTEND;TZID=America/Chicago:20190728T163000
DTSTAMP:20260423T212246
CREATED:20190720T214117Z
LAST-MODIFIED:20190720T214117Z
UID:6681-1564322400-1564331400@statelinekids.com
SUMMARY:Family Golf Day
DESCRIPTION:Enjoy a free family golf day with clinics\, contests\, games and more. Free clinics will be offered at 2:30\, 3:15 and 4:00 pm.
URL:https://statelinekids.com/event/family-golf-day-3/
LOCATION:Aldeen Golf Club\, 1900 Reid Farm Rd\, Rockford\, IL\, United States
CATEGORIES:Rockford
END:VEVENT
BEGIN:VEVENT
DTSTART;TZID=America/Chicago:20190609T140000
DTEND;TZID=America/Chicago:20190609T163000
DTSTAMP:20260423T212246
CREATED:20190602T160556Z
LAST-MODIFIED:20190602T160556Z
UID:5936-1560088800-1560097800@statelinekids.com
SUMMARY:Family Golf Day
DESCRIPTION:Families can enjoy a free golf day\, free skill clinics\, contests\, games\, and activities.
URL:https://statelinekids.com/event/family-golf-day-2/
LOCATION:Aldeen Golf Club\, 1900 Reid Farm Rd\, Rockford\, IL\, United States
CATEGORIES:Rockford
END:VEVENT
BEGIN:VEVENT
DTSTART;TZID=America/Chicago:20190112T100000
DTEND;TZID=America/Chicago:20190112T160000
DTSTAMP:20260423T212246
CREATED:20190106T222518Z
LAST-MODIFIED:20190106T222518Z
UID:4480-1547287200-1547308800@statelinekids.com
SUMMARY:Tour the Trails at Aldeen
DESCRIPTION: Explore the trails of Aldeen on snowshoes or cross country skis. Kids sizes are available! Rentals are for 1.5 hour periods. There will be instructional tours at 10:30\, 12:30\, and 2:30 pm. Arrive 20 minutes early to join the tour.
URL:https://statelinekids.com/event/tour-the-trails-at-aldeen/
LOCATION:Aldeen Golf Club\, 1900 Reid Farm Rd\, Rockford\, IL\, United States
CATEGORIES:Rockford
END:VEVENT
BEGIN:VEVENT
DTSTART;TZID=America/Chicago:20180819T130000
DTEND;TZID=America/Chicago:20180819T170000
DTSTAMP:20260423T212246
CREATED:20180808T024909Z
LAST-MODIFIED:20180808T024909Z
UID:1661-1534683600-1534698000@statelinekids.com
SUMMARY:Family Golf Day
DESCRIPTION:Rockford Park District invites families and the general public to enjoy the new Family Golf Day event\, a free fun afternoon of golf\, golf skill clinics and contests\, games\, and other golf-related activities at the Aldeen Practice Centre. \nThere will be contests for chipping\, putting\, kids’ long drive\, hit the junk car\, Golfzilla\, and a putting contest with a chance to win a Rockford Park District 2019 Junior Birdie membership ($220 value). \nFood specials will be available for purchase during the event. \nFree clinics will be offered as follows: putting at 2 p.m.; chipping at 3 p.m.\, and full swing at 4 p.m.
URL:https://statelinekids.com/event/family-golf-day/
LOCATION:Aldeen Golf Club\, 1900 Reid Farm Rd\, Rockford\, IL\, United States
CATEGORIES:Rockford
END:VEVENT
END:VCALENDAR