BEGIN:VCALENDAR
VERSION:2.0
PRODID:-//Stateline Kids - ECPv6.5.1.3//NONSGML v1.0//EN
CALSCALE:GREGORIAN
METHOD:PUBLISH
X-WR-CALNAME:Stateline Kids
X-ORIGINAL-URL:https://statelinekids.com
X-WR-CALDESC:Events for Stateline Kids
REFRESH-INTERVAL;VALUE=DURATION:PT1H
X-Robots-Tag:noindex
X-PUBLISHED-TTL:PT1H
BEGIN:VTIMEZONE
TZID:America/Chicago
BEGIN:DAYLIGHT
TZOFFSETFROM:-0600
TZOFFSETTO:-0500
TZNAME:CDT
DTSTART:20230312T080000
END:DAYLIGHT
BEGIN:STANDARD
TZOFFSETFROM:-0500
TZOFFSETTO:-0600
TZNAME:CST
DTSTART:20231105T070000
END:STANDARD
END:VTIMEZONE
BEGIN:VEVENT
DTSTART;TZID=America/Chicago:20230319T130000
DTEND;TZID=America/Chicago:20230319T150000
DTSTAMP:20260422T224350
CREATED:20230311T185510Z
LAST-MODIFIED:20230311T185542Z
UID:26854-1679230800-1679238000@statelinekids.com
SUMMARY:Egg Decorating (YMCA Members)
DESCRIPTION:YMCA members can decorate eggs and take pictures with the Easter Bunny. Register here.
URL:https://statelinekids.com/event/egg-decorating-ymca-members/
LOCATION:Swedish American Riverfront YMCA\, 200 Y Blvd.\, Rockford\, IL\, United States
CATEGORIES:Rockford
ATTACH;FMTTYPE=image/jpeg:https://statelinekids.com/wp-content/uploads/2023/03/YMCA.jpeg
END:VEVENT
END:VCALENDAR