BEGIN:VCALENDAR
VERSION:2.0
PRODID:-//Stateline Kids - ECPv6.5.1.3//NONSGML v1.0//EN
CALSCALE:GREGORIAN
METHOD:PUBLISH
X-ORIGINAL-URL:https://statelinekids.com
X-WR-CALDESC:Events for Stateline Kids
REFRESH-INTERVAL;VALUE=DURATION:PT1H
X-Robots-Tag:noindex
X-PUBLISHED-TTL:PT1H
BEGIN:VTIMEZONE
TZID:America/Chicago
BEGIN:DAYLIGHT
TZOFFSETFROM:-0600
TZOFFSETTO:-0500
TZNAME:CDT
DTSTART:20210314T080000
END:DAYLIGHT
BEGIN:STANDARD
TZOFFSETFROM:-0500
TZOFFSETTO:-0600
TZNAME:CST
DTSTART:20211107T070000
END:STANDARD
BEGIN:DAYLIGHT
TZOFFSETFROM:-0600
TZOFFSETTO:-0500
TZNAME:CDT
DTSTART:20220313T080000
END:DAYLIGHT
BEGIN:STANDARD
TZOFFSETFROM:-0500
TZOFFSETTO:-0600
TZNAME:CST
DTSTART:20221106T070000
END:STANDARD
BEGIN:DAYLIGHT
TZOFFSETFROM:-0600
TZOFFSETTO:-0500
TZNAME:CDT
DTSTART:20230312T080000
END:DAYLIGHT
BEGIN:STANDARD
TZOFFSETFROM:-0500
TZOFFSETTO:-0600
TZNAME:CST
DTSTART:20231105T070000
END:STANDARD
BEGIN:DAYLIGHT
TZOFFSETFROM:-0600
TZOFFSETTO:-0500
TZNAME:CDT
DTSTART:20240310T080000
END:DAYLIGHT
BEGIN:STANDARD
TZOFFSETFROM:-0500
TZOFFSETTO:-0600
TZNAME:CST
DTSTART:20241103T070000
END:STANDARD
BEGIN:DAYLIGHT
TZOFFSETFROM:-0600
TZOFFSETTO:-0500
TZNAME:CDT
DTSTART:20250309T080000
END:DAYLIGHT
BEGIN:STANDARD
TZOFFSETFROM:-0500
TZOFFSETTO:-0600
TZNAME:CST
DTSTART:20251102T070000
END:STANDARD
END:VTIMEZONE
BEGIN:VEVENT
DTSTART;TZID=America/Chicago:20210612T080000
DTEND;TZID=America/Chicago:20210612T100000
DTSTAMP:20260422T102009
CREATED:20210605T200447Z
LAST-MODIFIED:20210605T200447Z
UID:16006-1623484800-1623492000@statelinekids.com
SUMMARY:Learn to Ski with the Ski Broncs
DESCRIPTION:Learn how to ski with some basic land instruction before getting in the water. Email  Skibroncs@gmail.com to sign up. \nCost: $20 per person \n 
URL:https://statelinekids.com/event/learn-to-ski-with-the-ski-broncs/
LOCATION:Shorewood Park\, 235 Evelyn Ave\, Loves Park\, IL\, United States
CATEGORIES:Loves Park
END:VEVENT
BEGIN:VEVENT
DTSTART;TZID=America/Chicago:20210822T190000
DTEND;TZID=America/Chicago:20210822T210000
DTSTAMP:20260422T102009
CREATED:20210815T183039Z
LAST-MODIFIED:20210815T183039Z
UID:17113-1629658800-1629666000@statelinekids.com
SUMMARY:Rock Aqua Jays Waterski Show
DESCRIPTION:Watch the free waterski show by the Rock Aqua Jays. Concessions are available.
URL:https://statelinekids.com/event/rock-aqua-jays-waterski-show-2/
LOCATION:Traxler Park\, 600 N Main St.\, Janesville\, WI\, United States
CATEGORIES:Janesville
END:VEVENT
BEGIN:VEVENT
DTSTART;TZID=America/Chicago:20220704T190000
DTEND;TZID=America/Chicago:20220704T200000
DTSTAMP:20260422T102009
CREATED:20220703T173307Z
LAST-MODIFIED:20220703T173307Z
UID:22289-1656961200-1656964800@statelinekids.com
SUMMARY:Ski Broncs Fourth of July Show
DESCRIPTION:Enjoy a Fourth of July ski show! All Ski Broncs shows are free.
URL:https://statelinekids.com/event/ski-broncs-fourth-of-july-show/
LOCATION:Shorewood Park\, 235 Evelyn Ave\, Loves Park\, IL\, United States
CATEGORIES:Loves Park
END:VEVENT
BEGIN:VEVENT
DTSTART;TZID=America/Chicago:20230618T190000
DTEND;TZID=America/Chicago:20230618T210000
DTSTAMP:20260422T102009
CREATED:20230605T235749Z
LAST-MODIFIED:20230605T235749Z
UID:28666-1687114800-1687122000@statelinekids.com
SUMMARY:Rock Aqua Jays Ski Show
DESCRIPTION:Check out a ski show with the theme Color Rush.
URL:https://statelinekids.com/event/rock-aqua-jays-ski-show/
LOCATION:Traxler Park\, 600 N Main St.\, Janesville\, WI\, United States
CATEGORIES:Janesville
END:VEVENT
BEGIN:VEVENT
DTSTART;TZID=America/Chicago:20250709T190000
DTEND;TZID=America/Chicago:20250709T210000
DTSTAMP:20260422T102009
CREATED:20250706T201052Z
LAST-MODIFIED:20250706T201052Z
UID:41347-1752087600-1752094800@statelinekids.com
SUMMARY:Ski Broncs Show
DESCRIPTION:Watch a water ski show on the river.
URL:https://statelinekids.com/event/ski-broncs-show/
LOCATION:Shorewood Park\, 235 Evelyn Ave\, Loves Park\, IL\, United States
CATEGORIES:Loves Park
END:VEVENT
BEGIN:VEVENT
DTSTART;TZID=America/Chicago:20250709T190000
DTEND;TZID=America/Chicago:20250709T210000
DTSTAMP:20260422T102009
CREATED:20250706T200501Z
LAST-MODIFIED:20250706T200501Z
UID:41337-1752087600-1752094800@statelinekids.com
SUMMARY:Rock Aqua Jays show
DESCRIPTION:Watch a water ski show on the river.
URL:https://statelinekids.com/event/rock-aqua-jays-show/2025-07-09/
LOCATION:Traxler Park\, 600 N Main St.\, Janesville\, WI\, United States
CATEGORIES:Janesville
END:VEVENT
BEGIN:VEVENT
DTSTART;TZID=America/Chicago:20250713T190000
DTEND;TZID=America/Chicago:20250713T210000
DTSTAMP:20260422T102009
CREATED:20250706T200501Z
LAST-MODIFIED:20250706T200501Z
UID:41339-1752433200-1752440400@statelinekids.com
SUMMARY:Rock Aqua Jays show
DESCRIPTION:Watch a water ski show on the river.
URL:https://statelinekids.com/event/rock-aqua-jays-show/2025-07-13/
LOCATION:Traxler Park\, 600 N Main St.\, Janesville\, WI\, United States
CATEGORIES:Janesville
END:VEVENT
BEGIN:VEVENT
DTSTART;TZID=America/Chicago:20250716T190000
DTEND;TZID=America/Chicago:20250716T210000
DTSTAMP:20260422T102009
CREATED:20250706T200501Z
LAST-MODIFIED:20250706T200501Z
UID:41340-1752692400-1752699600@statelinekids.com
SUMMARY:Rock Aqua Jays show
DESCRIPTION:Watch a water ski show on the river.
URL:https://statelinekids.com/event/rock-aqua-jays-show/2025-07-16/
LOCATION:Traxler Park\, 600 N Main St.\, Janesville\, WI\, United States
CATEGORIES:Janesville
END:VEVENT
BEGIN:VEVENT
DTSTART;TZID=America/Chicago:20250723T190000
DTEND;TZID=America/Chicago:20250723T210000
DTSTAMP:20260422T102009
CREATED:20250706T200501Z
LAST-MODIFIED:20250706T200501Z
UID:41341-1753297200-1753304400@statelinekids.com
SUMMARY:Rock Aqua Jays show
DESCRIPTION:Watch a water ski show on the river.
URL:https://statelinekids.com/event/rock-aqua-jays-show/2025-07-23/
LOCATION:Traxler Park\, 600 N Main St.\, Janesville\, WI\, United States
CATEGORIES:Janesville
END:VEVENT
BEGIN:VEVENT
DTSTART;TZID=America/Chicago:20250727T190000
DTEND;TZID=America/Chicago:20250727T210000
DTSTAMP:20260422T102009
CREATED:20250706T200501Z
LAST-MODIFIED:20250706T200501Z
UID:41342-1753642800-1753650000@statelinekids.com
SUMMARY:Rock Aqua Jays show
DESCRIPTION:Watch a water ski show on the river.
URL:https://statelinekids.com/event/rock-aqua-jays-show/2025-07-27/
LOCATION:Traxler Park\, 600 N Main St.\, Janesville\, WI\, United States
CATEGORIES:Janesville
END:VEVENT
END:VCALENDAR