BEGIN:VCALENDAR
VERSION:2.0
PRODID:-//Stateline Kids - ECPv6.5.1.3//NONSGML v1.0//EN
CALSCALE:GREGORIAN
METHOD:PUBLISH
X-ORIGINAL-URL:https://statelinekids.com
X-WR-CALDESC:Events for Stateline Kids
REFRESH-INTERVAL;VALUE=DURATION:PT1H
X-Robots-Tag:noindex
X-PUBLISHED-TTL:PT1H
BEGIN:VTIMEZONE
TZID:America/Chicago
BEGIN:DAYLIGHT
TZOFFSETFROM:-0600
TZOFFSETTO:-0500
TZNAME:CDT
DTSTART:20230312T080000
END:DAYLIGHT
BEGIN:STANDARD
TZOFFSETFROM:-0500
TZOFFSETTO:-0600
TZNAME:CST
DTSTART:20231105T070000
END:STANDARD
END:VTIMEZONE
BEGIN:VEVENT
DTSTART;TZID=America/Chicago:20230513T080000
DTEND;TZID=America/Chicago:20230513T084500
DTSTAMP:20260422T173019
CREATED:20230507T181503Z
LAST-MODIFIED:20230507T181503Z
UID:27904-1683964800-1683967500@statelinekids.com
SUMMARY:Mommy and Me Summer Walking Club
DESCRIPTION:Meet at the Visit Beloit office and walk with your kids along a beautiful walking path to Wood Family Fishing Bridge.
URL:https://statelinekids.com/event/mommy-and-me-summer-walking-club/2023-05-13/
LOCATION:Visit Beloit\, 656 Pleasant St.\, Beloit\, WI\, United States
CATEGORIES:Beloit
END:VEVENT
BEGIN:VEVENT
DTSTART;TZID=America/Chicago:20230603T080000
DTEND;TZID=America/Chicago:20230603T084500
DTSTAMP:20260422T173019
CREATED:20230527T200832Z
LAST-MODIFIED:20230527T200833Z
UID:28271-1685779200-1685781900@statelinekids.com
SUMMARY:Mommy and Me Summer Walking Club
DESCRIPTION:Moms and kids are invited to take a walk led by Tyechia\, PR Manager for Visit Beloit on a beautiful walking path.
URL:https://statelinekids.com/event/mommy-and-me-summer-walking-club-2/2023-06-03/
LOCATION:Visit Beloit\, 656 Pleasant St.\, Beloit\, WI\, United States
CATEGORIES:Beloit
ATTACH;FMTTYPE=image/jpeg:https://statelinekids.com/wp-content/uploads/2023/05/Walking.jpeg
END:VEVENT
END:VCALENDAR