BEGIN:VCALENDAR
VERSION:2.0
PRODID:-//Stateline Kids - ECPv6.5.1.3//NONSGML v1.0//EN
CALSCALE:GREGORIAN
METHOD:PUBLISH
X-WR-CALNAME:Stateline Kids
X-ORIGINAL-URL:https://statelinekids.com
X-WR-CALDESC:Events for Stateline Kids
REFRESH-INTERVAL;VALUE=DURATION:PT1H
X-Robots-Tag:noindex
X-PUBLISHED-TTL:PT1H
BEGIN:VTIMEZONE
TZID:America/Chicago
BEGIN:DAYLIGHT
TZOFFSETFROM:-0600
TZOFFSETTO:-0500
TZNAME:CDT
DTSTART:20190310T080000
END:DAYLIGHT
BEGIN:STANDARD
TZOFFSETFROM:-0500
TZOFFSETTO:-0600
TZNAME:CST
DTSTART:20191103T070000
END:STANDARD
BEGIN:DAYLIGHT
TZOFFSETFROM:-0600
TZOFFSETTO:-0500
TZNAME:CDT
DTSTART:20200308T080000
END:DAYLIGHT
BEGIN:STANDARD
TZOFFSETFROM:-0500
TZOFFSETTO:-0600
TZNAME:CST
DTSTART:20201101T070000
END:STANDARD
BEGIN:DAYLIGHT
TZOFFSETFROM:-0600
TZOFFSETTO:-0500
TZNAME:CDT
DTSTART:20210314T080000
END:DAYLIGHT
BEGIN:STANDARD
TZOFFSETFROM:-0500
TZOFFSETTO:-0600
TZNAME:CST
DTSTART:20211107T070000
END:STANDARD
BEGIN:DAYLIGHT
TZOFFSETFROM:-0600
TZOFFSETTO:-0500
TZNAME:CDT
DTSTART:20220313T080000
END:DAYLIGHT
BEGIN:STANDARD
TZOFFSETFROM:-0500
TZOFFSETTO:-0600
TZNAME:CST
DTSTART:20221106T070000
END:STANDARD
BEGIN:DAYLIGHT
TZOFFSETFROM:-0600
TZOFFSETTO:-0500
TZNAME:CDT
DTSTART:20230312T080000
END:DAYLIGHT
BEGIN:STANDARD
TZOFFSETFROM:-0500
TZOFFSETTO:-0600
TZNAME:CST
DTSTART:20231105T070000
END:STANDARD
BEGIN:DAYLIGHT
TZOFFSETFROM:-0600
TZOFFSETTO:-0500
TZNAME:CDT
DTSTART:20240310T080000
END:DAYLIGHT
BEGIN:STANDARD
TZOFFSETFROM:-0500
TZOFFSETTO:-0600
TZNAME:CST
DTSTART:20241103T070000
END:STANDARD
BEGIN:DAYLIGHT
TZOFFSETFROM:-0600
TZOFFSETTO:-0500
TZNAME:CDT
DTSTART:20250309T080000
END:DAYLIGHT
BEGIN:STANDARD
TZOFFSETFROM:-0500
TZOFFSETTO:-0600
TZNAME:CST
DTSTART:20251102T070000
END:STANDARD
END:VTIMEZONE
BEGIN:VEVENT
DTSTART;TZID=America/Chicago:20190202T090000
DTEND;TZID=America/Chicago:20190202T120000
DTSTAMP:20260420T133435
CREATED:20190127T211544Z
LAST-MODIFIED:20190127T211544Z
UID:4678-1549098000-1549108800@statelinekids.com
SUMMARY:Heart Candy Box Workshop
DESCRIPTION:You and your child can build a heart shaped box for Valentine’s Day. Once the heart is built\, your child can customize it with paint and stickers. All kids get to keep their craft\, receive a FREE certificate of achievement\, a Workshop Apron\, and a commemorative pin while supplies last. Register for Rockford location here and register for Machesney Park location here.
URL:https://statelinekids.com/event/heart-candy-box-workshop/
LOCATION:Home Depot\, 1580 W Lane\, Machesney Park\, IL\, United States
CATEGORIES:Machesney Park
END:VEVENT
BEGIN:VEVENT
DTSTART;TZID=America/Chicago:20190210T140000
DTEND;TZID=America/Chicago:20190210T160000
DTSTAMP:20260420T133435
CREATED:20190131T193424Z
LAST-MODIFIED:20190131T193424Z
UID:4722-1549807200-1549814400@statelinekids.com
SUMMARY:Chocolate Sundae Sunday
DESCRIPTION:The Rockford IceHogs are scooping up fun during this delicious event where you can create your own sundae. Take the chocolate trivia challenge\, vote for your favorite topping\, and design a delightful Valentine! Live music from the East High School Jazz Band!
URL:https://statelinekids.com/event/chocolate-sundae-sunday/
LOCATION:Discovery Center\, 711 N Main St\, Rockford\, IL\, 61103\, United States
CATEGORIES:Rockford
END:VEVENT
BEGIN:VEVENT
DTSTART;VALUE=DATE:20190211
DTEND;VALUE=DATE:20190217
DTSTAMP:20260420T133435
CREATED:20190210T213538Z
LAST-MODIFIED:20190210T213538Z
UID:4820-1549843200-1550361599@statelinekids.com
SUMMARY:Love the Blocks in Downtown Rockford
DESCRIPTION:Shop the blocks in downtown Rockford to give back to United Way. Pick up a Tic-Tac-Toe board and collect heart stamps at each retailer. When you get three stamps in a row\, you can enter to win a gift basket. You can also give back on Saturday by dining at a downtown restaurant. Check out a list of participating businesses here.
URL:https://statelinekids.com/event/love-the-blocks-in-downtown-rockford/
LOCATION:Downtown Rockford\, 402 E. State Street\, Rockford\, IL\, United States
CATEGORIES:Rockford
END:VEVENT
BEGIN:VEVENT
DTSTART;TZID=America/Chicago:20190213T100000
DTEND;TZID=America/Chicago:20190213T104500
DTSTAMP:20260420T133435
CREATED:20190210T215337Z
LAST-MODIFIED:20190210T215337Z
UID:4830-1550052000-1550054700@statelinekids.com
SUMMARY:Preschool Discovery Time - Valentine’s Day Party
DESCRIPTION:Kids can sing\, dance and listen to stories with Miss Mary Lou.
URL:https://statelinekids.com/event/preschool-discovery-time-valentines-day-party/
LOCATION:Beloit Public Library\, 605 Eclipse Blvd\, Beloit\, WI\, United States
CATEGORIES:Beloit
END:VEVENT
BEGIN:VEVENT
DTSTART;TZID=America/Chicago:20190214T161500
DTEND;TZID=America/Chicago:20190214T171500
DTSTAMP:20260420T133435
CREATED:20190210T223512Z
LAST-MODIFIED:20190210T223512Z
UID:4838-1550160900-1550164500@statelinekids.com
SUMMARY:Arts and Crafts: Love Bugs
DESCRIPTION:Kids ages 6-12 can come make love bugs. All materials provided while supplies last.
URL:https://statelinekids.com/event/arts-and-crafts-love-bugs/
LOCATION:Beloit Public Library\, 605 Eclipse Blvd\, Beloit\, WI\, United States
CATEGORIES:Beloit
END:VEVENT
BEGIN:VEVENT
DTSTART;TZID=America/Chicago:20190215T190000
DTEND;TZID=America/Chicago:20190215T210000
DTSTAMP:20260420T133435
CREATED:20190210T224040Z
LAST-MODIFIED:20190210T224040Z
UID:4847-1550257200-1550264400@statelinekids.com
SUMMARY:Valentine’s Day Public Skate
DESCRIPTION:Ice skate to DJ music. Bring your sweetheart and get a free skate rental. There will be games and candy. \nCost: $6/adults\, $5 kids 17 and under\, $17/family of four
URL:https://statelinekids.com/event/valentines-day-public-skate/
LOCATION:Edwards Ice Arena\, 2101 Cranston Rd.\, Beloit\, WI\, United States
CATEGORIES:Beloit
END:VEVENT
BEGIN:VEVENT
DTSTART;TZID=America/Chicago:20200207T150000
DTEND;TZID=America/Chicago:20200207T200000
DTSTAMP:20260420T133435
CREATED:20200201T175707Z
LAST-MODIFIED:20200201T175707Z
UID:9645-1581087600-1581105600@statelinekids.com
SUMMARY:Block Print Valentines
DESCRIPTION:Use pre-carved textile blocks to print on stationery and items. Bring your own totes\, fabric\, and paper. Each person will receive 4 cards to print on as well. \nCost: $10 per individual / family
URL:https://statelinekids.com/event/block-print-valentines/
LOCATION:GEM\, 406 E. State St.\, Rockford\, IL\, United States
CATEGORIES:Rockford
END:VEVENT
BEGIN:VEVENT
DTSTART;TZID=America/Chicago:20200208T120000
DTEND;TZID=America/Chicago:20200208T130000
DTSTAMP:20260420T133435
CREATED:20200201T183408Z
LAST-MODIFIED:20200201T183408Z
UID:9666-1581163200-1581166800@statelinekids.com
SUMMARY:Valentine Photo Make and Take
DESCRIPTION:Kids can make a Valentine’s Day frame and get a Polaroid picture taken of themselves to put in it. \nCost: $6 per person
URL:https://statelinekids.com/event/valentine-photo-make-and-take/
LOCATION:Classy Rascal’s Children’s Boutique\, 219 W. Milwaukee St.\, Janesville\, WI\, United States
CATEGORIES:Janesville
END:VEVENT
BEGIN:VEVENT
DTSTART;TZID=America/Chicago:20200215T103000
DTEND;TZID=America/Chicago:20200215T123000
DTSTAMP:20260420T133435
CREATED:20200208T181425Z
LAST-MODIFIED:20200208T181425Z
UID:9723-1581762600-1581769800@statelinekids.com
SUMMARY:Valentine’s with Cinderella and Belle at Royal Tea Room
DESCRIPTION:Drop by this open house to meet Belle and Cinderella. Live singing performances will happen at 10:30 and 11:30 am. Get tickets here. \nCost is $7 per child
URL:https://statelinekids.com/event/valentines-with-cinderella-and-belle-at-royal-tea-room/
LOCATION:Once Upon a Dream Royal Tea Room\, 415 N. Church St.\, Rockford\, IL\, United States
CATEGORIES:Rockford
END:VEVENT
BEGIN:VEVENT
DTSTART;VALUE=DATE:20210208
DTEND;VALUE=DATE:20210215
DTSTAMP:20260420T133435
CREATED:20210207T183856Z
LAST-MODIFIED:20210207T183856Z
UID:14752-1612742400-1613347199@statelinekids.com
SUMMARY:Celebrate Valentine’s Day in Downtown Beloit
DESCRIPTION:Shop downtown Beloit for Valentine’s Day specials and sales. Get more information here.
URL:https://statelinekids.com/event/celebrate-valentines-day-in-downtown-beloit/
LOCATION:Downtown Beloit\, 500 Public Ave\, Beloit\, WI\, United States
CATEGORIES:Beloit
END:VEVENT
BEGIN:VEVENT
DTSTART;TZID=America/Chicago:20210211T170000
DTEND;TZID=America/Chicago:20210211T200000
DTSTAMP:20260420T133435
CREATED:20210207T190228Z
LAST-MODIFIED:20210207T190228Z
UID:14760-1613062800-1613073600@statelinekids.com
SUMMARY:Valentine’s Make and Takes
DESCRIPTION:Stop in to make and take a board to paint. Appetizers and cocktails will be available to purchase. Cost is $10-25 for a board to paint.
URL:https://statelinekids.com/event/valentines-make-and-takes/
LOCATION:Merrill & Houston\, 500 Pleasant St.\, Beloit\, WI\, United States
CATEGORIES:Beloit
END:VEVENT
BEGIN:VEVENT
DTSTART;TZID=America/Chicago:20220212T193000
DTEND;TZID=America/Chicago:20220212T210000
DTSTAMP:20260420T133435
CREATED:20220206T211947Z
LAST-MODIFIED:20220206T211947Z
UID:19127-1644694200-1644699600@statelinekids.com
SUMMARY:Rockford Symphony Orchestra - The Great Gatsby
DESCRIPTION:Enjoy a night of Great Gatsby music while dressing up in 20s clothing. Get tickets here.
URL:https://statelinekids.com/event/rockford-symphony-orchestra-the-great-gatsby/
LOCATION:Coronado Theater\, 314 N Main Street\, Rockford\, IL\, United States
CATEGORIES:Rockford
END:VEVENT
BEGIN:VEVENT
DTSTART;TZID=America/Chicago:20230128T140000
DTEND;TZID=America/Chicago:20230128T190000
DTSTAMP:20260420T133435
CREATED:20230122T170808Z
LAST-MODIFIED:20230122T170808Z
UID:25995-1674914400-1674932400@statelinekids.com
SUMMARY:Valentine’s Walk-In Make and Take Painting Event
DESCRIPTION:Walk in and create a Valentine’s Day board from over 30 available designs.
URL:https://statelinekids.com/event/valentines-walk-in-make-and-take-painting-event/
LOCATION:Bristle and Timber\, 6140 E. Riverside Blvd.\, Loves Park\, IL\, United States
CATEGORIES:Loves Park
END:VEVENT
BEGIN:VEVENT
DTSTART;TZID=America/Chicago:20230203T160000
DTEND;TZID=America/Chicago:20230203T200000
DTSTAMP:20260420T133435
CREATED:20230129T211820Z
LAST-MODIFIED:20230129T211820Z
UID:26149-1675440000-1675454400@statelinekids.com
SUMMARY:Valentines Pop Up Market
DESCRIPTION:Shop from local vendors selling handmade gifts and enjoy themed drinks and live music.
URL:https://statelinekids.com/event/valentines-pop-up-market/
LOCATION:Rockford City Market Indoors\, 116 N. Madison St.\, Rockford\, IL\, United States
CATEGORIES:Rockford
END:VEVENT
BEGIN:VEVENT
DTSTART;TZID=America/Chicago:20230209T180000
DTEND;TZID=America/Chicago:20230209T193000
DTSTAMP:20260420T133435
CREATED:20230205T190030Z
LAST-MODIFIED:20230205T190030Z
UID:26302-1675965600-1675971000@statelinekids.com
SUMMARY:Cookie Decorating: Valentine’s Edition
DESCRIPTION:Decorate nine cookies at the event. Supplies are provided. Bring your own container to bring cookies home. Register here.
URL:https://statelinekids.com/event/cookie-decorating-valentines-edition/
LOCATION:Cargill United Methodist Church\, 2000 Wesley Ave.\, Janesville\, WI\, United States
CATEGORIES:Janesville
END:VEVENT
BEGIN:VEVENT
DTSTART;TZID=America/Chicago:20230211T160000
DTEND;TZID=America/Chicago:20230211T200000
DTSTAMP:20260420T133435
CREATED:20230205T182913Z
LAST-MODIFIED:20230205T182913Z
UID:26288-1676131200-1676145600@statelinekids.com
SUMMARY:Till Death Do Us Part
DESCRIPTION:Enjoy unique museum activities like romantic reptiles\, fossilized love\, and tours of the beautiful Barnes Victorian Mansion. Get tickets here. \nCost: $14 for non-members / $2 for members
URL:https://statelinekids.com/event/till-death-do-us-part/
LOCATION:Burpee Natural History Museum\, 737 N. Main St\, Rockford\, IL\, United States
CATEGORIES:Rockford
END:VEVENT
BEGIN:VEVENT
DTSTART;TZID=America/Chicago:20250202T110000
DTEND;TZID=America/Chicago:20250202T150000
DTSTAMP:20260420T133435
CREATED:20250126T184532Z
LAST-MODIFIED:20250126T184532Z
UID:39433-1738494000-1738508400@statelinekids.com
SUMMARY:In My Cozy Sunday Era - Valentine’s Pop Up
DESCRIPTION:Do some shopping and enjoy DIY activities\, Valentine’s goodies\, and beverages (for purchase).
URL:https://statelinekids.com/event/in-my-cozy-sunday-era-valentines-pop-up/
LOCATION:SRM Prints\, 330 E. State St.\, Rockford\, IL\, United States
CATEGORIES:Rockford
END:VEVENT
BEGIN:VEVENT
DTSTART;TZID=America/Chicago:20250211T100000
DTEND;TZID=America/Chicago:20250211T110000
DTSTAMP:20260420T133435
CREATED:20250209T165335Z
LAST-MODIFIED:20250209T165335Z
UID:39540-1739268000-1739271600@statelinekids.com
SUMMARY:Valentine’s Day Storytime
DESCRIPTION:Kids ages 3-6 can learn about Valentine’s Day\, sing songs\, and make crafts.
URL:https://statelinekids.com/event/valentines-day-storytime/2025-02-11/
LOCATION:Talcott Free Library\, 101 E Main St\, Rockton\, IL\, United States
CATEGORIES:Rockton
END:VEVENT
BEGIN:VEVENT
DTSTART;TZID=America/Chicago:20250212T100000
DTEND;TZID=America/Chicago:20250212T110000
DTSTAMP:20260420T133435
CREATED:20250209T165335Z
LAST-MODIFIED:20250209T165335Z
UID:39542-1739354400-1739358000@statelinekids.com
SUMMARY:Valentine’s Day Storytime
DESCRIPTION:Kids ages 3-6 can learn about Valentine’s Day\, sing songs\, and make crafts.
URL:https://statelinekids.com/event/valentines-day-storytime/2025-02-12/
LOCATION:Talcott Free Library\, 101 E Main St\, Rockton\, IL\, United States
CATEGORIES:Rockton
END:VEVENT
BEGIN:VEVENT
DTSTART;TZID=America/Chicago:20250212T133000
DTEND;TZID=America/Chicago:20250212T143000
DTSTAMP:20260420T133435
CREATED:20250209T165335Z
LAST-MODIFIED:20250209T165335Z
UID:39543-1739367000-1739370600@statelinekids.com
SUMMARY:Valentine’s Day Storytime
DESCRIPTION:Kids ages 3-6 can learn about Valentine’s Day\, sing songs\, and make crafts.
URL:https://statelinekids.com/event/valentines-day-storytime/2025-02-12/2/
LOCATION:Talcott Free Library\, 101 E Main St\, Rockton\, IL\, United States
CATEGORIES:Rockton
END:VEVENT
BEGIN:VEVENT
DTSTART;TZID=America/Chicago:20250213T160000
DTEND;TZID=America/Chicago:20250213T200000
DTSTAMP:20260420T133435
CREATED:20250209T170806Z
LAST-MODIFIED:20250209T170806Z
UID:39557-1739462400-1739476800@statelinekids.com
SUMMARY:Valentine’s Market: Galentine’s Day
DESCRIPTION:Enjoy shopping from a variety of vendors\, listen to live music\, and have a themed drink.
URL:https://statelinekids.com/event/valentines-market-galentines-day/
LOCATION:Rockford City Market Indoors\, 116 N. Madison St.\, Rockford\, IL\, United States
CATEGORIES:Rockford
END:VEVENT
BEGIN:VEVENT
DTSTART;TZID=America/Chicago:20250213T170000
DTEND;TZID=America/Chicago:20250213T200000
DTSTAMP:20260420T133435
CREATED:20250209T164250Z
LAST-MODIFIED:20250209T164250Z
UID:39535-1739466000-1739476800@statelinekids.com
SUMMARY:Galentine’s Day Party
DESCRIPTION:Enjoy a night of shopping with girlfriends in downtown Rockton. Check the Facebook event for details.
URL:https://statelinekids.com/event/galentines-day-party/
LOCATION:Downtown Rockton\, 120 W. Main Street\, Rockton\, IL\, United States
END:VEVENT
BEGIN:VEVENT
DTSTART;TZID=America/Chicago:20250213T183000
DTEND;TZID=America/Chicago:20250213T203000
DTSTAMP:20260420T133436
CREATED:20250210T035105Z
LAST-MODIFIED:20250210T035105Z
UID:39580-1739471400-1739478600@statelinekids.com
SUMMARY:Galentine’s Chick Flick Trivia and Paint
DESCRIPTION:Compete in a trivia contest about chick flicks and do some painting. Tickets do not include pottery costs. Get tickets here.
URL:https://statelinekids.com/event/galentines-chick-flick-trivia-and-paint/
LOCATION:The Pottery Lounge\, 312 N. Alpine Road Suite 104\, Rockford\, IL\, United States
END:VEVENT
BEGIN:VEVENT
DTSTART;TZID=America/Chicago:20250214T153000
DTEND;TZID=America/Chicago:20250214T173000
DTSTAMP:20260420T133436
CREATED:20250209T165101Z
LAST-MODIFIED:20250209T165101Z
UID:39537-1739547000-1739554200@statelinekids.com
SUMMARY:Teen Crafternoon: Heart Cookie Decorating
DESCRIPTION: Kids in grades 6-12 can decorate heart-shaped cookies while supplies last.
URL:https://statelinekids.com/event/teen-crafternoon-heart-cookie-decorating/
LOCATION:Talcott Free Library\, 101 E Main St\, Rockton\, IL\, United States
CATEGORIES:Rockton
END:VEVENT
BEGIN:VEVENT
DTSTART;TZID=America/Chicago:20250214T170000
DTEND;TZID=America/Chicago:20250214T200000
DTSTAMP:20260420T133436
CREATED:20250209T170214Z
LAST-MODIFIED:20250209T170214Z
UID:39548-1739552400-1739563200@statelinekids.com
SUMMARY:Parents Night Out
DESCRIPTION:Kids ages 5-13 can be dropped off for a night of bounce houses\, crafts\, movies\, pizza and slushies\, and more. Reigster here. \nCost: $20 per kid / $15 per sibling *in advance* / $25 per day of
URL:https://statelinekids.com/event/parents-night-out-15/
LOCATION:Coral Cove Family Fun Center\, 586 Progressive Ln\, South Beloit\, IL\, United States
CATEGORIES:South Beloit
END:VEVENT
BEGIN:VEVENT
DTSTART;TZID=America/Chicago:20250214T170000
DTEND;TZID=America/Chicago:20250214T203000
DTSTAMP:20260420T133436
CREATED:20250210T040426Z
LAST-MODIFIED:20250210T040426Z
UID:39595-1739552400-1739565000@statelinekids.com
SUMMARY:Valentine’s Day Parents Night Out
DESCRIPTION:Kids ages 5-12 can be dropped off for a night of activities. Register here. \nCost: $10 per child / $25 per member / $30 per non-member
URL:https://statelinekids.com/event/valentines-day-parents-night-out/
LOCATION:Severson Dells Nature Center\, 8786 Montague Rd\, Rockford\, IL\, United States
CATEGORIES:Rockford
END:VEVENT
BEGIN:VEVENT
DTSTART;TZID=America/Chicago:20250215T090000
DTEND;TZID=America/Chicago:20250215T110000
DTSTAMP:20260420T133436
CREATED:20250210T034826Z
LAST-MODIFIED:20250210T034826Z
UID:39577-1739610000-1739617200@statelinekids.com
SUMMARY:Crafts and Coffee
DESCRIPTION:Families can make a Valentine’s Day craft and enjoy coffee and donuts.
URL:https://statelinekids.com/event/crafts-and-coffee/
LOCATION:Lockwood Park\, 5201 Safford Rd\, Rockford\, IL\, United States
CATEGORIES:Rockford
END:VEVENT
BEGIN:VEVENT
DTSTART;TZID=America/Chicago:20250215T150000
DTEND;TZID=America/Chicago:20250215T180000
DTSTAMP:20260420T133436
CREATED:20250210T040651Z
LAST-MODIFIED:20250210T040651Z
UID:39599-1739631600-1739642400@statelinekids.com
SUMMARY:Valentine’s Day Cooking for Two
DESCRIPTION:Couples can make a four course meal together with Chef Andy. Register here. \nCost: $100 per couple
URL:https://statelinekids.com/event/valentines-day-cooking-for-two/
LOCATION:Farmers Rising\, 1936 Rockton Rd.\, Caledonia\, IL\, United States
CATEGORIES:Caledonia
END:VEVENT
END:VCALENDAR