BEGIN:VCALENDAR
VERSION:2.0
PRODID:-//Stateline Kids - ECPv6.5.1.3//NONSGML v1.0//EN
CALSCALE:GREGORIAN
METHOD:PUBLISH
X-ORIGINAL-URL:https://statelinekids.com
X-WR-CALDESC:Events for Stateline Kids
REFRESH-INTERVAL;VALUE=DURATION:PT1H
X-Robots-Tag:noindex
X-PUBLISHED-TTL:PT1H
BEGIN:VTIMEZONE
TZID:America/Chicago
BEGIN:DAYLIGHT
TZOFFSETFROM:-0600
TZOFFSETTO:-0500
TZNAME:CDT
DTSTART:20180311T080000
END:DAYLIGHT
BEGIN:STANDARD
TZOFFSETFROM:-0500
TZOFFSETTO:-0600
TZNAME:CST
DTSTART:20181104T070000
END:STANDARD
BEGIN:DAYLIGHT
TZOFFSETFROM:-0600
TZOFFSETTO:-0500
TZNAME:CDT
DTSTART:20190310T080000
END:DAYLIGHT
BEGIN:STANDARD
TZOFFSETFROM:-0500
TZOFFSETTO:-0600
TZNAME:CST
DTSTART:20191103T070000
END:STANDARD
BEGIN:DAYLIGHT
TZOFFSETFROM:-0600
TZOFFSETTO:-0500
TZNAME:CDT
DTSTART:20200308T080000
END:DAYLIGHT
BEGIN:STANDARD
TZOFFSETFROM:-0500
TZOFFSETTO:-0600
TZNAME:CST
DTSTART:20201101T070000
END:STANDARD
BEGIN:DAYLIGHT
TZOFFSETFROM:-0600
TZOFFSETTO:-0500
TZNAME:CDT
DTSTART:20210314T080000
END:DAYLIGHT
BEGIN:STANDARD
TZOFFSETFROM:-0500
TZOFFSETTO:-0600
TZNAME:CST
DTSTART:20211107T070000
END:STANDARD
END:VTIMEZONE
BEGIN:VEVENT
DTSTART;TZID=America/Chicago:20180728T140000
DTEND;TZID=America/Chicago:20180728T150000
DTSTAMP:20260424T113547
CREATED:20180717T200304Z
LAST-MODIFIED:20180717T200304Z
UID:1093-1532786400-1532790000@statelinekids.com
SUMMARY:Barnes & Noble Kids' Book Hangout
DESCRIPTION:Join us for our first Kids’ Book Hangout! Discover your new favorite books\, meet other avid readers\, enjoy fun activities\, and everyone grabs FREE exclusive book swag. Featuring $1 off Frappuccinos or smoothies for event attendees.
URL:https://statelinekids.com/event/barnes-noble-kids-book-hangout/
LOCATION:CherryVale Mall\, 7200 Harrison Ave\, Rockford\, IL\, United States
CATEGORIES:Rockford
END:VEVENT
BEGIN:VEVENT
DTSTART;TZID=America/Chicago:20180808T130000
DTEND;TZID=America/Chicago:20180808T160000
DTSTAMP:20260424T113547
CREATED:20180805T220028Z
LAST-MODIFIED:20180805T220028Z
UID:1600-1533733200-1533744000@statelinekids.com
SUMMARY:Craft-a-Story Workshop
DESCRIPTION:In this workshop\, students will craft a story from scratch! We will work through all stages of writing (brainstorming\, drafting\, editing\, rewriting) and illustrate our piece as well. Writers of all writing stages are welcome!
URL:https://statelinekids.com/event/craft-a-story-workshop/
LOCATION:Puri Family YMCA\, 1475 S Perryville Road\, Rockford\, IL\, United States
CATEGORIES:Rockford
END:VEVENT
BEGIN:VEVENT
DTSTART;TZID=America/Chicago:20180831T190000
DTEND;TZID=America/Chicago:20180831T230000
DTSTAMP:20260424T113547
CREATED:20180828T150039Z
LAST-MODIFIED:20180828T150039Z
UID:2222-1535742000-1535756400@statelinekids.com
SUMMARY:Dusk Till Dark
DESCRIPTION:Teens and adults can play as many Laser Tag games as they want from 7 pm to 11 pm. Reservations strongly suggested. Call 815-227-9090 to make your reservation.
URL:https://statelinekids.com/event/dusk-till-dark/
LOCATION:Laser Quest\, 293 Executive Pkwy Ste. 1\, Rockford\, IL\, United States
CATEGORIES:Rockford
END:VEVENT
BEGIN:VEVENT
DTSTART;TZID=America/Chicago:20181005T200000
DTEND;TZID=America/Chicago:20181005T220000
DTSTAMP:20260424T113547
CREATED:20181001T141519Z
LAST-MODIFIED:20181001T141519Z
UID:2983-1538769600-1538776800@statelinekids.com
SUMMARY:Frosty Fridays
DESCRIPTION:Enjoy open skate with DJ music and meal deals.\nCost: $5 per person (skate rental included)
URL:https://statelinekids.com/event/frosty-fridays/
LOCATION:Carlson Ice Arena\, 4150 N Perryville Rd\, Loves Park\, IL\, United States
CATEGORIES:Loves Park
END:VEVENT
BEGIN:VEVENT
DTSTART;TZID=America/Chicago:20181012T200000
DTEND;TZID=America/Chicago:20181012T220000
DTSTAMP:20260424T113547
CREATED:20181009T035016Z
LAST-MODIFIED:20181009T035016Z
UID:3166-1539374400-1539381600@statelinekids.com
SUMMARY:Frosty Fridays
DESCRIPTION:Enjoy open skate with DJ music and meal deals. $5 includes skate rental.
URL:https://statelinekids.com/event/frosty-fridays-2/
LOCATION:Carlson Ice Arena\, 4150 N Perryville Rd\, Loves Park\, IL\, United States
CATEGORIES:Loves Park
END:VEVENT
BEGIN:VEVENT
DTSTART;TZID=America/Chicago:20181019T200000
DTEND;TZID=America/Chicago:20181019T220000
DTSTAMP:20260424T113547
CREATED:20181015T145133Z
LAST-MODIFIED:20181015T145133Z
UID:3356-1539979200-1539986400@statelinekids.com
SUMMARY:Frosty Fridays
DESCRIPTION:Enjoy open skate with DJ music and meal deals. \nCost: $5 per person (skate rental included)
URL:https://statelinekids.com/event/frosty-fridays-3/
LOCATION:Carlson Ice Arena\, 4150 N Perryville Rd\, Loves Park\, IL\, United States
CATEGORIES:Loves Park
END:VEVENT
BEGIN:VEVENT
DTSTART;TZID=America/Chicago:20181024T180000
DTEND;TZID=America/Chicago:20181024T190000
DTSTAMP:20260424T113547
CREATED:20181021T214736Z
LAST-MODIFIED:20181021T214736Z
UID:3424-1540404000-1540407600@statelinekids.com
SUMMARY:Spooky Cupcake Competition for Teens
DESCRIPTION:Bring your amateur cake decorating skills to the library for this fun event. Decorate Halloween themed cupcakes and compete for prizes. Register at Reference Services. Limit 30. For grades 6-12.
URL:https://statelinekids.com/event/spooky-cupcake-competition-for-teens/
LOCATION:North Suburban Library Roscoe\, 5562 Clayton Circle\, Roscoe\, IL\, United States
CATEGORIES:Roscoe
END:VEVENT
BEGIN:VEVENT
DTSTART;TZID=America/Chicago:20181101T170000
DTEND;TZID=America/Chicago:20181101T200000
DTSTAMP:20260424T113547
CREATED:20181028T200106Z
LAST-MODIFIED:20181028T200106Z
UID:3530-1541091600-1541102400@statelinekids.com
SUMMARY:Retro Pokemon Tournament
DESCRIPTION:Bring your own retro deck or use one of the famous Jimmy Ballard’s preconstructed decks. Try a new (old) way to play Pokemon league.
URL:https://statelinekids.com/event/retro-pokemon-tournament/
LOCATION:Top Cut Comics\, 5600 N 2nd Street\, Loves Park\, IL\, United States
CATEGORIES:Loves Park
END:VEVENT
BEGIN:VEVENT
DTSTART;TZID=America/Chicago:20181102T200000
DTEND;TZID=America/Chicago:20181102T220000
DTSTAMP:20260424T113547
CREATED:20181028T200628Z
LAST-MODIFIED:20181028T200628Z
UID:3541-1541188800-1541196000@statelinekids.com
SUMMARY:Frosty Fridays
DESCRIPTION:Skate while listening to DJ music. \nCost: $5 includes skate rental
URL:https://statelinekids.com/event/frosty-fridays-4/
LOCATION:Carlson Ice Arena\, 4150 N Perryville Rd\, Loves Park\, IL\, United States
CATEGORIES:Loves Park
END:VEVENT
BEGIN:VEVENT
DTSTART;TZID=America/Chicago:20181106T173000
DTEND;TZID=America/Chicago:20181106T183000
DTSTAMP:20260424T113547
CREATED:20181104T173507Z
LAST-MODIFIED:20181104T173507Z
UID:3675-1541525400-1541529000@statelinekids.com
SUMMARY:Perler Bead Art
DESCRIPTION:For ages 12 and up. Hang out with friends (and make new ones!) while making cool Perler bead artwork. Materials provided while supplies last.
URL:https://statelinekids.com/event/perler-bead-art/
LOCATION:Beloit Public Library\, 605 Eclipse Blvd\, Beloit\, WI\, United States
CATEGORIES:Beloit
END:VEVENT
BEGIN:VEVENT
DTSTART;TZID=America/Chicago:20181116T200000
DTEND;TZID=America/Chicago:20181116T220000
DTSTAMP:20260424T113547
CREATED:20181111T212817Z
LAST-MODIFIED:20181111T212817Z
UID:3819-1542398400-1542405600@statelinekids.com
SUMMARY:Frosty Fridays
DESCRIPTION:Tweens and teens can skate to DJ music and enjoy meal deals.
URL:https://statelinekids.com/event/frosty-fridays-5/
LOCATION:Carlson Ice Arena\, 4150 N Perryville Rd\, Loves Park\, IL\, United States
CATEGORIES:Loves Park
END:VEVENT
BEGIN:VEVENT
DTSTART;TZID=America/Chicago:20190104T200000
DTEND;TZID=America/Chicago:20190104T220000
DTSTAMP:20260424T113547
CREATED:20181230T213623Z
LAST-MODIFIED:20181230T213623Z
UID:4399-1546632000-1546639200@statelinekids.com
SUMMARY:Frosty Fridays
DESCRIPTION:Admission includes skate rental and DJ music. \nCost: $5 per person \n 
URL:https://statelinekids.com/event/frosty-fridays-6/
LOCATION:Carlson Ice Arena\, 4150 N Perryville Rd\, Loves Park\, IL\, United States
CATEGORIES:Loves Park
END:VEVENT
BEGIN:VEVENT
DTSTART;TZID=America/Chicago:20190111T200000
DTEND;TZID=America/Chicago:20190111T220000
DTSTAMP:20260424T113547
CREATED:20190106T222255Z
LAST-MODIFIED:20190106T222255Z
UID:4478-1547236800-1547244000@statelinekids.com
SUMMARY:Frosty Fridays
DESCRIPTION:Admission includes skate rental and DJ music.
URL:https://statelinekids.com/event/frosty-fridays-7/
LOCATION:Carlson Ice Arena\, 4150 N Perryville Rd\, Loves Park\, IL\, United States
CATEGORIES:Loves Park
END:VEVENT
BEGIN:VEVENT
DTSTART;TZID=America/Chicago:20190122T180000
DTEND;TZID=America/Chicago:20190122T200000
DTSTAMP:20260424T113547
CREATED:20190120T212048Z
LAST-MODIFIED:20190122T165742Z
UID:4580-1548180000-1548187200@statelinekids.com
SUMMARY:CANCELED - Girls on the Run Information Night
DESCRIPTION:Want to learn more about Girls on the Run? Girls on the Run is a life changing learning program for girls ages 8-13. The program combines training for a 5K run (3.1 miles) with self-esteem enhancing workouts.
URL:https://statelinekids.com/event/girls-on-the-run-information-night/
LOCATION:Fleet Feet\, 1653 N. Alpine Rd\, Rockford\, IL\, United States
CATEGORIES:Rockford
END:VEVENT
BEGIN:VEVENT
DTSTART;TZID=America/Chicago:20190124T163000
DTEND;TZID=America/Chicago:20190124T173000
DTSTAMP:20260424T113547
CREATED:20190120T214641Z
LAST-MODIFIED:20190120T214641Z
UID:4593-1548347400-1548351000@statelinekids.com
SUMMARY:Minute to Win It Challenges
DESCRIPTION:Kids ages 12-18 can show off their skills in Minute to Win It challenges.
URL:https://statelinekids.com/event/minute-to-win-it-challenges/
LOCATION:Rockford Public Library Rockton Centre\, 3112 N Rockton Ave\, Rockford\, IL\, United States
CATEGORIES:Rockford
END:VEVENT
BEGIN:VEVENT
DTSTART;TZID=America/Chicago:20190626T140000
DTEND;TZID=America/Chicago:20190626T170000
DTSTAMP:20260424T113547
CREATED:20190624T033036Z
LAST-MODIFIED:20190624T033036Z
UID:6230-1561557600-1561568400@statelinekids.com
SUMMARY:Tween Time: Zathura Movie Party
DESCRIPTION:Tweens 8-13 are welcome watch Zathura\, sample astronaut food\, design and build a seltzer rocket and more.
URL:https://statelinekids.com/event/tween-time-zathura-movie-party/
LOCATION:Beloit Public Library\, 605 Eclipse Blvd\, Beloit\, WI\, United States
CATEGORIES:Beloit
END:VEVENT
BEGIN:VEVENT
DTSTART;TZID=America/Chicago:20190713T180000
DTEND;TZID=America/Chicago:20190713T210000
DTSTAMP:20260424T113547
CREATED:20190707T175750Z
LAST-MODIFIED:20190707T175750Z
UID:6466-1563040800-1563051600@statelinekids.com
SUMMARY:Summer Fun for Teens
DESCRIPTION:Tweens and teens in 5th\, 6th and 7th grade can hang out and have fun dancing\, playing basketball\, dodgeball\, video games and more. \nCost: $5 per person
URL:https://statelinekids.com/event/summer-fun-for-teens/
LOCATION:Belvidere Family YMCA\, 220 W Locust St\, Ste 1\, Belvidere\, IL\, United States
CATEGORIES:Belvidere
END:VEVENT
BEGIN:VEVENT
DTSTART;TZID=America/Chicago:20191004T200000
DTEND;TZID=America/Chicago:20191004T220000
DTSTAMP:20260424T113547
CREATED:20190929T132300Z
LAST-MODIFIED:20190929T132300Z
UID:7630-1570219200-1570226400@statelinekids.com
SUMMARY:Frosty Fridays Public Skating
DESCRIPTION:Ice skate indoors at a family friendly night with music and food for purchase. \nCost: $6 per person includes skates
URL:https://statelinekids.com/event/frosty-fridays-public-skating-5/
LOCATION:Carlson Ice Arena\, 4150 N Perryville Rd\, Loves Park\, IL\, United States
CATEGORIES:Loves Park
END:VEVENT
BEGIN:VEVENT
DTSTART;TZID=America/Chicago:20191011T200000
DTEND;TZID=America/Chicago:20191011T220000
DTSTAMP:20260424T113547
CREATED:20191005T170051Z
LAST-MODIFIED:20191005T170051Z
UID:7805-1570824000-1570831200@statelinekids.com
SUMMARY:Frosty Fridays Public Skating
DESCRIPTION:Ice skate indoors at a family friendly night with music and food for purchase. \nCost: $6 per person includes skates
URL:https://statelinekids.com/event/frosty-fridays-public-skating-6/
LOCATION:Carlson Ice Arena\, 4150 N Perryville Rd\, Loves Park\, IL\, United States
CATEGORIES:Loves Park
END:VEVENT
BEGIN:VEVENT
DTSTART;TZID=America/Chicago:20191018T200000
DTEND;TZID=America/Chicago:20191018T220000
DTSTAMP:20260424T113547
CREATED:20191012T172222Z
LAST-MODIFIED:20191012T172222Z
UID:7971-1571428800-1571436000@statelinekids.com
SUMMARY:Frosty Fridays Public Skating
DESCRIPTION:Ice skate indoors at a family friendly night with music and food for purchase. \nCost: $6 per person includes skates
URL:https://statelinekids.com/event/frosty-fridays-public-skating-7/
LOCATION:Carlson Ice Arena\, 4150 N Perryville Rd\, Loves Park\, IL\, United States
CATEGORIES:Loves Park
END:VEVENT
BEGIN:VEVENT
DTSTART;TZID=America/Chicago:20191101T200000
DTEND;TZID=America/Chicago:20191101T220000
DTSTAMP:20260424T113547
CREATED:20191027T151232Z
LAST-MODIFIED:20191027T151232Z
UID:8249-1572638400-1572645600@statelinekids.com
SUMMARY:Frosty Fridays
DESCRIPTION:Skate around the rink while listening to a DJ play music. \nCost: $6 per person\, includes skate rental
URL:https://statelinekids.com/event/frosty-fridays-14/
LOCATION:Carlson Ice Arena\, 4150 N Perryville Rd\, Loves Park\, IL\, United States
CATEGORIES:Loves Park
END:VEVENT
BEGIN:VEVENT
DTSTART;TZID=America/Chicago:20191115T200000
DTEND;TZID=America/Chicago:20191115T220000
DTSTAMP:20260424T113547
CREATED:20191109T213138Z
LAST-MODIFIED:20191109T213138Z
UID:8470-1573848000-1573855200@statelinekids.com
SUMMARY:Frosty Fridays: Open Ice Skating
DESCRIPTION:Skate around the rink while listening to a DJ play music. \nCost is $6 per person\, includes skate rental
URL:https://statelinekids.com/event/frosty-fridays-open-ice-skating/
LOCATION:Carlson Ice Arena\, 4150 N Perryville Rd\, Loves Park\, IL\, United States
CATEGORIES:Loves Park
END:VEVENT
BEGIN:VEVENT
DTSTART;TZID=America/Chicago:20191121T160000
DTEND;TZID=America/Chicago:20191121T170000
DTSTAMP:20260424T113547
CREATED:20191117T183746Z
LAST-MODIFIED:20191117T183746Z
UID:8628-1574352000-1574355600@statelinekids.com
SUMMARY:STEM Club
DESCRIPTION:Kids ages 10 and up will use Lego Mindstorms and Vex Robotics to make creations. Facilitated by the Hononegah High School Robotics Team members.
URL:https://statelinekids.com/event/stem-club/
LOCATION:Talcott Free Library\, 101 E Main St\, Rockton\, IL\, United States
CATEGORIES:Rockton
END:VEVENT
BEGIN:VEVENT
DTSTART;TZID=America/Chicago:20191123T140000
DTEND;TZID=America/Chicago:20191123T150000
DTSTAMP:20260424T113547
CREATED:20191117T182929Z
LAST-MODIFIED:20191117T182929Z
UID:8621-1574517600-1574521200@statelinekids.com
SUMMARY:Fling and Wing: Learning About Flying
DESCRIPTION:Kids ages 8-13 can learn about aerodynamic secrets and build and launch gadgets.
URL:https://statelinekids.com/event/fling-and-wing-learning-about-flying/
LOCATION:Beloit Public Library\, 605 Eclipse Blvd\, Beloit\, WI\, United States
CATEGORIES:Beloit
END:VEVENT
BEGIN:VEVENT
DTSTART;TZID=America/Chicago:20200124T153000
DTEND;TZID=America/Chicago:20200124T170000
DTSTAMP:20260424T113547
CREATED:20200119T175010Z
LAST-MODIFIED:20200119T175010Z
UID:9488-1579879800-1579885200@statelinekids.com
SUMMARY:Teen Crafternoon at Talcott Free Library
DESCRIPTION:Kids in grades 6-12 can make paper snowflakes.
URL:https://statelinekids.com/event/teen-crafternoon-at-talcott-free-library/
LOCATION:Talcott Free Library\, 101 E Main St\, Rockton\, IL\, United States
CATEGORIES:Rockton
END:VEVENT
BEGIN:VEVENT
DTSTART;TZID=America/Chicago:20200213T140000
DTEND;TZID=America/Chicago:20200213T150000
DTSTAMP:20260424T113547
CREATED:20200208T231022Z
LAST-MODIFIED:20200208T231022Z
UID:9753-1581602400-1581606000@statelinekids.com
SUMMARY:Slime Time for Tweens at NSLB Loves Park
DESCRIPTION:Kids ages 9-14 can make their own slime.
URL:https://statelinekids.com/event/slime-time-for-tweens-at-nslb-loves-park/
LOCATION:North Suburban Library Loves Park\, 6349 N 2nd Street\, Loves Park\, IL\, United States
CATEGORIES:Loves Park
END:VEVENT
BEGIN:VEVENT
DTSTART;TZID=America/Chicago:20200228T200000
DTEND;TZID=America/Chicago:20200228T220000
DTSTAMP:20260424T113547
CREATED:20200222T174214Z
LAST-MODIFIED:20200222T174214Z
UID:9922-1582920000-1582927200@statelinekids.com
SUMMARY:Frosty Fridays: Public Skating at Carlson Ice Arena
DESCRIPTION:Enjoy ice skating to music\, specials on food and drinks\, and more. \nCost is $6 per person including skate rental
URL:https://statelinekids.com/event/frosty-fridays-public-skating-at-carlson-ice-arena-3/
LOCATION:Carlson Ice Arena\, 4150 N Perryville Rd\, Loves Park\, IL\, United States
CATEGORIES:Loves Park
END:VEVENT
BEGIN:VEVENT
DTSTART;TZID=America/Chicago:20210601T140000
DTEND;TZID=America/Chicago:20210601T150000
DTSTAMP:20260424T113547
CREATED:20210530T192235Z
LAST-MODIFIED:20210530T192235Z
UID:15898-1622556000-1622559600@statelinekids.com
SUMMARY:Robot Painting
DESCRIPTION:Tweens and teens ages 10-18 can learn to code a waterproof Sphero robot and then create abstract art with it. Register in advance
URL:https://statelinekids.com/event/robot-painting/
LOCATION:Downtown Mural\, 765 N. Madison St.\, Rockford\, IL\, United States
CATEGORIES:Rockford
END:VEVENT
BEGIN:VEVENT
DTSTART;TZID=America/Chicago:20210608T140000
DTEND;TZID=America/Chicago:20210608T150000
DTSTAMP:20260424T113547
CREATED:20210605T214138Z
LAST-MODIFIED:20210605T214138Z
UID:16033-1623160800-1623164400@statelinekids.com
SUMMARY:Button Making for Tweens and Teens
DESCRIPTION:Tweens and teens ages 10-18 can make buttons at the mural site. Register in advance.
URL:https://statelinekids.com/event/button-making-for-tweens-and-teens/
LOCATION:Downtown Mural\, 765 N. Madison St.\, Rockford\, IL\, United States
CATEGORIES:Rockford
END:VEVENT
BEGIN:VEVENT
DTSTART;TZID=America/Chicago:20210615T140000
DTEND;TZID=America/Chicago:20210615T150000
DTSTAMP:20260424T113547
CREATED:20210613T172105Z
LAST-MODIFIED:20210613T172105Z
UID:16124-1623765600-1623769200@statelinekids.com
SUMMARY:Tie-Dye for Tweens and Teens
DESCRIPTION:Tweens and teens ages 10-18 can do tie-dye at the mural site. Register in advance
URL:https://statelinekids.com/event/tie-dye-for-tweens-and-teens/
LOCATION:Downtown Mural\, 765 N. Madison St.\, Rockford\, IL\, United States
CATEGORIES:Rockford
END:VEVENT
END:VCALENDAR