BEGIN:VCALENDAR
VERSION:2.0
PRODID:-//Stateline Kids - ECPv6.5.1.3//NONSGML v1.0//EN
CALSCALE:GREGORIAN
METHOD:PUBLISH
X-WR-CALNAME:Stateline Kids
X-ORIGINAL-URL:https://statelinekids.com
X-WR-CALDESC:Events for Stateline Kids
REFRESH-INTERVAL;VALUE=DURATION:PT1H
X-Robots-Tag:noindex
X-PUBLISHED-TTL:PT1H
BEGIN:VTIMEZONE
TZID:America/Chicago
BEGIN:DAYLIGHT
TZOFFSETFROM:-0600
TZOFFSETTO:-0500
TZNAME:CDT
DTSTART:20180311T080000
END:DAYLIGHT
BEGIN:STANDARD
TZOFFSETFROM:-0500
TZOFFSETTO:-0600
TZNAME:CST
DTSTART:20181104T070000
END:STANDARD
BEGIN:DAYLIGHT
TZOFFSETFROM:-0600
TZOFFSETTO:-0500
TZNAME:CDT
DTSTART:20190310T080000
END:DAYLIGHT
BEGIN:STANDARD
TZOFFSETFROM:-0500
TZOFFSETTO:-0600
TZNAME:CST
DTSTART:20191103T070000
END:STANDARD
BEGIN:DAYLIGHT
TZOFFSETFROM:-0600
TZOFFSETTO:-0500
TZNAME:CDT
DTSTART:20200308T080000
END:DAYLIGHT
BEGIN:STANDARD
TZOFFSETFROM:-0500
TZOFFSETTO:-0600
TZNAME:CST
DTSTART:20201101T070000
END:STANDARD
BEGIN:DAYLIGHT
TZOFFSETFROM:-0600
TZOFFSETTO:-0500
TZNAME:CDT
DTSTART:20210314T080000
END:DAYLIGHT
BEGIN:STANDARD
TZOFFSETFROM:-0500
TZOFFSETTO:-0600
TZNAME:CST
DTSTART:20211107T070000
END:STANDARD
END:VTIMEZONE
BEGIN:VEVENT
DTSTART;TZID=America/Chicago:20180710T093000
DTEND;TZID=America/Chicago:20180710T101500
DTSTAMP:20260425T081506
CREATED:20180702T181157Z
LAST-MODIFIED:20180702T181157Z
UID:452-1531215000-1531217700@statelinekids.com
SUMMARY:Wiggle\, Giggle\, Grow
DESCRIPTION:From NSL: Fun program for children ages 9-36 months with a parent or caregiver (one caregiver per every 2 children).  Join us for fun stories\, songs\, and movement. Stay and explore age appropriate learning stations while socializing with other parents and toddlers. Please choose to attend  either the 9:30am or 10:30 am session.
URL:https://statelinekids.com/event/wiggle-giggle-grow/
LOCATION:North Suburban Library Roscoe\, 5562 Clayton Circle\, Roscoe\, IL\, United States
CATEGORIES:Library,Roscoe
END:VEVENT
BEGIN:VEVENT
DTSTART;TZID=America/Chicago:20180731T100000
DTEND;TZID=America/Chicago:20180731T110000
DTSTAMP:20260425T081506
CREATED:20180729T232235Z
LAST-MODIFIED:20180729T232235Z
UID:1400-1533031200-1533034800@statelinekids.com
SUMMARY:Toddler Tuesdays
DESCRIPTION:Ages: 2-4\nCost: $10 per class\n*parent or guardian must attend with child\nThis is a fun\, unique way to connect with your child in a creative setting. Our focus will be on process based art. We hope to enhance your child’s fine motor skills\, their knowledge of color\, and expose them to a variety of media. Children will also get to experience many sensory activities. Each week will be a little different\, but you can always count on some art\, story time\, and play. I ask that you please let me know at least the day before through a pm\, email (jellyartstudio6@gmail.com)\, or call the shop.
URL:https://statelinekids.com/event/toddler-tuesdays/
LOCATION:Jelly Art Studios\, 6 East Stephenson\, Freeport\, IL\, United States
CATEGORIES:Freeport
END:VEVENT
BEGIN:VEVENT
DTSTART;TZID=America/Chicago:20180803T153000
DTEND;TZID=America/Chicago:20180803T163000
DTSTAMP:20260425T081506
CREATED:20180729T190916Z
LAST-MODIFIED:20180729T190916Z
UID:1387-1533310200-1533313800@statelinekids.com
SUMMARY:Sensory Playtime
DESCRIPTION:Ages Birth to 6: Develop and engage the senses in this play group!
URL:https://statelinekids.com/event/sensory-playtime/
LOCATION:Ida Public Library\, 320 N State Street\, Belvidere\, IL\, United States
CATEGORIES:Belvidere
END:VEVENT
BEGIN:VEVENT
DTSTART;TZID=America/Chicago:20180807T100000
DTEND;TZID=America/Chicago:20180807T140000
DTSTAMP:20260425T081506
CREATED:20180714T023007Z
LAST-MODIFIED:20180731T160356Z
UID:981-1533636000-1533650400@statelinekids.com
SUMMARY:Toddler Tuesdays at 2 Froggy Jumps!
DESCRIPTION:The first Tuesday every month is Toddler Tuesday from 10am-2pm. \nBring your toddler to have some healthy fun on Tuesdays at a discounted $5 rate. Unlike other play centers\, our toddler zone is strictly for ages 5 and under. Your little ones will have a blast jumping and sliding in our jungle playland inflatable and playing in the toddler zone. We make sure that all our little toad-lers have a safe and healthy time at 2 Froggy Jumps Indoor party and play center so come on in and join the fun!
URL:https://statelinekids.com/event/toddler-tuesdays-at-2-froggy-jumps/
LOCATION:CherryVale Mall\, 7200 Harrison Ave\, Rockford\, IL\, United States
CATEGORIES:Rockford
END:VEVENT
BEGIN:VEVENT
DTSTART;TZID=America/Chicago:20180904T100000
DTEND;TZID=America/Chicago:20180904T140000
DTSTAMP:20260425T081506
CREATED:20180714T133120Z
LAST-MODIFIED:20180714T133120Z
UID:984-1536055200-1536069600@statelinekids.com
SUMMARY:Toddler Tuesdays at 2 Froggy Jumps!
DESCRIPTION:The first Tuesday every month is Toddler Tuesday from 10am-2pm. \nBring your toddler to have some healthy fun on Tuesdays at a discounted $5 rate. Unlike other play centers\, our toddler zone is strictly for ages 5 and under. Your little ones will have a blast jumping and sliding in our jungle playland inflatable and playing in the toddler zone. We make sure that all our little toad-lers have a safe and healthy time at 2 Froggy Jumps Indoor party and play center so come on in and join the fun!
URL:https://statelinekids.com/event/toddler-tuesdays-at-2-froggy-jumps-2/
LOCATION:CherryVale Mall\, 7200 Harrison Ave\, Rockford\, IL\, United States
CATEGORIES:Rockford
END:VEVENT
BEGIN:VEVENT
DTSTART;TZID=America/Chicago:20180910T101500
DTEND;TZID=America/Chicago:20180910T104500
DTSTAMP:20260425T081506
CREATED:20180910T131353Z
LAST-MODIFIED:20180910T131353Z
UID:2494-1536574500-1536576300@statelinekids.com
SUMMARY:Toddler Time
DESCRIPTION:Kids ages 1-2 can listen to a story\, sing songs\, and do a craft.
URL:https://statelinekids.com/event/toddler-time/
LOCATION:Talcott Free Library\, 101 E Main St\, Rockton\, IL\, United States
CATEGORIES:Rockton
END:VEVENT
BEGIN:VEVENT
DTSTART;TZID=America/Chicago:20180915T120000
DTEND;TZID=America/Chicago:20180915T133000
DTSTAMP:20260425T081506
CREATED:20180914T204356Z
LAST-MODIFIED:20180914T204356Z
UID:2602-1537012800-1537018200@statelinekids.com
SUMMARY:National Gymnastics Day Open Gym
DESCRIPTION:Celebrate National Gymnastics Day with a FREE open gym. There will be stations set up to explore. Ages 2-5 can participate from 12-12:45 pm and 6-13 from 12:45-1:30 pm. Dress kids in comfortable clothes with no strings\, buttons\, or zippers.
URL:https://statelinekids.com/event/national-gymnastics-day-open-gym/
LOCATION:Stateline YMCA\, 1239 Huebbe Pkwy\, Beloit\, WI\, United States
CATEGORIES:Beloit
END:VEVENT
BEGIN:VEVENT
DTSTART;TZID=America/Chicago:20180917T101500
DTEND;TZID=America/Chicago:20180917T104500
DTSTAMP:20260425T081506
CREATED:20180916T174655Z
LAST-MODIFIED:20180916T174655Z
UID:2635-1537179300-1537181100@statelinekids.com
SUMMARY:Toddler Time
DESCRIPTION:Kids ages 1-2 can listen to a story\, sing songs\, and do a craft.
URL:https://statelinekids.com/event/toddler-time-2/
LOCATION:Talcott Free Library\, 101 E Main St\, Rockton\, IL\, United States
CATEGORIES:Rockton
END:VEVENT
BEGIN:VEVENT
DTSTART;TZID=America/Chicago:20180918T091500
DTEND;TZID=America/Chicago:20180918T100000
DTSTAMP:20260425T081506
CREATED:20180916T190739Z
LAST-MODIFIED:20180916T190739Z
UID:2641-1537262100-1537264800@statelinekids.com
SUMMARY:Preschool Storytime
DESCRIPTION:Kids ages 2-5 will listen to a story\, sing\, and do a craft.
URL:https://statelinekids.com/event/preschool-storytime-3/
LOCATION:Rockford Public Library East\, 6685 East State Street\, Rockford\, IL\, United States
CATEGORIES:Rockford
END:VEVENT
BEGIN:VEVENT
DTSTART;TZID=America/Chicago:20180919T100000
DTEND;TZID=America/Chicago:20180919T104500
DTSTAMP:20260425T081506
CREATED:20180916T191130Z
LAST-MODIFIED:20180916T191130Z
UID:2649-1537351200-1537353900@statelinekids.com
SUMMARY:Preschool Discovery Time
DESCRIPTION:Kids ages 2-5 will listen to a story\, sing songs\, and dance.
URL:https://statelinekids.com/event/preschool-discovery-time-5/
LOCATION:Beloit Public Library\, 605 Eclipse Blvd\, Beloit\, WI\, United States
CATEGORIES:Beloit
END:VEVENT
BEGIN:VEVENT
DTSTART;TZID=America/Chicago:20180919T110000
DTEND;TZID=America/Chicago:20180919T114500
DTSTAMP:20260425T081506
CREATED:20180916T191239Z
LAST-MODIFIED:20180916T191239Z
UID:2651-1537354800-1537357500@statelinekids.com
SUMMARY:Preschool Discovery Time
DESCRIPTION:Kids ages 2-5 will listen to a story\, sing songs\, and dance.
URL:https://statelinekids.com/event/preschool-discovery-time-6/
LOCATION:Beloit Public Library\, 605 Eclipse Blvd\, Beloit\, WI\, United States
CATEGORIES:Beloit
END:VEVENT
BEGIN:VEVENT
DTSTART;TZID=America/Chicago:20180920T100000
DTEND;TZID=America/Chicago:20180920T110000
DTSTAMP:20260425T081506
CREATED:20180916T191621Z
LAST-MODIFIED:20180916T191621Z
UID:2659-1537437600-1537441200@statelinekids.com
SUMMARY:Baby Play Date
DESCRIPTION:Babies ages 2 and younger will play\, sing and dance. Siblings are welcome.
URL:https://statelinekids.com/event/baby-play-date/
LOCATION:Beloit Public Library\, 605 Eclipse Blvd\, Beloit\, WI\, United States
CATEGORIES:Beloit
END:VEVENT
BEGIN:VEVENT
DTSTART;TZID=America/Chicago:20180920T103000
DTEND;TZID=America/Chicago:20180920T111500
DTSTAMP:20260425T081506
CREATED:20180916T191844Z
LAST-MODIFIED:20180916T191844Z
UID:2663-1537439400-1537442100@statelinekids.com
SUMMARY:Wiggle\, Giggle\, Grow
DESCRIPTION:Stop by the library for a story\, songs\, games\, and free play. This program is for kids ages 9-36 months. It also takes places on Tuesdays at the Roscoe branch at the same times.
URL:https://statelinekids.com/event/wiggle-giggle-grow-7/
LOCATION:North Suburban Library Loves Park\, 6349 N 2nd Street\, Loves Park\, IL\, United States
CATEGORIES:Loves Park
END:VEVENT
BEGIN:VEVENT
DTSTART;TZID=America/Chicago:20181002T100000
DTEND;TZID=America/Chicago:20181002T140000
DTSTAMP:20260425T081506
CREATED:20180714T133227Z
LAST-MODIFIED:20180714T133227Z
UID:986-1538474400-1538488800@statelinekids.com
SUMMARY:Toddler Tuesdays at 2 Froggy Jumps!
DESCRIPTION:The first Tuesday every month is Toddler Tuesday from 10am-2pm. \nBring your toddler to have some healthy fun on Tuesdays at a discounted $5 rate. Unlike other play centers\, our toddler zone is strictly for ages 5 and under. Your little ones will have a blast jumping and sliding in our jungle playland inflatable and playing in the toddler zone. We make sure that all our little toad-lers have a safe and healthy time at 2 Froggy Jumps Indoor party and play center so come on in and join the fun!
URL:https://statelinekids.com/event/toddler-tuesdays-at-2-froggy-jumps-3/
LOCATION:CherryVale Mall\, 7200 Harrison Ave\, Rockford\, IL\, United States
CATEGORIES:Rockford
END:VEVENT
BEGIN:VEVENT
DTSTART;TZID=America/Chicago:20181011T103000
DTEND;TZID=America/Chicago:20181011T113000
DTSTAMP:20260425T081506
CREATED:20181009T033840Z
LAST-MODIFIED:20181009T033840Z
UID:3153-1539253800-1539257400@statelinekids.com
SUMMARY:Sensory Storytime
DESCRIPTION:Kids from ages 0-6 can engage their senses and explore. This storytime is inclusive and interactive and for kids of all abilities. If you’re looking for more inclusive events for children with special needs\, please see our October calendar.
URL:https://statelinekids.com/event/sensory-storytime-2/
LOCATION:Ida Public Library\, 320 N State Street\, Belvidere\, IL\, United States
CATEGORIES:Belvidere
END:VEVENT
BEGIN:VEVENT
DTSTART;TZID=America/Chicago:20181029T100000
DTEND;TZID=America/Chicago:20181029T200000
DTSTAMP:20260425T081506
CREATED:20181028T193741Z
LAST-MODIFIED:20181028T193741Z
UID:3514-1540807200-1540843200@statelinekids.com
SUMMARY:$3 Buck Days at Sapora Playworld
DESCRIPTION:Sapora Playworld is an exciting playground located inside Carlson Ice Arena\, with three levels of fun. It is a perfect place to bring your children to play\, explore\, and exercise in a safe\, secure\, soft play structure designed for children ages 5-12. The Tiny Tots play space is a smaller version of Playworld…perfect for those little ones ages 4 and under.
URL:https://statelinekids.com/event/3-buck-days-at-sapora-playworld/
LOCATION:Sapora Playworld\, 4150 North Perryville Road\, Loves Park\, IL\, United States
CATEGORIES:Loves Park
END:VEVENT
BEGIN:VEVENT
DTSTART;TZID=America/Chicago:20181102T103000
DTEND;TZID=America/Chicago:20181102T110000
DTSTAMP:20260425T081506
CREATED:20181028T200514Z
LAST-MODIFIED:20181028T200514Z
UID:3539-1541154600-1541156400@statelinekids.com
SUMMARY:Drop in Storytime
DESCRIPTION:Children of all ages are invited to join for stories\, songs and crafts.
URL:https://statelinekids.com/event/drop-in-storytime/
LOCATION:Rockford Public Library Hart Interim Library\, 214 N Church St\, Rockford\, IL\, United States
CATEGORIES:Rockford
END:VEVENT
BEGIN:VEVENT
DTSTART;TZID=America/Chicago:20181106T100000
DTEND;TZID=America/Chicago:20181106T140000
DTSTAMP:20260425T081506
CREATED:20180714T133345Z
LAST-MODIFIED:20180714T133345Z
UID:988-1541498400-1541512800@statelinekids.com
SUMMARY:Toddler Tuesdays at 2 Froggy Jumps!
DESCRIPTION:The first Tuesday every month is Toddler Tuesday from 10am-2pm. \nBring your toddler to have some healthy fun on Tuesdays at a discounted $5 rate. Unlike other play centers\, our toddler zone is strictly for ages 5 and under. Your little ones will have a blast jumping and sliding in our jungle playland inflatable and playing in the toddler zone. We make sure that all our little toad-lers have a safe and healthy time at 2 Froggy Jumps Indoor party and play center so come on in and join the fun!
URL:https://statelinekids.com/event/toddler-tuesdays-at-2-froggy-jumps-4/
LOCATION:CherryVale Mall\, 7200 Harrison Ave\, Rockford\, IL\, United States
CATEGORIES:Rockford
END:VEVENT
BEGIN:VEVENT
DTSTART;TZID=America/Chicago:20181204T100000
DTEND;TZID=America/Chicago:20181204T140000
DTSTAMP:20260425T081506
CREATED:20180714T133515Z
LAST-MODIFIED:20180714T133515Z
UID:990-1543917600-1543932000@statelinekids.com
SUMMARY:Toddler Tuesdays at 2 Froggy Jumps!
DESCRIPTION:The first Tuesday every month is Toddler Tuesday from 10am-2pm. \nBring your toddler to have some healthy fun on Tuesdays at a discounted $5 rate. Unlike other play centers\, our toddler zone is strictly for ages 5 and under. Your little ones will have a blast jumping and sliding in our jungle playland inflatable and playing in the toddler zone. We make sure that all our little toad-lers have a safe and healthy time at 2 Froggy Jumps Indoor party and play center so come on in and join the fun!
URL:https://statelinekids.com/event/toddler-tuesdays-at-2-froggy-jumps-5/
LOCATION:CherryVale Mall\, 7200 Harrison Ave\, Rockford\, IL\, United States
CATEGORIES:Rockford
END:VEVENT
BEGIN:VEVENT
DTSTART;TZID=America/Chicago:20181217T101500
DTEND;TZID=America/Chicago:20181217T104500
DTSTAMP:20260425T081506
CREATED:20181216T034105Z
LAST-MODIFIED:20181216T034105Z
UID:4166-1545041700-1545043500@statelinekids.com
SUMMARY:Toddler Time: Christmas
DESCRIPTION:Toddlers can listen to a story\, dance\, and play. The theme is Christmas.
URL:https://statelinekids.com/event/toddler-time-christmas/
LOCATION:Talcott Free Library\, 101 E Main St\, Rockton\, IL\, United States
CATEGORIES:Rockton
END:VEVENT
BEGIN:VEVENT
DTSTART;TZID=America/Chicago:20190103T103000
DTEND;TZID=America/Chicago:20190103T120000
DTSTAMP:20260425T081506
CREATED:20181230T212327Z
LAST-MODIFIED:20181230T212327Z
UID:4387-1546511400-1546516800@statelinekids.com
SUMMARY:Zoology Explorers and Zoobabies: Reptiles
DESCRIPTION:ZooBabies (Ages 0-6) and Zoology Explorers (Ages 6 and Up) will learn about local Reptile Rescue and rehabilitation. There will be several animals for kids to work with hands-on\, including Burpee’s own adopted and foster animals. Register here. \nCost: $12 for Burpee members\, $15 for general public
URL:https://statelinekids.com/event/zoology-explorers-and-zoobabies-reptiles/
LOCATION:Burpee Natural History Museum\, 737 N. Main St\, Rockford\, IL\, United States
CATEGORIES:Rockford
END:VEVENT
BEGIN:VEVENT
DTSTART;TZID=America/Chicago:20190104T183000
DTEND;TZID=America/Chicago:20190104T193000
DTSTAMP:20260425T081506
CREATED:20181230T213442Z
LAST-MODIFIED:20181230T213442Z
UID:4397-1546626600-1546630200@statelinekids.com
SUMMARY:Once Upon a Cuento
DESCRIPTION:Kids ages birth to 6 can read and listen to stories\, sing songs\, do crafts\, and enjoy other activities in both English and Spanish.
URL:https://statelinekids.com/event/once-upon-a-cuento/
LOCATION:Ida Public Library\, 320 N State Street\, Belvidere\, IL\, United States
CATEGORIES:Belvidere
END:VEVENT
BEGIN:VEVENT
DTSTART;TZID=America/Chicago:20190121T101500
DTEND;TZID=America/Chicago:20190121T104500
DTSTAMP:20260425T081506
CREATED:20190120T210021Z
LAST-MODIFIED:20190120T210021Z
UID:4567-1548065700-1548067500@statelinekids.com
SUMMARY:Toddler Time “Get Well Soon”
DESCRIPTION:Toddlers are welcome to listen to a story and participate in an activity. This week’s theme is colds/sickness.
URL:https://statelinekids.com/event/toddler-time-get-well-soon/
LOCATION:Talcott Free Library\, 101 E Main St\, Rockton\, IL\, United States
CATEGORIES:Rockton
END:VEVENT
BEGIN:VEVENT
DTSTART;TZID=America/Chicago:20190219T103000
DTEND;TZID=America/Chicago:20190219T113000
DTSTAMP:20260425T081506
CREATED:20190217T210436Z
LAST-MODIFIED:20190217T210436Z
UID:4891-1550572200-1550575800@statelinekids.com
SUMMARY:Lapsit Storytime
DESCRIPTION:Kids ages birth through two can read stories\, sing songs\, play and do crafts.
URL:https://statelinekids.com/event/lapsit-storytime-8/
LOCATION:Ida Public Library\, 320 N State Street\, Belvidere\, IL\, United States
CATEGORIES:Belvidere
END:VEVENT
BEGIN:VEVENT
DTSTART;TZID=America/Chicago:20190223T090000
DTEND;TZID=America/Chicago:20190223T103000
DTSTAMP:20260425T081506
CREATED:20190217T214336Z
LAST-MODIFIED:20190217T214336Z
UID:4916-1550912400-1550917800@statelinekids.com
SUMMARY:Baby + Me Block Printing
DESCRIPTION:Learn from artist Sarah Reed-McNamara how to create basic animal block printmaking. All supplies included. For kids ages 2-5. Register here with course code WIZ-801-RAM
URL:https://statelinekids.com/event/baby-me-block-printing/
LOCATION:Rockford Art Museum\, 711 N Main St\, Rockford\, IL\, United States
CATEGORIES:Rockford
END:VEVENT
BEGIN:VEVENT
DTSTART;TZID=America/Chicago:20191202T100000
DTEND;TZID=America/Chicago:20191202T103000
DTSTAMP:20260425T081506
CREATED:20191201T232718Z
LAST-MODIFIED:20191201T232718Z
UID:8863-1575280800-1575282600@statelinekids.com
SUMMARY:Toddler Time
DESCRIPTION:Kids 18 months through 3 years old can listen to a story and play.
URL:https://statelinekids.com/event/toddler-time-3/
LOCATION:Rockford Public Library Rock River\, 3128 11th Street\, Rockford\, IL\, United States
CATEGORIES:Rockford
END:VEVENT
BEGIN:VEVENT
DTSTART;TZID=America/Chicago:20191216T100000
DTEND;TZID=America/Chicago:20191216T103000
DTSTAMP:20260425T081506
CREATED:20191215T210343Z
LAST-MODIFIED:20191215T210343Z
UID:9102-1576490400-1576492200@statelinekids.com
SUMMARY:Toddler Time
DESCRIPTION:Kids 18 months through 3 years old can listen to a story and play.
URL:https://statelinekids.com/event/toddler-time-5/
LOCATION:Rockford Public Library Rock River\, 3128 11th Street\, Rockford\, IL\, United States
CATEGORIES:Rockford
END:VEVENT
BEGIN:VEVENT
DTSTART;TZID=America/Chicago:20200302T100000
DTEND;TZID=America/Chicago:20200302T103000
DTSTAMP:20260425T081506
CREATED:20200301T154738Z
LAST-MODIFIED:20200301T154738Z
UID:10030-1583143200-1583145000@statelinekids.com
SUMMARY:Toddler Time at RPL Rock River
DESCRIPTION:Kids ages 18 months – 3 years old can enjoy a fun interactive storytime.
URL:https://statelinekids.com/event/toddler-time-at-rpl-rock-river-8/
LOCATION:Rockford Public Library Rock River\, 3128 11th Street\, Rockford\, IL\, United States
CATEGORIES:Rockford
END:VEVENT
BEGIN:VEVENT
DTSTART;TZID=America/Chicago:20210616T100000
DTEND;TZID=America/Chicago:20210616T104500
DTSTAMP:20260425T081506
CREATED:20210613T172226Z
LAST-MODIFIED:20210613T172226Z
UID:16126-1623837600-1623840300@statelinekids.com
SUMMARY:Toddler Storytime
DESCRIPTION:Toddlers can enjoy a story and songs outdoors at the new mural location. Register here.
URL:https://statelinekids.com/event/toddler-storytime-3/
LOCATION:Downtown Mural\, 765 N. Madison St.\, Rockford\, IL\, United States
CATEGORIES:Rockford
END:VEVENT
BEGIN:VEVENT
DTSTART;TZID=America/Chicago:20211212T150000
DTEND;TZID=America/Chicago:20211212T170000
DTSTAMP:20260425T081506
CREATED:20211205T212804Z
LAST-MODIFIED:20211205T212804Z
UID:18496-1639321200-1639328400@statelinekids.com
SUMMARY:Kids Yoga
DESCRIPTION:Kids ages infant through age 8 can do yoga with their parents. The classes are broken into infant (3 pm)\, toddler (3:45 pm) and kids ages 4-8 (4 pm). Get tickets here. \nCost: $15 per class \n 
URL:https://statelinekids.com/event/kids-yoga-3/
LOCATION:Paull Chiropractic\, 111 N. Main St.\, Suite 100\, Janesville\, WI\, United States
CATEGORIES:Janesville
END:VEVENT
END:VCALENDAR