BEGIN:VCALENDAR
VERSION:2.0
PRODID:-//Stateline Kids - ECPv6.5.1.3//NONSGML v1.0//EN
CALSCALE:GREGORIAN
METHOD:PUBLISH
X-ORIGINAL-URL:https://statelinekids.com
X-WR-CALDESC:Events for Stateline Kids
REFRESH-INTERVAL;VALUE=DURATION:PT1H
X-Robots-Tag:noindex
X-PUBLISHED-TTL:PT1H
BEGIN:VTIMEZONE
TZID:America/Chicago
BEGIN:DAYLIGHT
TZOFFSETFROM:-0600
TZOFFSETTO:-0500
TZNAME:CDT
DTSTART:20190310T080000
END:DAYLIGHT
BEGIN:STANDARD
TZOFFSETFROM:-0500
TZOFFSETTO:-0600
TZNAME:CST
DTSTART:20191103T070000
END:STANDARD
BEGIN:DAYLIGHT
TZOFFSETFROM:-0600
TZOFFSETTO:-0500
TZNAME:CDT
DTSTART:20200308T080000
END:DAYLIGHT
BEGIN:STANDARD
TZOFFSETFROM:-0500
TZOFFSETTO:-0600
TZNAME:CST
DTSTART:20201101T070000
END:STANDARD
BEGIN:DAYLIGHT
TZOFFSETFROM:-0600
TZOFFSETTO:-0500
TZNAME:CDT
DTSTART:20210314T080000
END:DAYLIGHT
BEGIN:STANDARD
TZOFFSETFROM:-0500
TZOFFSETTO:-0600
TZNAME:CST
DTSTART:20211107T070000
END:STANDARD
BEGIN:DAYLIGHT
TZOFFSETFROM:-0600
TZOFFSETTO:-0500
TZNAME:CDT
DTSTART:20220313T080000
END:DAYLIGHT
BEGIN:STANDARD
TZOFFSETFROM:-0500
TZOFFSETTO:-0600
TZNAME:CST
DTSTART:20221106T070000
END:STANDARD
BEGIN:DAYLIGHT
TZOFFSETFROM:-0600
TZOFFSETTO:-0500
TZNAME:CDT
DTSTART:20230312T080000
END:DAYLIGHT
BEGIN:STANDARD
TZOFFSETFROM:-0500
TZOFFSETTO:-0600
TZNAME:CST
DTSTART:20231105T070000
END:STANDARD
BEGIN:DAYLIGHT
TZOFFSETFROM:-0600
TZOFFSETTO:-0500
TZNAME:CDT
DTSTART:20240310T080000
END:DAYLIGHT
BEGIN:STANDARD
TZOFFSETFROM:-0500
TZOFFSETTO:-0600
TZNAME:CST
DTSTART:20241103T070000
END:STANDARD
END:VTIMEZONE
BEGIN:VEVENT
DTSTART;TZID=America/Chicago:20190713T100000
DTEND;TZID=America/Chicago:20190713T120000
DTSTAMP:20260421T225523
CREATED:20190707T175405Z
LAST-MODIFIED:20190707T175405Z
UID:6464-1563012000-1563019200@statelinekids.com
SUMMARY:Princess Tea Party
DESCRIPTION:Dress as your favorite princess\, eat a three course lunch\, and meet princesses from Once Upon a Dream and the Young at Heart festival. Get tickets here. \nCost: $20 per adult\, $10 for kids 4-12\, $2 for kids 3 and under
URL:https://statelinekids.com/event/princess-tea-party/
LOCATION:Tinker Swiss Cottage\, 411 Kent St\, Rockford\, IL\, United States
CATEGORIES:Rockford
END:VEVENT
BEGIN:VEVENT
DTSTART;TZID=America/Chicago:20200215T103000
DTEND;TZID=America/Chicago:20200215T123000
DTSTAMP:20260421T225523
CREATED:20200208T181425Z
LAST-MODIFIED:20200208T181425Z
UID:9723-1581762600-1581769800@statelinekids.com
SUMMARY:Valentine’s with Cinderella and Belle at Royal Tea Room
DESCRIPTION:Drop by this open house to meet Belle and Cinderella. Live singing performances will happen at 10:30 and 11:30 am. Get tickets here. \nCost is $7 per child
URL:https://statelinekids.com/event/valentines-with-cinderella-and-belle-at-royal-tea-room/
LOCATION:Once Upon a Dream Royal Tea Room\, 415 N. Church St.\, Rockford\, IL\, United States
CATEGORIES:Rockford
END:VEVENT
BEGIN:VEVENT
DTSTART;TZID=America/Chicago:20211113T150000
DTEND;TZID=America/Chicago:20211113T163000
DTSTAMP:20260421T225523
CREATED:20211106T191918Z
LAST-MODIFIED:20211106T191918Z
UID:18178-1636815600-1636821000@statelinekids.com
SUMMARY:Harvest Tea
DESCRIPTION:Enjoy a three course lunch with tea being served by a historical interpreter in the Chamberlain Hotel. Get tickets here. \nCost: $40 per person / $35 per member
URL:https://statelinekids.com/event/harvest-tea/
LOCATION:Midway Village\, 6799 Guilford Road\, Rockford\, IL\, United States
CATEGORIES:Rockford
END:VEVENT
BEGIN:VEVENT
DTSTART;TZID=America/Chicago:20230422T140000
DTEND;TZID=America/Chicago:20230422T160000
DTSTAMP:20260421T225523
CREATED:20230416T194306Z
LAST-MODIFIED:20230416T194306Z
UID:27501-1682172000-1682179200@statelinekids.com
SUMMARY:GIRLS NIGHT OUT: Tulips and Tea at the Market
DESCRIPTION:Enjoy making a mini floral arrangement with Flower Girls and a high tea with pastries from Vintage Goose Cafe. Get tickets here.
URL:https://statelinekids.com/event/girls-night-out-tulips-and-tea-at-the-market/
LOCATION:Rockford City Market Indoors\, 116 N. Madison St.\, Rockford\, IL\, United States
CATEGORIES:Rockford
END:VEVENT
BEGIN:VEVENT
DTSTART;TZID=America/Chicago:20240629T140000
DTEND;TZID=America/Chicago:20240629T170000
DTSTAMP:20260421T225523
CREATED:20240623T200950Z
LAST-MODIFIED:20240623T200950Z
UID:36384-1719669600-1719680400@statelinekids.com
SUMMARY:High Tea in the Garden with Vintage Goose
DESCRIPTION:Enjoy a high tea\, ride on the trolley car\, and time in the rose garden. Get tickets here.
URL:https://statelinekids.com/event/high-tea-in-the-garden-with-vintage-goose/
LOCATION:Nicholas Conservatory and Gardens\, 1354 N 2nd Street\, Rockford\, IL\, United States
CATEGORIES:Rockford
END:VEVENT
END:VCALENDAR