BEGIN:VCALENDAR
VERSION:2.0
PRODID:-//Stateline Kids - ECPv6.5.1.3//NONSGML v1.0//EN
CALSCALE:GREGORIAN
METHOD:PUBLISH
X-ORIGINAL-URL:https://statelinekids.com
X-WR-CALDESC:Events for Stateline Kids
REFRESH-INTERVAL;VALUE=DURATION:PT1H
X-Robots-Tag:noindex
X-PUBLISHED-TTL:PT1H
BEGIN:VTIMEZONE
TZID:America/Chicago
BEGIN:DAYLIGHT
TZOFFSETFROM:-0600
TZOFFSETTO:-0500
TZNAME:CDT
DTSTART:20190310T080000
END:DAYLIGHT
BEGIN:STANDARD
TZOFFSETFROM:-0500
TZOFFSETTO:-0600
TZNAME:CST
DTSTART:20191103T070000
END:STANDARD
BEGIN:DAYLIGHT
TZOFFSETFROM:-0600
TZOFFSETTO:-0500
TZNAME:CDT
DTSTART:20200308T080000
END:DAYLIGHT
BEGIN:STANDARD
TZOFFSETFROM:-0500
TZOFFSETTO:-0600
TZNAME:CST
DTSTART:20201101T070000
END:STANDARD
BEGIN:DAYLIGHT
TZOFFSETFROM:-0600
TZOFFSETTO:-0500
TZNAME:CDT
DTSTART:20210314T080000
END:DAYLIGHT
BEGIN:STANDARD
TZOFFSETFROM:-0500
TZOFFSETTO:-0600
TZNAME:CST
DTSTART:20211107T070000
END:STANDARD
BEGIN:DAYLIGHT
TZOFFSETFROM:-0600
TZOFFSETTO:-0500
TZNAME:CDT
DTSTART:20220313T080000
END:DAYLIGHT
BEGIN:STANDARD
TZOFFSETFROM:-0500
TZOFFSETTO:-0600
TZNAME:CST
DTSTART:20221106T070000
END:STANDARD
BEGIN:DAYLIGHT
TZOFFSETFROM:-0600
TZOFFSETTO:-0500
TZNAME:CDT
DTSTART:20230312T080000
END:DAYLIGHT
BEGIN:STANDARD
TZOFFSETFROM:-0500
TZOFFSETTO:-0600
TZNAME:CST
DTSTART:20231105T070000
END:STANDARD
BEGIN:DAYLIGHT
TZOFFSETFROM:-0600
TZOFFSETTO:-0500
TZNAME:CDT
DTSTART:20240310T080000
END:DAYLIGHT
BEGIN:STANDARD
TZOFFSETFROM:-0500
TZOFFSETTO:-0600
TZNAME:CST
DTSTART:20241103T070000
END:STANDARD
BEGIN:DAYLIGHT
TZOFFSETFROM:-0600
TZOFFSETTO:-0500
TZNAME:CDT
DTSTART:20250309T080000
END:DAYLIGHT
BEGIN:STANDARD
TZOFFSETFROM:-0500
TZOFFSETTO:-0600
TZNAME:CST
DTSTART:20251102T070000
END:STANDARD
END:VTIMEZONE
BEGIN:VEVENT
DTSTART;TZID=America/Chicago:20190505T110000
DTEND;TZID=America/Chicago:20190505T130000
DTSTAMP:20260424T150510
CREATED:20190430T035454Z
LAST-MODIFIED:20190430T035454Z
UID:5559-1557054000-1557061200@statelinekids.com
SUMMARY:Children’s Tea Party
DESCRIPTION:Kids can participate in a tea party\, learn about Victorian-era life in the early 1900s\, decorate and take home a tea cup and plate\, dress up\, play parlor games\, and have light refreshments. Get tickets here. \nCost: $10 adult and child (3-17)\, $8/adult and child (3-17)\, infants ages 0-2 are free
URL:https://statelinekids.com/event/childrens-tea-party/
LOCATION:Midway Village\, 6799 Guilford Road\, Rockford\, IL\, United States
CATEGORIES:Rockford
END:VEVENT
BEGIN:VEVENT
DTSTART;TZID=America/Chicago:20220511T163000
DTEND;TZID=America/Chicago:20220511T200000
DTSTAMP:20260424T150510
CREATED:20220507T193320Z
LAST-MODIFIED:20220507T193320Z
UID:20168-1652286600-1652299200@statelinekids.com
SUMMARY:Botanica - An Herbal Green Tea Party
DESCRIPTION:Attend a tea party\, learn about herbal teas and how to grow your own herbal tea garden at home then blend\, brew\, and enjoy your own. Get tickets here.
URL:https://statelinekids.com/event/botanica-an-herbal-green-tea-party/
LOCATION:Klehm Arboretum and Botanic Garden\, 2715 S Main St\,\, Rockford\, IL\, United States
CATEGORIES:Rockford
END:VEVENT
BEGIN:VEVENT
DTSTART;TZID=America/Chicago:20230211T130000
DTEND;TZID=America/Chicago:20230211T143000
DTSTAMP:20260424T150510
CREATED:20230205T181705Z
LAST-MODIFIED:20230205T181705Z
UID:26284-1676120400-1676125800@statelinekids.com
SUMMARY:American Girl Tea Party
DESCRIPTION:Kids ages 7-14 can bring their favorite doll to a tea party where they will learn about etiquette. There will be decorations\, crafts\, treats\, and books. Register here.
URL:https://statelinekids.com/event/american-girl-tea-party/
LOCATION:Rockford Public Library Hart Interim Library\, 214 N Church St\, Rockford\, IL\, United States
CATEGORIES:Rockford
END:VEVENT
BEGIN:VEVENT
DTSTART;TZID=America/Chicago:20230219T120000
DTEND;TZID=America/Chicago:20230219T140000
DTSTAMP:20260424T150510
CREATED:20230212T183526Z
LAST-MODIFIED:20230212T183526Z
UID:26527-1676808000-1676815200@statelinekids.com
SUMMARY:Tea and Tiaras
DESCRIPTION:Join your favorite Disney princesses for tea and pastries\, songs\, stories\, and meet and greet. Get tickets here.
URL:https://statelinekids.com/event/tea-and-tiaras/
LOCATION:Kids Spot\, 9461 N 2nd St\, Roscoe\, IL\, United States
CATEGORIES:Roscoe
ATTACH;FMTTYPE=image/jpeg:https://statelinekids.com/wp-content/uploads/2023/02/Tea.jpeg
END:VEVENT
BEGIN:VEVENT
DTSTART;TZID=America/Chicago:20230407T170000
DTEND;TZID=America/Chicago:20230407T180000
DTSTAMP:20260424T150510
CREATED:20230401T214344Z
LAST-MODIFIED:20230401T214344Z
UID:27146-1680886800-1680890400@statelinekids.com
SUMMARY:Easter Bunny Tea Party
DESCRIPTION:Kids can enjoy a slushie\, take photos with the Easter Bunny\, and collect eggs. There is also a Parents Night Out happening from 4:30 pm – 7:30 pm. Sign up here.
URL:https://statelinekids.com/event/easter-bunny-tea-party/
LOCATION:Coral Cove Family Fun Center\, 586 Progressive Ln\, South Beloit\, IL\, United States
CATEGORIES:South Beloit
END:VEVENT
BEGIN:VEVENT
DTSTART;TZID=America/Chicago:20230415T170000
DTEND;TZID=America/Chicago:20230415T183000
DTSTAMP:20260424T150510
CREATED:20230408T174650Z
LAST-MODIFIED:20230408T174650Z
UID:27361-1681578000-1681583400@statelinekids.com
SUMMARY:Mad Hatter Tea Party with Alice and Friends
DESCRIPTION:Enjoy an evening tea with Mad Hatter and friends. There will be tea\, dinner\, and desserts and you can decorate a tea cup to take home. Get tickets here.
URL:https://statelinekids.com/event/mad-hatter-tea-party-with-alice-and-friends/
LOCATION:Janesville Performing Arts Center\, 408 S. Main St.\, Janesville\, WI\, United States
CATEGORIES:Janesville
END:VEVENT
BEGIN:VEVENT
DTSTART;TZID=America/Chicago:20230626T150000
DTEND;TZID=America/Chicago:20230626T160000
DTSTAMP:20260424T150510
CREATED:20230623T220817Z
LAST-MODIFIED:20230623T220817Z
UID:28993-1687791600-1687795200@statelinekids.com
SUMMARY:American Girl Doll Tea Party
DESCRIPTION:Enjoy a tea party with an English theme with your favorite doll. There will be drinks\, a light snack\, crafts\, and more. Register here.
URL:https://statelinekids.com/event/american-girl-doll-tea-party/
LOCATION:Ida Public Library\, 320 N State Street\, Belvidere\, IL\, United States
CATEGORIES:Belvidere
END:VEVENT
BEGIN:VEVENT
DTSTART;TZID=America/Chicago:20230806T123000
DTEND;TZID=America/Chicago:20230806T140000
DTSTAMP:20260424T150510
CREATED:20230730T171401Z
LAST-MODIFIED:20230730T171401Z
UID:29713-1691325000-1691330400@statelinekids.com
SUMMARY:Mrs. Pott’s Tea Party
DESCRIPTION:Join Chip and Mrs. Potts for afternoon tea and a little something sweet before the show. Get tickets here. \nCost: $10 per person
URL:https://statelinekids.com/event/mrs-potts-tea-party/
LOCATION:Janesville Performing Arts Center\, 408 S. Main St.\, Janesville\, WI\, United States
END:VEVENT
BEGIN:VEVENT
DTSTART;TZID=America/Chicago:20240601T110000
DTEND;TZID=America/Chicago:20240601T123000
DTSTAMP:20260424T150510
CREATED:20240526T194156Z
LAST-MODIFIED:20240526T194156Z
UID:35188-1717239600-1717245000@statelinekids.com
SUMMARY:Fairy Tale Tea Party
DESCRIPTION:Enjoy a tea party with Characters 2 Life. There will be a three course lunch and tea. Get tickets here. \nCost: $25 per adult / $15 per kids ages 3-12 / $2 for kids 2 and under
URL:https://statelinekids.com/event/fairy-tale-tea-party/
LOCATION:Tinker Swiss Cottage\, 411 Kent St\, Rockford\, IL\, United States
CATEGORIES:Rockford
END:VEVENT
BEGIN:VEVENT
DTSTART;TZID=America/Chicago:20240921T110000
DTEND;TZID=America/Chicago:20240921T123000
DTSTAMP:20260424T150510
CREATED:20240913T232956Z
LAST-MODIFIED:20240913T232956Z
UID:37670-1726916400-1726921800@statelinekids.com
SUMMARY:Fairy Tale Tea Party
DESCRIPTION:Enjoy a tea party with a three-course lunch and a first-floor tour of Tinker Swiss with princesses. Get tickets here. \nCost: $25 per adult / $15 per kid ages 3-12 / $2 for kids 2 and under
URL:https://statelinekids.com/event/fairy-tale-tea-party-2/
LOCATION:Tinker Swiss Cottage\, 411 Kent St\, Rockford\, IL\, United States
CATEGORIES:Rockford
END:VEVENT
BEGIN:VEVENT
DTSTART;TZID=America/Chicago:20250201T110000
DTEND;TZID=America/Chicago:20250201T123000
DTSTAMP:20260424T150510
CREATED:20250126T181509Z
LAST-MODIFIED:20250126T181509Z
UID:39427-1738407600-1738413000@statelinekids.com
SUMMARY:Winter Tea Party
DESCRIPTION:Enjoy a tea party with a three course lunch\, a tour of the first floor of the cottage\, and princesses from Characters 2 Life. Get tickets here. \nCost: $25 per adult / $15 per kids ages 3-12 / $2 for kids 2 and under
URL:https://statelinekids.com/event/winter-tea-party/
LOCATION:Tinker Swiss Cottage\, 411 Kent St\, Rockford\, IL\, United States
CATEGORIES:Rockford
END:VEVENT
BEGIN:VEVENT
DTSTART;TZID=America/Chicago:20250719T110000
DTEND;TZID=America/Chicago:20250719T123000
DTSTAMP:20260424T150510
CREATED:20250712T170028Z
LAST-MODIFIED:20250712T170028Z
UID:41430-1752922800-1752928200@statelinekids.com
SUMMARY:Fairy Tale Tea Party
DESCRIPTION:Enjoy a three course lunch with a princess and a tour of the first floor of Tinker Cottage. Get tickets here. \nCost: $25 per adult / $15 per kid ags 3-12 / $2 for kids 2 and under
URL:https://statelinekids.com/event/fairy-tale-tea-party-3/
LOCATION:Tinker Swiss Cottage\, 411 Kent St\, Rockford\, IL\, United States
CATEGORIES:Rockford
END:VEVENT
END:VCALENDAR