BEGIN:VCALENDAR
VERSION:2.0
PRODID:-//Stateline Kids - ECPv6.5.1.3//NONSGML v1.0//EN
CALSCALE:GREGORIAN
METHOD:PUBLISH
X-ORIGINAL-URL:https://statelinekids.com
X-WR-CALDESC:Events for Stateline Kids
REFRESH-INTERVAL;VALUE=DURATION:PT1H
X-Robots-Tag:noindex
X-PUBLISHED-TTL:PT1H
BEGIN:VTIMEZONE
TZID:America/Chicago
BEGIN:DAYLIGHT
TZOFFSETFROM:-0600
TZOFFSETTO:-0500
TZNAME:CDT
DTSTART:20190310T080000
END:DAYLIGHT
BEGIN:STANDARD
TZOFFSETFROM:-0500
TZOFFSETTO:-0600
TZNAME:CST
DTSTART:20191103T070000
END:STANDARD
BEGIN:DAYLIGHT
TZOFFSETFROM:-0600
TZOFFSETTO:-0500
TZNAME:CDT
DTSTART:20200308T080000
END:DAYLIGHT
BEGIN:STANDARD
TZOFFSETFROM:-0500
TZOFFSETTO:-0600
TZNAME:CST
DTSTART:20201101T070000
END:STANDARD
BEGIN:DAYLIGHT
TZOFFSETFROM:-0600
TZOFFSETTO:-0500
TZNAME:CDT
DTSTART:20210314T080000
END:DAYLIGHT
BEGIN:STANDARD
TZOFFSETFROM:-0500
TZOFFSETTO:-0600
TZNAME:CST
DTSTART:20211107T070000
END:STANDARD
BEGIN:DAYLIGHT
TZOFFSETFROM:-0600
TZOFFSETTO:-0500
TZNAME:CDT
DTSTART:20220313T080000
END:DAYLIGHT
BEGIN:STANDARD
TZOFFSETFROM:-0500
TZOFFSETTO:-0600
TZNAME:CST
DTSTART:20221106T070000
END:STANDARD
BEGIN:DAYLIGHT
TZOFFSETFROM:-0600
TZOFFSETTO:-0500
TZNAME:CDT
DTSTART:20230312T080000
END:DAYLIGHT
BEGIN:STANDARD
TZOFFSETFROM:-0500
TZOFFSETTO:-0600
TZNAME:CST
DTSTART:20231105T070000
END:STANDARD
BEGIN:DAYLIGHT
TZOFFSETFROM:-0600
TZOFFSETTO:-0500
TZNAME:CDT
DTSTART:20240310T080000
END:DAYLIGHT
BEGIN:STANDARD
TZOFFSETFROM:-0500
TZOFFSETTO:-0600
TZNAME:CST
DTSTART:20241103T070000
END:STANDARD
BEGIN:DAYLIGHT
TZOFFSETFROM:-0600
TZOFFSETTO:-0500
TZNAME:CDT
DTSTART:20250309T080000
END:DAYLIGHT
BEGIN:STANDARD
TZOFFSETFROM:-0500
TZOFFSETTO:-0600
TZNAME:CST
DTSTART:20251102T070000
END:STANDARD
END:VTIMEZONE
BEGIN:VEVENT
DTSTART;TZID=America/Chicago:20191214T160000
DTEND;TZID=America/Chicago:20191214T200000
DTSTAMP:20260423T033545
CREATED:20191208T182724Z
LAST-MODIFIED:20191208T182724Z
UID:8957-1576339200-1576353600@statelinekids.com
SUMMARY:Christmas Traditions at First Free Church
DESCRIPTION:Enjoy free photos with Santa\, live t-shirt printing by Rockford Art Deli\, kids stage show\, petting zoo with donkeys\, camels\, and sheep\, horse drawn wagon rides\, smores\, indoor snowball fight and more.
URL:https://statelinekids.com/event/christmas-traditions-at-first-free-church/
LOCATION:First Free Rockford\, 2223 N Mulford Rd\, Rockford\, IL\, United States
CATEGORIES:Rockford
END:VEVENT
BEGIN:VEVENT
DTSTART;TZID=America/Chicago:20220212T100000
DTEND;TZID=America/Chicago:20220212T180000
DTSTAMP:20260423T033545
CREATED:20220206T172336Z
LAST-MODIFIED:20220206T172403Z
UID:19123-1644660000-1644688800@statelinekids.com
SUMMARY:RAD Valentine’s Free Print Day
DESCRIPTION:Get a free print on a shirt you bring or buy one there.
URL:https://statelinekids.com/event/rad-valentines-free-print-day/
LOCATION:Rockford Art Deli\, 402 E. State St\, Rockford\, IL\, United States
CATEGORIES:Rockford
END:VEVENT
BEGIN:VEVENT
DTSTART;TZID=America/Chicago:20220416T100000
DTEND;TZID=America/Chicago:20220416T180000
DTSTAMP:20260423T033545
CREATED:20220409T214503Z
LAST-MODIFIED:20220409T214503Z
UID:19685-1650103200-1650132000@statelinekids.com
SUMMARY:Free Print Day
DESCRIPTION:Get a free Earth Day print by bringing your own shirt then come back on Earth Day with an older tee to recycle and get a free Allmade t-shirt and a second Earth Day print.
URL:https://statelinekids.com/event/free-print-day/
LOCATION:Rockford Art Deli\, 402 E. State St\, Rockford\, IL\, United States
CATEGORIES:Rockford
END:VEVENT
BEGIN:VEVENT
DTSTART;TZID=America/Chicago:20230415T100000
DTEND;TZID=America/Chicago:20230415T170000
DTSTAMP:20260423T033545
CREATED:20230407T223717Z
LAST-MODIFIED:20230407T223717Z
UID:27344-1681552800-1681578000@statelinekids.com
SUMMARY:April Free Print Day
DESCRIPTION:Get a free print of a recycling-themed shirt for Earth Day. Bring your own\, they will not have blanks!
URL:https://statelinekids.com/event/april-free-print-day/
LOCATION:Rockford Art Deli\, 402 E. State St\, Rockford\, IL\, United States
CATEGORIES:Rockford
END:VEVENT
BEGIN:VEVENT
DTSTART;TZID=America/Chicago:20230803T120000
DTEND;TZID=America/Chicago:20230803T160000
DTSTAMP:20260423T033545
CREATED:20230729T220457Z
LAST-MODIFIED:20230729T220457Z
UID:29632-1691064000-1691078400@statelinekids.com
SUMMARY:Peaches Pop-Up Live Print
DESCRIPTION:Get a Peaches shirt printed for $19.45.
URL:https://statelinekids.com/event/peaches-pop-up-live-print/
LOCATION:Rockford Art Deli\, 402 E. State St\, Rockford\, IL\, United States
CATEGORIES:Rockford
END:VEVENT
BEGIN:VEVENT
DTSTART;TZID=America/Chicago:20240815T110000
DTEND;TZID=America/Chicago:20240815T140000
DTSTAMP:20260423T033545
CREATED:20240810T194612Z
LAST-MODIFIED:20240810T194612Z
UID:37257-1723719600-1723730400@statelinekids.com
SUMMARY:Beats and Bites and 815 Day Live Print
DESCRIPTION:Get the classic bracket 815 shirt printed in celebration of 815 Day. There will also be food trucks on site and DJ music. \nCost: $8.15 per shirt (bring your own) $18.15 for shirt and print \n 
URL:https://statelinekids.com/event/beats-and-bites-and-815-day-live-print/
LOCATION:Rockford Art Deli\, 402 E. State St\, Rockford\, IL\, United States
CATEGORIES:Rockford
END:VEVENT
BEGIN:VEVENT
DTSTART;TZID=America/Chicago:20241214T100000
DTEND;TZID=America/Chicago:20241214T140000
DTSTAMP:20260423T033545
CREATED:20241208T200221Z
LAST-MODIFIED:20241208T200221Z
UID:38912-1734170400-1734184800@statelinekids.com
SUMMARY:Free Print Day
DESCRIPTION:Bring your own shirt or cotton item to get a black print of the Christmas design.
URL:https://statelinekids.com/event/free-print-day-4/
LOCATION:Rockford Art Deli\, 402 E. State St\, Rockford\, IL\, United States
CATEGORIES:Rockford
END:VEVENT
BEGIN:VEVENT
DTSTART;TZID=America/Chicago:20250628T100000
DTEND;TZID=America/Chicago:20250628T140000
DTSTAMP:20260423T033545
CREATED:20250622T183345Z
LAST-MODIFIED:20250622T183345Z
UID:41164-1751104800-1751119200@statelinekids.com
SUMMARY:Free Print Day - Stars and Stripes
DESCRIPTION:Bring your own shirt (limit of 2) to get a free Fourth of July print.
URL:https://statelinekids.com/event/free-print-day-stars-and-stripes/
LOCATION:Rockford Art Deli\, 402 E. State St\, Rockford\, IL\, United States
CATEGORIES:Rockford
END:VEVENT
END:VCALENDAR