BEGIN:VCALENDAR
VERSION:2.0
PRODID:-//Stateline Kids - ECPv6.5.1.3//NONSGML v1.0//EN
CALSCALE:GREGORIAN
METHOD:PUBLISH
X-WR-CALNAME:Stateline Kids
X-ORIGINAL-URL:https://statelinekids.com
X-WR-CALDESC:Events for Stateline Kids
REFRESH-INTERVAL;VALUE=DURATION:PT1H
X-Robots-Tag:noindex
X-PUBLISHED-TTL:PT1H
BEGIN:VTIMEZONE
TZID:America/Chicago
BEGIN:DAYLIGHT
TZOFFSETFROM:-0600
TZOFFSETTO:-0500
TZNAME:CDT
DTSTART:20180311T080000
END:DAYLIGHT
BEGIN:STANDARD
TZOFFSETFROM:-0500
TZOFFSETTO:-0600
TZNAME:CST
DTSTART:20181104T070000
END:STANDARD
BEGIN:DAYLIGHT
TZOFFSETFROM:-0600
TZOFFSETTO:-0500
TZNAME:CDT
DTSTART:20190310T080000
END:DAYLIGHT
BEGIN:STANDARD
TZOFFSETFROM:-0500
TZOFFSETTO:-0600
TZNAME:CST
DTSTART:20191103T070000
END:STANDARD
BEGIN:DAYLIGHT
TZOFFSETFROM:-0600
TZOFFSETTO:-0500
TZNAME:CDT
DTSTART:20200308T080000
END:DAYLIGHT
BEGIN:STANDARD
TZOFFSETFROM:-0500
TZOFFSETTO:-0600
TZNAME:CST
DTSTART:20201101T070000
END:STANDARD
BEGIN:DAYLIGHT
TZOFFSETFROM:-0600
TZOFFSETTO:-0500
TZNAME:CDT
DTSTART:20210314T080000
END:DAYLIGHT
BEGIN:STANDARD
TZOFFSETFROM:-0500
TZOFFSETTO:-0600
TZNAME:CST
DTSTART:20211107T070000
END:STANDARD
BEGIN:DAYLIGHT
TZOFFSETFROM:-0600
TZOFFSETTO:-0500
TZNAME:CDT
DTSTART:20220313T080000
END:DAYLIGHT
BEGIN:STANDARD
TZOFFSETFROM:-0500
TZOFFSETTO:-0600
TZNAME:CST
DTSTART:20221106T070000
END:STANDARD
BEGIN:DAYLIGHT
TZOFFSETFROM:-0600
TZOFFSETTO:-0500
TZNAME:CDT
DTSTART:20230312T080000
END:DAYLIGHT
BEGIN:STANDARD
TZOFFSETFROM:-0500
TZOFFSETTO:-0600
TZNAME:CST
DTSTART:20231105T070000
END:STANDARD
END:VTIMEZONE
BEGIN:VEVENT
DTSTART;TZID=America/Chicago:20180710T200000
DTEND;TZID=America/Chicago:20180710T220000
DTSTAMP:20260420T220331
CREATED:20180710T024653Z
LAST-MODIFIED:20180710T024653Z
UID:788-1531252800-1531260000@statelinekids.com
SUMMARY:Noodle Night
DESCRIPTION:Come out and play in oodles of noodles! We’ll get out as many pool noodles (and tubes) as we can get our hands on for you to play with in this fun after hours event! Come out and swim under the stars with your friends! Pool passes will not be accepted.
URL:https://statelinekids.com/event/noodle-night/
LOCATION:William Grady Pool\, 916 W Lincoln Ave\, Belvidere\, IL\, United States
CATEGORIES:Belvidere
END:VEVENT
BEGIN:VEVENT
DTSTART;TZID=America/Chicago:20180810T190000
DTEND;TZID=America/Chicago:20180810T220000
DTSTAMP:20260420T220331
CREATED:20180730T014745Z
LAST-MODIFIED:20180730T014745Z
UID:1433-1533927600-1533938400@statelinekids.com
SUMMARY:Outdoor Movie: Despicable Me 3
DESCRIPTION:Movie night is back. Admission is free. Snacks available to purchase inside. Open swim from 7 pm to dusk for $3 per person. Movie starts at 8 pm.
URL:https://statelinekids.com/event/outdoor-movie-despicable-me-3/
LOCATION:Dolphin Swim Club\, 6501 Rock Valley Pkwy\, Loves Park\, IL\, United States
CATEGORIES:Loves Park
END:VEVENT
BEGIN:VEVENT
DTSTART;TZID=America/Chicago:20180813T150000
DTEND;TZID=America/Chicago:20180813T151500
DTSTAMP:20260420T220331
CREATED:20180813T141101Z
LAST-MODIFIED:20180813T141101Z
UID:1752-1534172400-1534173300@statelinekids.com
SUMMARY:Poolside Stories
DESCRIPTION:Enjoy the pool and listen to a story while the lifeguards take their break.
URL:https://statelinekids.com/event/poolside-stories/
LOCATION:Krueger Pool\, 1700 Hackett St\, Beloit\, WI\, United States
CATEGORIES:Beloit
END:VEVENT
BEGIN:VEVENT
DTSTART;TZID=America/Chicago:20180825T090000
DTEND;TZID=America/Chicago:20180825T230000
DTSTAMP:20260420T220331
CREATED:20180706T133113Z
LAST-MODIFIED:20180706T133113Z
UID:663-1535187600-1535238000@statelinekids.com
SUMMARY:Janesville Kids Triathlon
DESCRIPTION:From Janesville Parks and Recreation: \nTriathlons are not just for adults or elite athletes! Kids ages 7-12 are invited to swim\, bike and run to the finish line at the Janesville Kids Triathlon. The race includes a 100 meter swim\, a 2.5 mile bike and a half-mile run for kids. This opportunity is perfect for kids looking to have their first experience in triathlons. While awards will be given to the fastest in each age group\, this event is not structured as a highly competitive race. Instead\, this is a chance to celebrate health and fitness\, encourage self-confidence\, and most of all have fun while being active. \nDue to this being the event’s first year\, registration will be limited to the first 200 athletes\, with on-site registration only available if capacity has not reached 200 participants. Free t-shirts are guaranteed for all participants registered by August 12. The course is set in Janesville’s Rockport Park\, and will utilize Rockport Pool and the Peace Park Trail. Packet Pick Up and an informational meeting will be held on Friday\, August 24 from 5 – 7 p.m. at the Peace Park Pavilion in Rockport Park. On race day\, Saturday\, August 25\, meet at Rockport Park and check in at the Peace Park Pavilion. Check in from 7:30 a.m. – 8:30 a.m.\, then the race starts at 9 a.m. This event is open to children ages 7 – 12. Register online at https://runsignup.com/Race/WI/Janesville/JanesvilleKidsTriathlon . All participants registered before August 12 are guaranteed a free t-shirt. Registration is $30/child and will end on Tuesday\, August 21. Depending on race capacity\, race day registration will be available on-site and will be $45/child. \nVolunteers and event sponsors are wanted to help make this event successful. Adult volunteers can sign up to help at a specific part of the race at https://runsignup.com/Race/Volunteer/WI/Janesville/JanesvilleKidsTriathlon \nFor more information about the triathlon please contact the Recreation Division at (608) 755-3030.
URL:https://statelinekids.com/event/janesville-kids-triathlon/
LOCATION:Rockport Park\, 2801 Rockport Rd\, Janesville\, WI\, United States
CATEGORIES:Janesville
END:VEVENT
BEGIN:VEVENT
DTSTART;TZID=America/Chicago:20180825T190000
DTEND;TZID=America/Chicago:20180825T223000
DTSTAMP:20260420T220331
CREATED:20180730T015230Z
LAST-MODIFIED:20180730T015230Z
UID:1436-1535223600-1535236200@statelinekids.com
SUMMARY:Outdoor Movie: Coco
DESCRIPTION:Movie night is back. Admission is free. Snacks available to purchase inside. Open swim from 7 pm to dusk for $3 per person. Movie starts at 8 pm.
URL:https://statelinekids.com/event/outdoor-movie-coco/
LOCATION:Dolphin Swim Club\, 6501 Rock Valley Pkwy\, Loves Park\, IL\, United States
CATEGORIES:Loves Park
END:VEVENT
BEGIN:VEVENT
DTSTART;TZID=America/Chicago:20180902T100000
DTEND;TZID=America/Chicago:20180902T180000
DTSTAMP:20260420T220331
CREATED:20180828T151218Z
LAST-MODIFIED:20180828T151218Z
UID:2243-1535882400-1535911200@statelinekids.com
SUMMARY:End of Summer Blast
DESCRIPTION:Come to Magic Waters for the last weekend of the 2018 season! Get tickets here.
URL:https://statelinekids.com/event/end-of-summer-blast/
LOCATION:Magic Waters\, 7820 N Cherryvale Blvd\, Cherry Valley\, IL\, United States
CATEGORIES:Cherry Valley
END:VEVENT
BEGIN:VEVENT
DTSTART;TZID=America/Chicago:20181005T190000
DTEND;TZID=America/Chicago:20181005T210000
DTSTAMP:20260420T220331
CREATED:20181001T141345Z
LAST-MODIFIED:20181001T141345Z
UID:2980-1538766000-1538773200@statelinekids.com
SUMMARY:Cosmic Swim
DESCRIPTION:Enjoy a fun night of glow in the dark swimming. Activities include a splash contest. Glow sticks will be available to purchase for $1 each. Register here.
URL:https://statelinekids.com/event/cosmic-swim/
LOCATION:Byron High School\, 696 N Colfax St\, Byron\, IL\, United States
CATEGORIES:Byron
END:VEVENT
BEGIN:VEVENT
DTSTART;TZID=America/Chicago:20181107T120000
DTEND;TZID=America/Chicago:20181107T150000
DTSTAMP:20260420T220331
CREATED:20181025T020856Z
LAST-MODIFIED:20181104T033403Z
UID:3478-1541592000-1541602800@statelinekids.com
SUMMARY:Open Swim for Preschoolers and Parents at Dolphin Swim Club
DESCRIPTION:Free open swim event for preschoolers and their parents.
URL:https://statelinekids.com/event/open-swim-for-preschoolers-and-parents-at-dolphin-swim-club/
LOCATION:Dolphin Swim Club\, 6501 Rock Valley Pkwy\, Loves Park\, IL\, United States
CATEGORIES:Loves Park
END:VEVENT
BEGIN:VEVENT
DTSTART;TZID=America/Chicago:20181117T170000
DTEND;TZID=America/Chicago:20181117T210000
DTSTAMP:20260420T220331
CREATED:20181111T213706Z
LAST-MODIFIED:20181111T213706Z
UID:3834-1542474000-1542488400@statelinekids.com
SUMMARY:Fall Parent Night Out
DESCRIPTION:If you need a night off then drop your kids off with us for a fun night! We will be going next door to Saporas Playworld\, eating pizza\, working on crafts and watching the movie Chicken Run! The cost is $25 per child. Children must be between the ages of 3 – 10 years old and must be potty trained.
URL:https://statelinekids.com/event/fall-parent-night-out/
LOCATION:Dolphin Swim Club\, 6501 Rock Valley Pkwy\, Loves Park\, IL\, United States
CATEGORIES:Loves Park
END:VEVENT
BEGIN:VEVENT
DTSTART;TZID=America/Chicago:20190309T170000
DTEND;TZID=America/Chicago:20190309T210000
DTSTAMP:20260420T220331
CREATED:20190306T215320Z
LAST-MODIFIED:20190306T215320Z
UID:5047-1552150800-1552165200@statelinekids.com
SUMMARY:Splashapalooza
DESCRIPTION:Drop off your kids for swimming\, pizza\, cake pops\, art activities and a movie. For ages 6-10. \nCost: $29 per child
URL:https://statelinekids.com/event/splashapalooza/
LOCATION:Dolphin Swim Club\, 6501 Rock Valley Pkwy\, Loves Park\, IL\, United States
CATEGORIES:Loves Park
END:VEVENT
BEGIN:VEVENT
DTSTART;TZID=America/Chicago:20190607T120000
DTEND;TZID=America/Chicago:20190607T200000
DTSTAMP:20260420T220331
CREATED:20190602T154749Z
LAST-MODIFIED:20190602T154749Z
UID:5906-1559908800-1559937600@statelinekids.com
SUMMARY:William Grady Pool Opens!
DESCRIPTION:The pool opens today!
URL:https://statelinekids.com/event/william-grady-pool-opens/
LOCATION:William Grady Pool\, 916 W Lincoln Ave\, Belvidere\, IL\, United States
CATEGORIES:Belvidere
END:VEVENT
BEGIN:VEVENT
DTSTART;TZID=America/Chicago:20190615T170000
DTEND;TZID=America/Chicago:20190615T210000
DTSTAMP:20260420T220331
CREATED:20190611T211423Z
LAST-MODIFIED:20190611T211423Z
UID:6016-1560618000-1560632400@statelinekids.com
SUMMARY:Splashapalooza
DESCRIPTION:Kids ages 6-12 can watch a movie\, eat pizza\, do crafts\, swim and watch a movie while parents go out. \nCost: $29 per child
URL:https://statelinekids.com/event/splashapalooza-2/
LOCATION:Dolphin Swim Club\, 6501 Rock Valley Pkwy\, Loves Park\, IL\, United States
CATEGORIES:Loves Park
END:VEVENT
BEGIN:VEVENT
DTSTART;TZID=America/Chicago:20190624T150000
DTEND;TZID=America/Chicago:20190624T151500
DTSTAMP:20260420T220331
CREATED:20190624T031523Z
LAST-MODIFIED:20190624T031523Z
UID:6212-1561388400-1561389300@statelinekids.com
SUMMARY:Poolside Stories
DESCRIPTION:Enjoy Krueger pool and listen to a story during the afternoon lifeguard break. \nCost: $2 per person (resident)
URL:https://statelinekids.com/event/poolside-stories-2/
LOCATION:Krueger Pool\, 1700 Hackett St\, Beloit\, WI\, United States
CATEGORIES:Beloit
END:VEVENT
BEGIN:VEVENT
DTSTART;TZID=America/Chicago:20190803T140000
DTEND;TZID=America/Chicago:20190803T180000
DTSTAMP:20260420T220331
CREATED:20190728T194652Z
LAST-MODIFIED:20190728T194652Z
UID:6757-1564840800-1564855200@statelinekids.com
SUMMARY:Dolphin Swim Club Fun Fair
DESCRIPTION:Open swim\, free food\, and water slides. Raffles for birthday party\, lessons and more are available.
URL:https://statelinekids.com/event/dolphin-swim-club-fun-fair/
LOCATION:Dolphin Swim Club\, 6501 Rock Valley Pkwy\, Loves Park\, IL\, United States
CATEGORIES:Loves Park
END:VEVENT
BEGIN:VEVENT
DTSTART;TZID=America/Chicago:20190831T170000
DTEND;TZID=America/Chicago:20190831T210000
DTSTAMP:20260420T220331
CREATED:20190825T155636Z
LAST-MODIFIED:20190825T155636Z
UID:7120-1567270800-1567285200@statelinekids.com
SUMMARY:Parents Night Out - Splashapalooza
DESCRIPTION:Kids can be dropped off for pizza\, swimming\, crafts\, and watching Moana. \nCost: $29 per child
URL:https://statelinekids.com/event/parents-night-out-splashapalooza/
LOCATION:Dolphin Swim Club\, 6501 Rock Valley Pkwy\, Loves Park\, IL\, United States
CATEGORIES:Loves Park
END:VEVENT
BEGIN:VEVENT
DTSTART;TZID=America/Chicago:20191116T160000
DTEND;TZID=America/Chicago:20191116T210000
DTSTAMP:20260420T220331
CREATED:20191110T212517Z
LAST-MODIFIED:20191110T212517Z
UID:8508-1573920000-1573938000@statelinekids.com
SUMMARY:Aladdin Parent’s Night Out
DESCRIPTION:Kids ages 3 and up can attend a parent’s night out. Kids 3-5 will go to Sapora while kids 6 and up will swim at Dolphin. All kids will eat dinner\, make dessert and crafts and watch Aladdin. \nCost is $29 per child
URL:https://statelinekids.com/event/aladdin-parents-night-out/
LOCATION:Dolphin Swim Club\, 6501 Rock Valley Pkwy\, Loves Park\, IL\, United States
CATEGORIES:Loves Park
END:VEVENT
BEGIN:VEVENT
DTSTART;TZID=America/Chicago:20200126T130000
DTEND;TZID=America/Chicago:20200126T150000
DTSTAMP:20260420T220331
CREATED:20200119T180506Z
LAST-MODIFIED:20200119T180506Z
UID:9507-1580043600-1580050800@statelinekids.com
SUMMARY:Open Swim at YMCA
DESCRIPTION:Enjoy an open swim. Kids must be accompanied by an adult. \nCost is $3 per person or $10 per family of 4\, free for YMCA members
URL:https://statelinekids.com/event/open-swim-at-ymca/
LOCATION:Beloit YMCA\, 501 Third St.\, Beloit\, WI\, United States
CATEGORIES:Beloit
END:VEVENT
BEGIN:VEVENT
DTSTART;TZID=America/Chicago:20200201T173000
DTEND;TZID=America/Chicago:20200201T213000
DTSTAMP:20260420T220331
CREATED:20200125T222619Z
LAST-MODIFIED:20200125T222619Z
UID:9593-1580578200-1580592600@statelinekids.com
SUMMARY:Harry Potter Parent’s Night Out at Stateline Family YMCA
DESCRIPTION:Drop your kids off for Harry Potter themed activities\, swimming\, and pizza for dinner. This event is for ages 3-12. Register here. \nCost: $20 for members\, $30 for non-members
URL:https://statelinekids.com/event/harry-potter-parents-night-out-at-stateline-family-ymca/
LOCATION:Stateline Family YMCA\, 501 Third Street\, Beloit\, WI\, United States
CATEGORIES:Beloit
END:VEVENT
BEGIN:VEVENT
DTSTART;TZID=America/Chicago:20200215T160000
DTEND;TZID=America/Chicago:20200215T210000
DTSTAMP:20260420T220331
CREATED:20200208T230534Z
LAST-MODIFIED:20200208T230534Z
UID:9751-1581782400-1581800400@statelinekids.com
SUMMARY:Parents Night Out at Dolphin Swim Club
DESCRIPTION:Kids ages 4-12 can swim\, play at Sapora\, watch a movie and enjoy a pizza. More Parent’s Night Out here. \nCost: $25 for the first child\, $20 for additional kids
URL:https://statelinekids.com/event/parents-night-out-at-dolphin-swim-club-2/
LOCATION:Dolphin Swim Club\, 6501 Rock Valley Pkwy\, Loves Park\, IL\, United States
CATEGORIES:Loves Park
END:VEVENT
BEGIN:VEVENT
DTSTART;TZID=America/Chicago:20200307T173000
DTEND;TZID=America/Chicago:20200307T213000
DTSTAMP:20260420T220331
CREATED:20200229T183354Z
LAST-MODIFIED:20200229T183354Z
UID:10022-1583602200-1583616600@statelinekids.com
SUMMARY:Parent’s Night Out - Fun with Legos
DESCRIPTION:Kids ages 3-12 can enjoy a night out of games\, swimming\, and pizza. Register here. \nCost: $20 per member\, $30 per non-members
URL:https://statelinekids.com/event/parents-night-out-fun-with-legos/
LOCATION:Stateline Family YMCA\, 501 Third Street\, Beloit\, WI\, United States
CATEGORIES:Beloit
END:VEVENT
BEGIN:VEVENT
DTSTART;TZID=America/Chicago:20200314T093000
DTEND;TZID=America/Chicago:20200314T123000
DTSTAMP:20260420T220331
CREATED:20200307T183729Z
LAST-MODIFIED:20200314T040943Z
UID:10140-1584178200-1584189000@statelinekids.com
SUMMARY:CANCELED: Stateline Strong Kids Triathlon
DESCRIPTION:Kids ages 7-12 can compete in a youth triathlon of swimming\, biking\, and running and recieve a t-shirt. Register here by March 8th. \nCost is $20 per child
URL:https://statelinekids.com/event/stateline-strong-kids-triathlon/
LOCATION:Stateline Family YMCA\, 501 Third Street\, Beloit\, WI\, United States
CATEGORIES:Beloit
END:VEVENT
BEGIN:VEVENT
DTSTART;TZID=America/Chicago:20200314T160000
DTEND;TZID=America/Chicago:20200314T210000
DTSTAMP:20260420T220331
CREATED:20200307T175515Z
LAST-MODIFIED:20200307T175515Z
UID:10115-1584201600-1584219600@statelinekids.com
SUMMARY:Parent Night Out at Dolphin Swim Club
DESCRIPTION:Kids ages 3 and up can be dropped off for a fun night of Sapora\, swimming\, pizza\, and shamrock crafts. \nCost: $25 for first child\, $20 for additional children
URL:https://statelinekids.com/event/parent-night-out-at-dolphin-swim-club/
LOCATION:Dolphin Swim Club\, 6501 Rock Valley Pkwy\, Loves Park\, IL\, United States
CATEGORIES:Loves Park
END:VEVENT
BEGIN:VEVENT
DTSTART;TZID=America/Chicago:20211105T181500
DTEND;TZID=America/Chicago:20211105T210000
DTSTAMP:20260420T220331
CREATED:20211031T160500Z
LAST-MODIFIED:20211031T160500Z
UID:18081-1636136100-1636146000@statelinekids.com
SUMMARY:Parents Night Out
DESCRIPTION:Kids will have a swim lesson\, pool time\, pizza\, arts and crafts\, games\, a movie\, and more. Get tickets here. \nCost: $30 per child (current or previous CTW members)
URL:https://statelinekids.com/event/parents-night-out-7/
LOCATION:Catch the Wave Swim Club\, 1917 Blackhawk Blvd.\, South Beloit\, IL\, United States
CATEGORIES:South Beloit
END:VEVENT
BEGIN:VEVENT
DTSTART;TZID=America/Chicago:20211204T120000
DTEND;TZID=America/Chicago:20211204T143000
DTSTAMP:20260420T220331
CREATED:20211128T205109Z
LAST-MODIFIED:20211128T205109Z
UID:18404-1638619200-1638628200@statelinekids.com
SUMMARY:Swim with Santa
DESCRIPTION:Kids can swim with Santa in the zero depth pool. Call 608-754-9622 to register. \nCost: Free to members / $5 per child \n 
URL:https://statelinekids.com/event/swim-with-santa/
LOCATION:Janesville YMCA\, 221 Dodge St.\, Janesville\, WI\, United States
CATEGORIES:Janesville
END:VEVENT
BEGIN:VEVENT
DTSTART;TZID=America/Chicago:20211211T173000
DTEND;TZID=America/Chicago:20211211T213000
DTSTAMP:20260420T220331
CREATED:20211205T213722Z
LAST-MODIFIED:20211205T213722Z
UID:18502-1639243800-1639258200@statelinekids.com
SUMMARY:Parent’s Night Out - Reindeer Games
DESCRIPTION:Drop the kids off for a parent’s night out for kids 3-12. Kids will swim\, do themed activities\, watch a movie\, and have a snack. Register here. \nCost: $25 for members / $35 for non-members / $5 for each additional family member
URL:https://statelinekids.com/event/parents-night-out-reindeer-games/
LOCATION:Stateline Family YMCA\, 501 Third Street\, Beloit\, WI\, United States
CATEGORIES:Beloit
END:VEVENT
BEGIN:VEVENT
DTSTART;TZID=America/Chicago:20220709T173000
DTEND;TZID=America/Chicago:20220709T213000
DTSTAMP:20260420T220331
CREATED:20220703T183942Z
LAST-MODIFIED:20220703T183942Z
UID:22310-1657387800-1657402200@statelinekids.com
SUMMARY:Parent’s Night Out: Party in the USA
DESCRIPTION:Kids ages 3-12 can enjoy themed activities and fun while parents have a night out. Register here.
URL:https://statelinekids.com/event/parents-night-out-party-in-the-usa/
LOCATION:Beloit YMCA\, 501 Third St.\, Beloit\, WI\, United States
CATEGORIES:Beloit
END:VEVENT
BEGIN:VEVENT
DTSTART;TZID=America/Chicago:20220719T183000
DTEND;TZID=America/Chicago:20220719T203000
DTSTAMP:20260420T220331
CREATED:20220707T172417Z
LAST-MODIFIED:20220707T172418Z
UID:22402-1658255400-1658262600@statelinekids.com
SUMMARY:NSLD Family Pool Party
DESCRIPTION:Enjoy an evening of swimming at Walt Williamson pool in Rockont. No registration required. All ages welcome.
URL:https://statelinekids.com/event/nsld-family-pool-party/
LOCATION:Walt Williamson Pool\, 100 East Chapel Street\, Rockton\, IL\, United States
CATEGORIES:Rockton
ATTACH;FMTTYPE=image/png:https://statelinekids.com/wp-content/uploads/2022/07/pool-party.png
END:VEVENT
BEGIN:VEVENT
DTSTART;TZID=America/Chicago:20221112T173000
DTEND;TZID=America/Chicago:20221112T213000
DTSTAMP:20260420T220331
CREATED:20221030T200652Z
LAST-MODIFIED:20221030T200652Z
UID:24734-1668274200-1668288600@statelinekids.com
SUMMARY:Parent’s Night Out - Happy Harvest
DESCRIPTION:Kids ages 3-12 can be dropped off to enjoy an evening of fun and swimming while parents have a night out. Register here. \nCost: $26 for members / $38 for non-members
URL:https://statelinekids.com/event/parents-night-out-happy-harvest/
LOCATION:Stateline Family YMCA\, 501 Third Street\, Beloit\, WI\, United States
CATEGORIES:Beloit
END:VEVENT
BEGIN:VEVENT
DTSTART;TZID=America/Chicago:20221203T120000
DTEND;TZID=America/Chicago:20221203T150000
DTSTAMP:20260420T220331
CREATED:20221127T184022Z
LAST-MODIFIED:20221127T184022Z
UID:25125-1670068800-1670079600@statelinekids.com
SUMMARY:Swim with Santa
DESCRIPTION:Kids can swim for a 45 minute block with Santa. Register here. \nCost: $5 per person
URL:https://statelinekids.com/event/swim-with-santa-2/
LOCATION:YMCA of Northern Rock County\, 221 Dodge St.\, Janesville\, WI\, United States
CATEGORIES:Janesville
END:VEVENT
BEGIN:VEVENT
DTSTART;TZID=America/Chicago:20230108T070000
DTEND;TZID=America/Chicago:20230108T170000
DTSTAMP:20260420T220331
CREATED:20221224T204503Z
LAST-MODIFIED:20221224T204503Z
UID:25462-1673161200-1673197200@statelinekids.com
SUMMARY:Community Day
DESCRIPTION:Work out for free with family open gym and swim.
URL:https://statelinekids.com/event/community-day/
LOCATION:Woodstock Recreation Center\, 820 Lake Ave.\, Woodstock\, IL\, United States
CATEGORIES:Woodstock
END:VEVENT
END:VCALENDAR