BEGIN:VCALENDAR
VERSION:2.0
PRODID:-//Stateline Kids - ECPv6.5.1.3//NONSGML v1.0//EN
CALSCALE:GREGORIAN
METHOD:PUBLISH
X-ORIGINAL-URL:https://statelinekids.com
X-WR-CALDESC:Events for Stateline Kids
REFRESH-INTERVAL;VALUE=DURATION:PT1H
X-Robots-Tag:noindex
X-PUBLISHED-TTL:PT1H
BEGIN:VTIMEZONE
TZID:America/Chicago
BEGIN:DAYLIGHT
TZOFFSETFROM:-0600
TZOFFSETTO:-0500
TZNAME:CDT
DTSTART:20180311T080000
END:DAYLIGHT
BEGIN:STANDARD
TZOFFSETFROM:-0500
TZOFFSETTO:-0600
TZNAME:CST
DTSTART:20181104T070000
END:STANDARD
BEGIN:DAYLIGHT
TZOFFSETFROM:-0600
TZOFFSETTO:-0500
TZNAME:CDT
DTSTART:20190310T080000
END:DAYLIGHT
BEGIN:STANDARD
TZOFFSETFROM:-0500
TZOFFSETTO:-0600
TZNAME:CST
DTSTART:20191103T070000
END:STANDARD
BEGIN:DAYLIGHT
TZOFFSETFROM:-0600
TZOFFSETTO:-0500
TZNAME:CDT
DTSTART:20200308T080000
END:DAYLIGHT
BEGIN:STANDARD
TZOFFSETFROM:-0500
TZOFFSETTO:-0600
TZNAME:CST
DTSTART:20201101T070000
END:STANDARD
BEGIN:DAYLIGHT
TZOFFSETFROM:-0600
TZOFFSETTO:-0500
TZNAME:CDT
DTSTART:20210314T080000
END:DAYLIGHT
BEGIN:STANDARD
TZOFFSETFROM:-0500
TZOFFSETTO:-0600
TZNAME:CST
DTSTART:20211107T070000
END:STANDARD
BEGIN:DAYLIGHT
TZOFFSETFROM:-0600
TZOFFSETTO:-0500
TZNAME:CDT
DTSTART:20220313T080000
END:DAYLIGHT
BEGIN:STANDARD
TZOFFSETFROM:-0500
TZOFFSETTO:-0600
TZNAME:CST
DTSTART:20221106T070000
END:STANDARD
BEGIN:DAYLIGHT
TZOFFSETFROM:-0600
TZOFFSETTO:-0500
TZNAME:CDT
DTSTART:20230312T080000
END:DAYLIGHT
BEGIN:STANDARD
TZOFFSETFROM:-0500
TZOFFSETTO:-0600
TZNAME:CST
DTSTART:20231105T070000
END:STANDARD
END:VTIMEZONE
BEGIN:VEVENT
DTSTART;TZID=America/Chicago:20180718T120000
DTEND;TZID=America/Chicago:20180718T130000
DTSTAMP:20260423T173751
CREATED:20180707T021009Z
LAST-MODIFIED:20180707T021009Z
UID:679-1531915200-1531918800@statelinekids.com
SUMMARY:Superhero Lunch in the Gardens
DESCRIPTION:Pack your picnic lunch and join us for a Superhero Lunch in the Garden. Allow yourself and your children to relax and enjoy the beautiful and updated grounds of the arboretum while listening to a story from your favorite superhero Spiderman and Wonder of Woman. Time for photos is always included. Event located in the Fountain Garden. Tickets must be purchased in advance. \nIf inclement weather\, event will be held inside. \n$15 per child\, Parents and children 2 and under are free.
URL:https://statelinekids.com/event/superhero-lunch-in-the-gardens/
LOCATION:Klehm Arboretum and Botanic Garden\, 2715 S Main St\,\, Rockford\, IL\, United States
CATEGORIES:Rockford
END:VEVENT
BEGIN:VEVENT
DTSTART;TZID=America/Chicago:20180907T183000
DTEND;TZID=America/Chicago:20180907T193000
DTSTAMP:20260423T173751
CREATED:20180907T123928Z
LAST-MODIFIED:20180907T123928Z
UID:2466-1536345000-1536348600@statelinekids.com
SUMMARY:Family Night: Comic Book Night
DESCRIPTION:Come to the library to write your own comic book\, make bat signals\, and superhero slime.
URL:https://statelinekids.com/event/family-night-comic-book-night/
LOCATION:Ida Public Library\, 320 N State Street\, Belvidere\, IL\, United States
CATEGORIES:Belvidere
END:VEVENT
BEGIN:VEVENT
DTSTART;TZID=America/Chicago:20190904T163000
DTEND;TZID=America/Chicago:20190904T180000
DTSTAMP:20260423T173751
CREATED:20190901T142035Z
LAST-MODIFIED:20190901T142116Z
UID:7226-1567614600-1567620000@statelinekids.com
SUMMARY:Fairy Tales and Friends Wednesday Afternoon Sessions
DESCRIPTION:Grab a complimentary cup of coffee\, sit back and watch as the little ones engage in imaginative free play at our Royal Tea Room. Each “Fairy Tales and Friends” session also includes a story time with a different princess or super hero. \nKids 2 and older cost $15\, adults and babies under 2 and free. Register here.
URL:https://statelinekids.com/event/fairy-tales-and-friends-wednesday-afternoon-sessions/
LOCATION:Once Upon a Dream Royal Tea Room\, 415 N. Church St.\, Rockford\, IL\, United States
CATEGORIES:Rockford
END:VEVENT
BEGIN:VEVENT
DTSTART;TZID=America/Chicago:20190911T163000
DTEND;TZID=America/Chicago:20190911T180000
DTSTAMP:20260423T173751
CREATED:20190908T012704Z
LAST-MODIFIED:20190908T012704Z
UID:7327-1568219400-1568224800@statelinekids.com
SUMMARY:Fairy Tales and Friends
DESCRIPTION:Kids will listen to a story told by a princess or superhero. Register here.
URL:https://statelinekids.com/event/fairy-tales-and-friends/
LOCATION:Once Upon a Dream Royal Tea Room\, 415 N. Church St.\, Rockford\, IL\, United States
CATEGORIES:Rockford
END:VEVENT
BEGIN:VEVENT
DTSTART;TZID=America/Chicago:20190925T163000
DTEND;TZID=America/Chicago:20190925T180000
DTSTAMP:20260423T173751
CREATED:20190921T185707Z
LAST-MODIFIED:20190921T185707Z
UID:7552-1569429000-1569434400@statelinekids.com
SUMMARY:Fairy Tales and Friends
DESCRIPTION:Kids will listen to a story told by a princess or superhero. Register here.
URL:https://statelinekids.com/event/fairy-tales-and-friends-3/
LOCATION:Once Upon a Dream Royal Tea Room\, 415 N. Church St.\, Rockford\, IL\, United States
CATEGORIES:Rockford
END:VEVENT
BEGIN:VEVENT
DTSTART;TZID=America/Chicago:20191002T163000
DTEND;TZID=America/Chicago:20191002T180000
DTSTAMP:20260423T173751
CREATED:20190929T125434Z
LAST-MODIFIED:20190929T125434Z
UID:7615-1570033800-1570039200@statelinekids.com
SUMMARY:Fairy Tales and Friends
DESCRIPTION:Kids will listen to a story told by a princess or superhero. Register here.
URL:https://statelinekids.com/event/fairy-tales-and-friends-4/
LOCATION:Once Upon a Dream Royal Tea Room\, 415 N. Church St.\, Rockford\, IL\, United States
CATEGORIES:Rockford
END:VEVENT
BEGIN:VEVENT
DTSTART;TZID=America/Chicago:20191022T170000
DTEND;TZID=America/Chicago:20191022T190000
DTSTAMP:20260423T173751
CREATED:20191020T172945Z
LAST-MODIFIED:20191020T172945Z
UID:8144-1571763600-1571770800@statelinekids.com
SUMMARY:Action Hero Night at Chick-fil-A
DESCRIPTION:Come dressed as a superhero to get a free Ice Dream.
URL:https://statelinekids.com/event/action-hero-night-at-chick-fil-a/
LOCATION:Chick-fil-A\, 280 N Perryville Rd\, Rockford\, IL\, United States
CATEGORIES:Rockford
END:VEVENT
BEGIN:VEVENT
DTSTART;TZID=America/Chicago:20210709T100000
DTEND;TZID=America/Chicago:20210709T150000
DTSTAMP:20260423T173751
CREATED:20210704T202939Z
LAST-MODIFIED:20210704T202939Z
UID:16554-1625824800-1625842800@statelinekids.com
SUMMARY:Princess and Superhero Day
DESCRIPTION:Kids can design a mask or crown\, magic wand\, and superhero shield. Reserve your spot here. \nCost: $9 per person over 1 year old / free for kids under 1 / free for members
URL:https://statelinekids.com/event/princess-and-superhero-day/
LOCATION:Discovery Center\, 711 N Main St\, Rockford\, IL\, 61103\, United States
CATEGORIES:Rockford
END:VEVENT
BEGIN:VEVENT
DTSTART;TZID=America/Chicago:20220708T100000
DTEND;TZID=America/Chicago:20220708T150000
DTSTAMP:20260423T173751
CREATED:20220612T174153Z
LAST-MODIFIED:20220612T174153Z
UID:20994-1657274400-1657292400@statelinekids.com
SUMMARY:Family Friday: Superheroes Unite
DESCRIPTION:Put on your cape and tune up your spidey senses for this day of “super” fun! Ignite your super powers for incredible feats and amazing heroics. Outwit evil\, capture crooks\, explore x-ray vision\, dodge dangers\, and more. Come in costume…your super identity is safe with us!
URL:https://statelinekids.com/event/family-friday-superheroes-unite/
LOCATION:Discovery Center\, 711 N Main St\, Rockford\, IL\, 61103\, United States
CATEGORIES:Rockford
END:VEVENT
BEGIN:VEVENT
DTSTART;TZID=America/Chicago:20221022T110000
DTEND;TZID=America/Chicago:20221022T130000
DTSTAMP:20260423T173751
CREATED:20221016T210811Z
LAST-MODIFIED:20221016T210811Z
UID:24352-1666436400-1666443600@statelinekids.com
SUMMARY:Superhero Day
DESCRIPTION:Kids can paint boards\, meet superheroes\, and get their faces painted. Get tickets here.
URL:https://statelinekids.com/event/superhero-day/
LOCATION:Erica’s Board Creations\, 122 S. Prairie St.\, Rockton\, IL\, United States
CATEGORIES:Rockton
END:VEVENT
BEGIN:VEVENT
DTSTART;TZID=America/Chicago:20230721T100000
DTEND;TZID=America/Chicago:20230721T143000
DTSTAMP:20260423T173751
CREATED:20230703T232615Z
LAST-MODIFIED:20230703T232615Z
UID:29263-1689933600-1689949800@statelinekids.com
SUMMARY:Community Superheroes to the Rescue
DESCRIPTION:Wear your favorite superhero costume and join our gathering of community superheroes. Meet REAL emergency first responders and explore the science our community heroes use every day. Learn about fingerprinting\, use microscopes like a forensic scientist and explore fire science in our live demonstrations. If it doesn’t get called for an emergency\, you can even get up close to the Mercyhealth REACT helicopter in our parking lot! All activities included with museum admission: $10/person for the Public; FREE to museum members and all children ages one and younger.
URL:https://statelinekids.com/event/community-superheroes-to-the-rescue/
LOCATION:Discovery Center\, 711 N Main St\, Rockford\, IL\, 61103\, United States
CATEGORIES:Rockford
END:VEVENT
END:VCALENDAR