BEGIN:VCALENDAR
VERSION:2.0
PRODID:-//Stateline Kids - ECPv6.5.1.3//NONSGML v1.0//EN
CALSCALE:GREGORIAN
METHOD:PUBLISH
X-WR-CALNAME:Stateline Kids
X-ORIGINAL-URL:https://statelinekids.com
X-WR-CALDESC:Events for Stateline Kids
REFRESH-INTERVAL;VALUE=DURATION:PT1H
X-Robots-Tag:noindex
X-PUBLISHED-TTL:PT1H
BEGIN:VTIMEZONE
TZID:America/Chicago
BEGIN:DAYLIGHT
TZOFFSETFROM:-0600
TZOFFSETTO:-0500
TZNAME:CDT
DTSTART:20230312T080000
END:DAYLIGHT
BEGIN:STANDARD
TZOFFSETFROM:-0500
TZOFFSETTO:-0600
TZNAME:CST
DTSTART:20231105T070000
END:STANDARD
END:VTIMEZONE
BEGIN:VEVENT
DTSTART;TZID=America/Chicago:20231004T173000
DTEND;TZID=America/Chicago:20231004T193000
DTSTAMP:20260423T090956
CREATED:20230930T165833Z
LAST-MODIFIED:20230930T165833Z
UID:30961-1696440600-1696447800@statelinekids.com
SUMMARY:Family Movie Night: The Super Mario Movie
DESCRIPTION:Come in PJs and watch The Super Mario Bros movie. Popcorn will be provided. Register here.
URL:https://statelinekids.com/event/family-movie-night-the-super-mario-movie/
LOCATION:Cherry Valley Public Library\, 755 E. State St\, Cherry Valley\, IL\, United States
CATEGORIES:Cherry Valley
END:VEVENT
END:VCALENDAR