BEGIN:VCALENDAR
VERSION:2.0
PRODID:-//Stateline Kids - ECPv6.5.1.3//NONSGML v1.0//EN
CALSCALE:GREGORIAN
METHOD:PUBLISH
X-WR-CALNAME:Stateline Kids
X-ORIGINAL-URL:https://statelinekids.com
X-WR-CALDESC:Events for Stateline Kids
REFRESH-INTERVAL;VALUE=DURATION:PT1H
X-Robots-Tag:noindex
X-PUBLISHED-TTL:PT1H
BEGIN:VTIMEZONE
TZID:America/Chicago
BEGIN:DAYLIGHT
TZOFFSETFROM:-0600
TZOFFSETTO:-0500
TZNAME:CDT
DTSTART:20190310T080000
END:DAYLIGHT
BEGIN:STANDARD
TZOFFSETFROM:-0500
TZOFFSETTO:-0600
TZNAME:CST
DTSTART:20191103T070000
END:STANDARD
BEGIN:DAYLIGHT
TZOFFSETFROM:-0600
TZOFFSETTO:-0500
TZNAME:CDT
DTSTART:20200308T080000
END:DAYLIGHT
BEGIN:STANDARD
TZOFFSETFROM:-0500
TZOFFSETTO:-0600
TZNAME:CST
DTSTART:20201101T070000
END:STANDARD
BEGIN:DAYLIGHT
TZOFFSETFROM:-0600
TZOFFSETTO:-0500
TZNAME:CDT
DTSTART:20210314T080000
END:DAYLIGHT
BEGIN:STANDARD
TZOFFSETFROM:-0500
TZOFFSETTO:-0600
TZNAME:CST
DTSTART:20211107T070000
END:STANDARD
BEGIN:DAYLIGHT
TZOFFSETFROM:-0600
TZOFFSETTO:-0500
TZNAME:CDT
DTSTART:20220313T080000
END:DAYLIGHT
BEGIN:STANDARD
TZOFFSETFROM:-0500
TZOFFSETTO:-0600
TZNAME:CST
DTSTART:20221106T070000
END:STANDARD
BEGIN:DAYLIGHT
TZOFFSETFROM:-0600
TZOFFSETTO:-0500
TZNAME:CDT
DTSTART:20230312T080000
END:DAYLIGHT
BEGIN:STANDARD
TZOFFSETFROM:-0500
TZOFFSETTO:-0600
TZNAME:CST
DTSTART:20231105T070000
END:STANDARD
END:VTIMEZONE
BEGIN:VEVENT
DTSTART;TZID=America/Chicago:20190316T143000
DTEND;TZID=America/Chicago:20190316T160000
DTSTAMP:20260424T175221
CREATED:20190312T033610Z
LAST-MODIFIED:20190312T033610Z
UID:5108-1552746600-1552752000@statelinekids.com
SUMMARY:All Things St. Patrick’s
DESCRIPTION:Learn about rainbows\, search for a leprechaun’s lost gold\, make St. Patrick’s Day cookies\, play games and make a leprechaun home. All ages welcome. Register here.
URL:https://statelinekids.com/event/all-things-st-patricks/
LOCATION:Welty Environmental Center\, 1201 Big Hill Ct\, Beloit\, WI\, United States
CATEGORIES:Beloit
END:VEVENT
BEGIN:VEVENT
DTSTART;TZID=America/Chicago:20230304T090000
DTEND;TZID=America/Chicago:20230304T140000
DTSTAMP:20260424T175221
CREATED:20230225T181833Z
LAST-MODIFIED:20230225T181833Z
UID:26608-1677920400-1677938400@statelinekids.com
SUMMARY:St. Patrick’s / Easter Walk - In Make and Take
DESCRIPTION:Stop in to paint a St. Patrick’s\, Easter\, Home themed\, or gnome boards.
URL:https://statelinekids.com/event/st-patricks-easter-walk-in-make-and-take/
LOCATION:Bristle and Timber\, 6140 E. Riverside Blvd.\, Loves Park\, IL\, United States
CATEGORIES:Loves Park
END:VEVENT
BEGIN:VEVENT
DTSTART;TZID=America/Chicago:20230311T100000
DTEND;TZID=America/Chicago:20230311T113000
DTSTAMP:20260424T175221
CREATED:20230304T222816Z
LAST-MODIFIED:20230304T222816Z
UID:26743-1678528800-1678534200@statelinekids.com
SUMMARY:St. Patrick’s Day Paint and Story Time
DESCRIPTION:Kids ages 3-10 can listen to a leprechaun-themed story and paint a rainbow plate. Get tickets here.
URL:https://statelinekids.com/event/st-patricks-day-paint-and-story-time/
LOCATION:The Pottery Lounge\, 312 N. Alpine Road Suite 104\, Rockford\, IL\, United States
CATEGORIES:Rockford
END:VEVENT
BEGIN:VEVENT
DTSTART;TZID=America/Chicago:20230311T160000
DTEND;TZID=America/Chicago:20230311T193000
DTSTAMP:20260424T175221
CREATED:20230304T222330Z
LAST-MODIFIED:20230304T222330Z
UID:26738-1678550400-1678563000@statelinekids.com
SUMMARY:Paddyfest 2023
DESCRIPTION:Enjoy live music\, food\, and more in celebration of St. Patrick’s Day. Get tickets here. \nCost: $10 per person / free for kids ages 14 and under
URL:https://statelinekids.com/event/paddyfest-2023/
LOCATION:The Standard\, 214 E. State St.\, Rockford\, IL\, United States
CATEGORIES:Rockford
END:VEVENT
END:VCALENDAR