BEGIN:VCALENDAR
VERSION:2.0
PRODID:-//Stateline Kids - ECPv6.5.1.3//NONSGML v1.0//EN
CALSCALE:GREGORIAN
METHOD:PUBLISH
X-WR-CALNAME:Stateline Kids
X-ORIGINAL-URL:https://statelinekids.com
X-WR-CALDESC:Events for Stateline Kids
REFRESH-INTERVAL;VALUE=DURATION:PT1H
X-Robots-Tag:noindex
X-PUBLISHED-TTL:PT1H
BEGIN:VTIMEZONE
TZID:America/Chicago
BEGIN:DAYLIGHT
TZOFFSETFROM:-0600
TZOFFSETTO:-0500
TZNAME:CDT
DTSTART:20190310T080000
END:DAYLIGHT
BEGIN:STANDARD
TZOFFSETFROM:-0500
TZOFFSETTO:-0600
TZNAME:CST
DTSTART:20191103T070000
END:STANDARD
BEGIN:DAYLIGHT
TZOFFSETFROM:-0600
TZOFFSETTO:-0500
TZNAME:CDT
DTSTART:20200308T080000
END:DAYLIGHT
BEGIN:STANDARD
TZOFFSETFROM:-0500
TZOFFSETTO:-0600
TZNAME:CST
DTSTART:20201101T070000
END:STANDARD
BEGIN:DAYLIGHT
TZOFFSETFROM:-0600
TZOFFSETTO:-0500
TZNAME:CDT
DTSTART:20210314T080000
END:DAYLIGHT
BEGIN:STANDARD
TZOFFSETFROM:-0500
TZOFFSETTO:-0600
TZNAME:CST
DTSTART:20211107T070000
END:STANDARD
BEGIN:DAYLIGHT
TZOFFSETFROM:-0600
TZOFFSETTO:-0500
TZNAME:CDT
DTSTART:20220313T080000
END:DAYLIGHT
BEGIN:STANDARD
TZOFFSETFROM:-0500
TZOFFSETTO:-0600
TZNAME:CST
DTSTART:20221106T070000
END:STANDARD
BEGIN:DAYLIGHT
TZOFFSETFROM:-0600
TZOFFSETTO:-0500
TZNAME:CDT
DTSTART:20230312T080000
END:DAYLIGHT
BEGIN:STANDARD
TZOFFSETFROM:-0500
TZOFFSETTO:-0600
TZNAME:CST
DTSTART:20231105T070000
END:STANDARD
BEGIN:DAYLIGHT
TZOFFSETFROM:-0600
TZOFFSETTO:-0500
TZNAME:CDT
DTSTART:20240310T080000
END:DAYLIGHT
BEGIN:STANDARD
TZOFFSETFROM:-0500
TZOFFSETTO:-0600
TZNAME:CST
DTSTART:20241103T070000
END:STANDARD
BEGIN:DAYLIGHT
TZOFFSETFROM:-0600
TZOFFSETTO:-0500
TZNAME:CDT
DTSTART:20250309T080000
END:DAYLIGHT
BEGIN:STANDARD
TZOFFSETFROM:-0500
TZOFFSETTO:-0600
TZNAME:CST
DTSTART:20251102T070000
END:STANDARD
END:VTIMEZONE
BEGIN:VEVENT
DTSTART;VALUE=DATE:20190223
DTEND;VALUE=DATE:20190225
DTSTAMP:20260425T130939
CREATED:20190206T194031Z
LAST-MODIFIED:20190207T013938Z
UID:4778-1550880000-1551052799@statelinekids.com
SUMMARY:Mini-Golf in the Library and Silent Auction
DESCRIPTION:The Cherry Valley Public Library is transforming into a miniature golf course on Sat.\, Feb. 23 and Sun.\, Feb. 24 for their seventh annual “Mini-Golf in the Library and Silent Auction” fundraiser. \nFor $5.00 each\, young and old alike can test out their putting skills on the nine holes arranged throughout the aisles and bookshelves in the library. Ages three and under are free with a paying adult! Tee times are available on Sat. from 10:00 am to 4:00 pm and on Sun. from 1:00 to 4:00 pm. To reserve your tee time\, call the library at 815-332-5161. Everyone is welcome…no library card is needed! \nRefreshments will be available for purchase on both days and over 100 Silent Auction items will be displayed for bids until 4:00 pm on Sunday. If mini-golf isn’t your thing\, then come for lunch or a snack and stay to browse and bid on the silent auction goodies. On Saturday\, there will be Salamone’s pizza by the slice and Cold Stone Creamery on both days in addition to other snacks. \nItems up for auction include baskets with gift certificates from local restaurants and businesses\, tickets to a variety of entertainment venues\, and some beautiful handcrafted items. Proceeds will go toward a building expansion which will include a youth services program room and drive-up book return.
URL:https://statelinekids.com/event/mini-golf-in-the-library-and-silent-auction/
LOCATION:Cherry Valley Public Library\, 755 E. State St\, Cherry Valley\, IL\, United States
CATEGORIES:Cherry Valley
ATTACH;FMTTYPE=image/png:https://statelinekids.com/wp-content/uploads/2019/02/facebook-mini-golf-poster2-1.png
END:VEVENT
BEGIN:VEVENT
DTSTART;TZID=America/Chicago:20200223T130000
DTEND;TZID=America/Chicago:20200223T160000
DTSTAMP:20260425T130939
CREATED:20200215T204305Z
LAST-MODIFIED:20200215T204513Z
UID:9819-1582462800-1582473600@statelinekids.com
SUMMARY:Mini Golf in the Library at CVPL
DESCRIPTION:Mini golf through the library and bid over a hundred silent auction items. Call 815-332-5161 to reserve your tee time. \nCost is $5 per person\, kids 3 and under are free with a paying adult
URL:https://statelinekids.com/event/mini-golf-in-the-library-at-cvpl-2/
LOCATION:Cherry Valley Public Library\, 755 E. State St\, Cherry Valley\, IL\, United States
CATEGORIES:Cherry Valley
END:VEVENT
BEGIN:VEVENT
DTSTART;TZID=America/Chicago:20230225T100000
DTEND;TZID=America/Chicago:20230225T160000
DTSTAMP:20260425T130939
CREATED:20230220T183157Z
LAST-MODIFIED:20230220T183158Z
UID:26591-1677319200-1677340800@statelinekids.com
SUMMARY:Mini Golf in the Library and Silent Auction
DESCRIPTION:Stop by the Cherry Valley Public Library this Saturday from 10 am – 4 pm and Sunday from 1 pm – 4 pm for the 11th annual Mini-Golf in the Library and Silent Auction! ⛳ \n\n\n \n\n\nBeat the winter blues by putting through the library on a newly designed nine-hole miniature golf course\, and grab some food and refreshments along the way. It’s fun for the whole family!\n\n\n \n\n\nGolfers can mini-putt through the indoor course for FREE! ?️‍♂️You can also bid on a huge variety of gift baskets and items in the Silent Auction that will culminate on Sunday evening.
URL:https://statelinekids.com/event/mini-golf-in-the-library-and-silent-auction-2/2023-02-25/
LOCATION:Cherry Valley Public Library\, 755 E. State St\, Cherry Valley\, IL\, United States
CATEGORIES:Cherry Valley
ATTACH;FMTTYPE=image/png:https://statelinekids.com/wp-content/uploads/2023/02/mini-golf-2021-flyer-10-×-6-in-1.png
END:VEVENT
BEGIN:VEVENT
DTSTART;TZID=America/Chicago:20240224T100000
DTEND;TZID=America/Chicago:20240224T160000
DTSTAMP:20260425T130939
CREATED:20240222T010627Z
LAST-MODIFIED:20240222T010627Z
UID:33575-1708768800-1708790400@statelinekids.com
SUMMARY:Mini-Golf at the Library & Silent Auction
DESCRIPTION:It’s time to hit the links at the library! Mini-putt through the newly designed nine-hole golf course for FREE. It’s fun for the whole family! \nA huge variety of gift baskets and items in the Silent Auction await your bidding throughout the weekend. And if you get hungry\, visit the snack bar\, where you can purchase ice cream sundaes\, cookies\, and other sweet treats!
URL:https://statelinekids.com/event/mini-golf-at-the-library-silent-auction/2024-02-24/
LOCATION:Cherry Valley Public Library\, 755 E. State St\, Cherry Valley\, IL\, United States
CATEGORIES:Cherry Valley
ATTACH;FMTTYPE=image/png:https://statelinekids.com/wp-content/uploads/2024/02/saturday-2.png
END:VEVENT
BEGIN:VEVENT
DTSTART;TZID=America/Chicago:20240224T100000
DTEND;TZID=America/Chicago:20240224T160000
DTSTAMP:20260425T130939
CREATED:20240218T191837Z
LAST-MODIFIED:20240218T191837Z
UID:33488-1708768800-1708790400@statelinekids.com
SUMMARY:Mini Golf in the Library
DESCRIPTION:Mini golf through the library around some of your favorite book and movie characters. Stop by the snack bar and silent auction before you go.
URL:https://statelinekids.com/event/mini-golf-in-the-library-2/2024-02-24/
LOCATION:Cherry Valley Public Library\, 755 E. State St\, Cherry Valley\, IL\, United States
CATEGORIES:Cherry Valley
END:VEVENT
BEGIN:VEVENT
DTSTART;TZID=America/Chicago:20240229T170000
DTEND;TZID=America/Chicago:20240229T200000
DTSTAMP:20260425T130939
CREATED:20240219T174732Z
LAST-MODIFIED:20240219T174732Z
UID:33539-1709226000-1709236800@statelinekids.com
SUMMARY:Artistry and Apps
DESCRIPTION:This gathering of emerging young artists promises to be an enchanting experience. Attendees will have the opportunity to witness the extraordinary talents of budding creatives while contributing to a significant cause. By participating in this event\, you’ll help support adaptive programming and other childcare needs at the Stateline Family YMCA\, which aims to provide safe and inclusive spaces for individuals to engage in physical activity and wellness programs. \nJoin us for silent auction\, delicious food\, and wonderful entertainment! \nGet tickets here.
URL:https://statelinekids.com/event/artistry-and-apps/
LOCATION:Beloit College\, 805 Pleasant St.\, Beloit\, WI\, United States
CATEGORIES:Beloit
ATTACH;FMTTYPE=image/png:https://statelinekids.com/wp-content/uploads/2024/02/Screen-Shot-2024-02-19-at-11.46.07-AM.png
END:VEVENT
BEGIN:VEVENT
DTSTART;TZID=America/Chicago:20250222T100000
DTEND;TZID=America/Chicago:20250222T160000
DTSTAMP:20260425T130939
CREATED:20250216T213207Z
LAST-MODIFIED:20250216T213207Z
UID:39671-1740218400-1740240000@statelinekids.com
SUMMARY:Cherry Valley Mini Golf at the Library
DESCRIPTION:You’re invited to the Cherry Valley Public Library’s Mini-Golf at the Library & Silent Auction! Mini-putt through the indoor course that features some of your favorite book and movie characters\, including Hello Kitty\, Super Mario\, and Wicked\, for FREE! Reservations for tee times are encouraged\, but drop-ins are also welcome.\n\nAfter your round of golf\, visit the snack bar where you can purchase treats. Don’t forget to bid on a huge variety of gift baskets and items in the Silent Auction\, which will culminate on Sunday evening.\n\nThe event will be open on Saturday\, February 22 from 10:00am to 4:00pm and Sunday\, February 23 from 1:00pm to 4:00pm.\n\nFor more info\, please visit: www.cherryvalleylib.org/wpcherryvalley/mini-golf-in-the-library-silent-auction/
URL:https://statelinekids.com/event/cherry-valley-mini-golf-at-the-library/2025-02-22/
LOCATION:Cherry Valley Public Library\, 755 E. State St\, Cherry Valley\, IL\, United States
CATEGORIES:Cherry Valley
ATTACH;FMTTYPE=image/jpeg:https://statelinekids.com/wp-content/uploads/2025/02/saturday-1-1.jpg
END:VEVENT
BEGIN:VEVENT
DTSTART;TZID=America/Chicago:20250223T130000
DTEND;TZID=America/Chicago:20250223T160000
DTSTAMP:20260425T130939
CREATED:20250216T213207Z
LAST-MODIFIED:20250216T213207Z
UID:39674-1740315600-1740326400@statelinekids.com
SUMMARY:Cherry Valley Mini Golf at the Library
DESCRIPTION:You’re invited to the Cherry Valley Public Library’s Mini-Golf at the Library & Silent Auction! Mini-putt through the indoor course that features some of your favorite book and movie characters\, including Hello Kitty\, Super Mario\, and Wicked\, for FREE! Reservations for tee times are encouraged\, but drop-ins are also welcome.\n\nAfter your round of golf\, visit the snack bar where you can purchase treats. Don’t forget to bid on a huge variety of gift baskets and items in the Silent Auction\, which will culminate on Sunday evening.\n\nThe event will be open on Saturday\, February 22 from 10:00am to 4:00pm and Sunday\, February 23 from 1:00pm to 4:00pm.\n\nFor more info\, please visit: www.cherryvalleylib.org/wpcherryvalley/mini-golf-in-the-library-silent-auction/
URL:https://statelinekids.com/event/cherry-valley-mini-golf-at-the-library/2025-02-23/
LOCATION:Cherry Valley Public Library\, 755 E. State St\, Cherry Valley\, IL\, United States
CATEGORIES:Cherry Valley
ATTACH;FMTTYPE=image/jpeg:https://statelinekids.com/wp-content/uploads/2025/02/saturday-1-1.jpg
END:VEVENT
END:VCALENDAR