BEGIN:VCALENDAR
VERSION:2.0
PRODID:-//Stateline Kids - ECPv6.5.1.3//NONSGML v1.0//EN
CALSCALE:GREGORIAN
METHOD:PUBLISH
X-WR-CALNAME:Stateline Kids
X-ORIGINAL-URL:https://statelinekids.com
X-WR-CALDESC:Events for Stateline Kids
REFRESH-INTERVAL;VALUE=DURATION:PT1H
X-Robots-Tag:noindex
X-PUBLISHED-TTL:PT1H
BEGIN:VTIMEZONE
TZID:America/Chicago
BEGIN:DAYLIGHT
TZOFFSETFROM:-0600
TZOFFSETTO:-0500
TZNAME:CDT
DTSTART:20230312T080000
END:DAYLIGHT
BEGIN:STANDARD
TZOFFSETFROM:-0500
TZOFFSETTO:-0600
TZNAME:CST
DTSTART:20231105T070000
END:STANDARD
BEGIN:DAYLIGHT
TZOFFSETFROM:-0600
TZOFFSETTO:-0500
TZNAME:CDT
DTSTART:20240310T080000
END:DAYLIGHT
BEGIN:STANDARD
TZOFFSETFROM:-0500
TZOFFSETTO:-0600
TZNAME:CST
DTSTART:20241103T070000
END:STANDARD
END:VTIMEZONE
BEGIN:VEVENT
DTSTART;TZID=America/Chicago:20230128T093000
DTEND;TZID=America/Chicago:20230128T110000
DTSTAMP:20260424T134444
CREATED:20230107T213616Z
LAST-MODIFIED:20230107T213617Z
UID:25739-1674898200-1674903600@statelinekids.com
SUMMARY:Family Shelter Building
DESCRIPTION:A great way to spend time together outdoors in the winter is to build a shelter! Join us in our shelter-building area to learn how to build an emergency shelter that will keep you out of the elements if you get separated from your group while out on a hiking adventure. Families with children ages 7 and up. Dress for the weather. \nCost: $10/member family; $15/non-member family. https://www.seversondells.com/calendar/familyshelterbuilding
URL:https://statelinekids.com/event/family-shelter-building-2/
LOCATION:Severson Dells Nature Center\, 8786 Montague Rd\, Rockford\, IL\, United States
CATEGORIES:Rockford
ATTACH;FMTTYPE=image/jpeg:https://statelinekids.com/wp-content/uploads/2023/01/FSB.jpg
END:VEVENT
BEGIN:VEVENT
DTSTART;TZID=America/Chicago:20240120T093000
DTEND;TZID=America/Chicago:20240120T110000
DTSTAMP:20260424T134444
CREATED:20240114T231506Z
LAST-MODIFIED:20240114T231506Z
UID:32991-1705743000-1705748400@statelinekids.com
SUMMARY:Family Shelter Building
DESCRIPTION:Kids ages 7 and up and families can build a shelter outdoors with natural elements. Sign up here.
URL:https://statelinekids.com/event/family-shelter-building-3/
LOCATION:Severson Dells Nature Center\, 8786 Montague Rd\, Rockford\, IL\, United States
CATEGORIES:Rockford
END:VEVENT
END:VCALENDAR