BEGIN:VCALENDAR
VERSION:2.0
PRODID:-//Stateline Kids - ECPv6.5.1.3//NONSGML v1.0//EN
CALSCALE:GREGORIAN
METHOD:PUBLISH
X-ORIGINAL-URL:https://statelinekids.com
X-WR-CALDESC:Events for Stateline Kids
REFRESH-INTERVAL;VALUE=DURATION:PT1H
X-Robots-Tag:noindex
X-PUBLISHED-TTL:PT1H
BEGIN:VTIMEZONE
TZID:America/Chicago
BEGIN:DAYLIGHT
TZOFFSETFROM:-0600
TZOFFSETTO:-0500
TZNAME:CDT
DTSTART:20180311T080000
END:DAYLIGHT
BEGIN:STANDARD
TZOFFSETFROM:-0500
TZOFFSETTO:-0600
TZNAME:CST
DTSTART:20181104T070000
END:STANDARD
BEGIN:DAYLIGHT
TZOFFSETFROM:-0600
TZOFFSETTO:-0500
TZNAME:CDT
DTSTART:20190310T080000
END:DAYLIGHT
BEGIN:STANDARD
TZOFFSETFROM:-0500
TZOFFSETTO:-0600
TZNAME:CST
DTSTART:20191103T070000
END:STANDARD
BEGIN:DAYLIGHT
TZOFFSETFROM:-0600
TZOFFSETTO:-0500
TZNAME:CDT
DTSTART:20200308T080000
END:DAYLIGHT
BEGIN:STANDARD
TZOFFSETFROM:-0500
TZOFFSETTO:-0600
TZNAME:CST
DTSTART:20201101T070000
END:STANDARD
BEGIN:DAYLIGHT
TZOFFSETFROM:-0600
TZOFFSETTO:-0500
TZNAME:CDT
DTSTART:20210314T080000
END:DAYLIGHT
BEGIN:STANDARD
TZOFFSETFROM:-0500
TZOFFSETTO:-0600
TZNAME:CST
DTSTART:20211107T070000
END:STANDARD
BEGIN:DAYLIGHT
TZOFFSETFROM:-0600
TZOFFSETTO:-0500
TZNAME:CDT
DTSTART:20220313T080000
END:DAYLIGHT
BEGIN:STANDARD
TZOFFSETFROM:-0500
TZOFFSETTO:-0600
TZNAME:CST
DTSTART:20221106T070000
END:STANDARD
BEGIN:DAYLIGHT
TZOFFSETFROM:-0600
TZOFFSETTO:-0500
TZNAME:CDT
DTSTART:20230312T080000
END:DAYLIGHT
BEGIN:STANDARD
TZOFFSETFROM:-0500
TZOFFSETTO:-0600
TZNAME:CST
DTSTART:20231105T070000
END:STANDARD
BEGIN:DAYLIGHT
TZOFFSETFROM:-0600
TZOFFSETTO:-0500
TZNAME:CDT
DTSTART:20240310T080000
END:DAYLIGHT
BEGIN:STANDARD
TZOFFSETFROM:-0500
TZOFFSETTO:-0600
TZNAME:CST
DTSTART:20241103T070000
END:STANDARD
END:VTIMEZONE
BEGIN:VEVENT
DTSTART;TZID=America/Chicago:20180901T100000
DTEND;TZID=America/Chicago:20180901T170000
DTSTAMP:20260424T070150
CREATED:20180829T144835Z
LAST-MODIFIED:20180829T144835Z
UID:2277-1535796000-1535821200@statelinekids.com
SUMMARY:Maple Park Fun Fest
DESCRIPTION:If you’re up for a short drive (45 minutes from Rockford)\, Maple Park Fun Fest has a bunch of free activities for kids on Saturday. The Fun Fest continues through Monday\, September 3. Admission is FREE! \nSaturday’s schedule: \nPetting zoo from 12 pm – 4 pm \nTraveling reptiles show from 12:30 – 1:30 pm \nBobby “Circus Boy” Hunt at 4 pm \nToilet Bowl Races at 2 pm \nRock climbing wall from 12 pm – 4 pm \nFace painting by Maddie from 1 pm – 3 pm \nCaricaturist David Curbis from 2:30 – 5:00 pm \n  \n 
URL:https://statelinekids.com/event/maple-park-fun-fest/
LOCATION:Maple Park Main Street\, 309 Main Street\, Maple Park\, IL\, United States
CATEGORIES:Maple Park
END:VEVENT
BEGIN:VEVENT
DTSTART;TZID=America/Chicago:20190103T103000
DTEND;TZID=America/Chicago:20190103T120000
DTSTAMP:20260424T070150
CREATED:20181230T212327Z
LAST-MODIFIED:20181230T212327Z
UID:4387-1546511400-1546516800@statelinekids.com
SUMMARY:Zoology Explorers and Zoobabies: Reptiles
DESCRIPTION:ZooBabies (Ages 0-6) and Zoology Explorers (Ages 6 and Up) will learn about local Reptile Rescue and rehabilitation. There will be several animals for kids to work with hands-on\, including Burpee’s own adopted and foster animals. Register here. \nCost: $12 for Burpee members\, $15 for general public
URL:https://statelinekids.com/event/zoology-explorers-and-zoobabies-reptiles/
LOCATION:Burpee Natural History Museum\, 737 N. Main St\, Rockford\, IL\, United States
CATEGORIES:Rockford
END:VEVENT
BEGIN:VEVENT
DTSTART;TZID=America/Chicago:20190121T110000
DTEND;TZID=America/Chicago:20190121T140000
DTSTAMP:20260424T070150
CREATED:20190120T210659Z
LAST-MODIFIED:20190120T210943Z
UID:4571-1548068400-1548079200@statelinekids.com
SUMMARY:Traveling Reptile Show
DESCRIPTION:Stop by the library at 11 am to see the Crosstown Exotics Traveling Reptile show. Meet lizards\, snakes and more!
URL:https://statelinekids.com/event/traveling-reptile-show/
LOCATION:North Suburban Library Roscoe\, 5562 Clayton Circle\, Roscoe\, IL\, United States
CATEGORIES:Roscoe
END:VEVENT
BEGIN:VEVENT
DTSTART;TZID=America/Chicago:20200112T100000
DTEND;TZID=America/Chicago:20200112T150000
DTSTAMP:20260424T070150
CREATED:20200104T185057Z
LAST-MODIFIED:20200104T185057Z
UID:9336-1578823200-1578841200@statelinekids.com
SUMMARY:Wisconsin Exotic Pet and Reptile Expo
DESCRIPTION:View thousands of reptiles and accessories as well as educational and interactive displays. \nCost is $5 per person\, kids 12 and under are free
URL:https://statelinekids.com/event/wisconsin-exotic-pet-and-reptile-expo/
LOCATION:Holiday Inn Express\, 3100 Wellington Pl.\, Janesville\, WI\, United States
CATEGORIES:Janesville
END:VEVENT
BEGIN:VEVENT
DTSTART;TZID=America/Chicago:20200411T130000
DTEND;TZID=America/Chicago:20200411T140000
DTSTAMP:20260424T070150
CREATED:20200408T202011Z
LAST-MODIFIED:20200408T202011Z
UID:10753-1586610000-1586613600@statelinekids.com
SUMMARY:Virtual Reptile Show with Crosstown Exotics
DESCRIPTION:Live Q&A with reptiles\, bugs\, and amphibians on Crosstown Exotics Facebook page.
URL:https://statelinekids.com/event/virtual-reptile-show-with-crosstown-exotics/
LOCATION:Online
END:VEVENT
BEGIN:VEVENT
DTSTART;TZID=America/Chicago:20210306T100000
DTEND;TZID=America/Chicago:20210306T160000
DTSTAMP:20260424T070150
CREATED:20210228T192636Z
LAST-MODIFIED:20210228T192636Z
UID:14933-1615024800-1615046400@statelinekids.com
SUMMARY:Show Me Reptiles and Exotics Show
DESCRIPTION:Check out the largest reptile and exotic pet show in the region. This event continues Sunday from 10 am – 3:30 pm. Get tickets here.  \nCost: $6 per person\, after 1 pm\, kids 12 and under are no charge
URL:https://statelinekids.com/event/show-me-reptiles-and-exotics-show/2021-03-06/
LOCATION:Holiday Inn Express\, 3100 Wellington Pl.\, Janesville\, WI\, United States
CATEGORIES:Janesville
END:VEVENT
BEGIN:VEVENT
DTSTART;TZID=America/Chicago:20230207T163000
DTEND;TZID=America/Chicago:20230207T173000
DTSTAMP:20260424T070150
CREATED:20230205T184450Z
LAST-MODIFIED:20230205T184450Z
UID:26294-1675787400-1675791000@statelinekids.com
SUMMARY:Turtles to Go with Welty Environmental Center
DESCRIPTION:Kids ages 8 and under can learn about Red-Eared Slider turtles\, do a scavenger hunt\, and talk about animal ethics. Call 608-868-7462 to register.
URL:https://statelinekids.com/event/turtles-to-go-with-welty-environmental-center/
LOCATION:Milton Public Library\, 430 E. High St.\, Milton\, WI\, United States
CATEGORIES:Milton
END:VEVENT
BEGIN:VEVENT
DTSTART;TZID=America/Chicago:20230212T100000
DTEND;TZID=America/Chicago:20230212T160000
DTSTAMP:20260424T070150
CREATED:20230205T172217Z
LAST-MODIFIED:20230205T172217Z
UID:26255-1676196000-1676217600@statelinekids.com
SUMMARY:Fauna Friends Expo
DESCRIPTION:Check out over 20 local vendors displaying and selling living creatures including reptiles\, small animals\, and birds. \nCost: $6 for adults over 13 / $3 for kids 3-12 / kids 2 and under are free
URL:https://statelinekids.com/event/fauna-friends-expo/
LOCATION:VFW Post 9759\, 2018 Windsor Rd.\, Loves Park\, IL\, United States
CATEGORIES:Loves Park
END:VEVENT
BEGIN:VEVENT
DTSTART;TZID=America/Chicago:20230718T140000
DTEND;TZID=America/Chicago:20230718T160000
DTSTAMP:20260424T070150
CREATED:20230716T211820Z
LAST-MODIFIED:20230716T211820Z
UID:29477-1689688800-1689696000@statelinekids.com
SUMMARY:Family Fun: Snake Discovery
DESCRIPTION:Learn about snakes\, exotic animals\, and more then watch a Storywagon performance.
URL:https://statelinekids.com/event/family-fun-snake-discovery/
LOCATION:Hedberg Library\, 316 S. Main St.\, Janesville\, WI\, United States
CATEGORIES:Janesville
END:VEVENT
BEGIN:VEVENT
DTSTART;TZID=America/Chicago:20230718T180000
DTEND;TZID=America/Chicago:20230718T184500
DTSTAMP:20260424T070150
CREATED:20230716T213721Z
LAST-MODIFIED:20230716T213721Z
UID:29494-1689703200-1689705900@statelinekids.com
SUMMARY:Snake Discovery
DESCRIPTION:Learn about snakes\, reptiles\, and the things that call Wisconsin home.
URL:https://statelinekids.com/event/snake-discovery/
LOCATION:Beloit Public Library\, 605 Eclipse Blvd\, Beloit\, WI\, United States
CATEGORIES:Beloit
END:VEVENT
BEGIN:VEVENT
DTSTART;TZID=America/Chicago:20240601T100000
DTEND;TZID=America/Chicago:20240601T140000
DTSTAMP:20260424T070150
CREATED:20240526T200431Z
LAST-MODIFIED:20240526T200431Z
UID:35197-1717236000-1717250400@statelinekids.com
SUMMARY:Science Saturday: Reptile and Amphibian Rendezvous
DESCRIPTION:Learn about reptiles\, amphibians\, snakes\, turtles\, frogs and more.
URL:https://statelinekids.com/event/science-saturday-reptile-and-amphibian-rendezvous/
LOCATION:Severson Dells Nature Center\, 8786 Montague Rd\, Rockford\, IL\, United States
CATEGORIES:Rockford
END:VEVENT
BEGIN:VEVENT
DTSTART;TZID=America/Chicago:20240611T180000
DTEND;TZID=America/Chicago:20240611T190000
DTSTAMP:20260424T070150
CREATED:20240609T194331Z
LAST-MODIFIED:20240609T194331Z
UID:35408-1718128800-1718132400@statelinekids.com
SUMMARY:Snake Discovery
DESCRIPTION:Learn about reptiles\, snakes\, and more and view live reptiles.
URL:https://statelinekids.com/event/snake-discovery-2/
LOCATION:Beloit Public Library\, 605 Eclipse Blvd\, Beloit\, WI\, United States
CATEGORIES:Beloit
END:VEVENT
END:VCALENDAR