BEGIN:VCALENDAR
VERSION:2.0
PRODID:-//Stateline Kids - ECPv6.5.1.3//NONSGML v1.0//EN
CALSCALE:GREGORIAN
METHOD:PUBLISH
X-ORIGINAL-URL:https://statelinekids.com
X-WR-CALDESC:Events for Stateline Kids
REFRESH-INTERVAL;VALUE=DURATION:PT1H
X-Robots-Tag:noindex
X-PUBLISHED-TTL:PT1H
BEGIN:VTIMEZONE
TZID:America/Chicago
BEGIN:DAYLIGHT
TZOFFSETFROM:-0600
TZOFFSETTO:-0500
TZNAME:CDT
DTSTART:20230312T080000
END:DAYLIGHT
BEGIN:STANDARD
TZOFFSETFROM:-0500
TZOFFSETTO:-0600
TZNAME:CST
DTSTART:20231105T070000
END:STANDARD
END:VTIMEZONE
BEGIN:VEVENT
DTSTART;VALUE=DATE:20230901
DTEND;VALUE=DATE:20231001
DTSTAMP:20260423T020426
CREATED:20230914T010049Z
LAST-MODIFIED:20230914T010049Z
UID:30430-1693526400-1696118399@statelinekids.com
SUMMARY:September Library Card Sign-Up at NSLD
DESCRIPTION:Sign up or renew your library card in September at North Suburban Library District and be entered into a drawing for a prize. Visit either NSLD location\, Loves Park or Roscoe\, or use the PrairieCat Mobile app to register for a library card or renew an existing one. Kids ages 5-17 are eligible to sign up for a card with a parent or guardian. Residents of NSLD can get a library card at no charge.
URL:https://statelinekids.com/event/september-library-card-sign-up-at-nsld/
LOCATION:North Suburban Library Roscoe\, 5562 Clayton Circle\, Roscoe\, IL\, United States
CATEGORIES:Loves Park,Roscoe
ATTACH;FMTTYPE=image/png:https://statelinekids.com/wp-content/uploads/2023/09/Screen-Shot-2023-09-13-at-11.13.04-AM.png
END:VEVENT
END:VCALENDAR