BEGIN:VCALENDAR
VERSION:2.0
PRODID:-//Stateline Kids - ECPv6.5.1.3//NONSGML v1.0//EN
CALSCALE:GREGORIAN
METHOD:PUBLISH
X-ORIGINAL-URL:https://statelinekids.com
X-WR-CALDESC:Events for Stateline Kids
REFRESH-INTERVAL;VALUE=DURATION:PT1H
X-Robots-Tag:noindex
X-PUBLISHED-TTL:PT1H
BEGIN:VTIMEZONE
TZID:America/Chicago
BEGIN:DAYLIGHT
TZOFFSETFROM:-0600
TZOFFSETTO:-0500
TZNAME:CDT
DTSTART:20190310T080000
END:DAYLIGHT
BEGIN:STANDARD
TZOFFSETFROM:-0500
TZOFFSETTO:-0600
TZNAME:CST
DTSTART:20191103T070000
END:STANDARD
BEGIN:DAYLIGHT
TZOFFSETFROM:-0600
TZOFFSETTO:-0500
TZNAME:CDT
DTSTART:20200308T080000
END:DAYLIGHT
BEGIN:STANDARD
TZOFFSETFROM:-0500
TZOFFSETTO:-0600
TZNAME:CST
DTSTART:20201101T070000
END:STANDARD
END:VTIMEZONE
BEGIN:VEVENT
DTSTART;TZID=America/Chicago:20190921T100000
DTEND;TZID=America/Chicago:20190921T170000
DTSTAMP:20260424T212823
CREATED:20190911T193601Z
LAST-MODIFIED:20190911T193725Z
UID:7392-1569060000-1569085200@statelinekids.com
SUMMARY:World War II Days
DESCRIPTION:The military re-enactment with more than 1\,000 uniformed re-enactors draws thousands to the museum and features tanks\, artillery\, and pyrotechnic displays. This event continues on Sunday from 10 am – 4 pm. \nCost: $14 per person\, $8 for kids 3-17\, free for kids 0-2
URL:https://statelinekids.com/event/world-war-ii-days/
LOCATION:Midway Village\, 6799 Guilford Road\, Rockford\, IL\, United States
CATEGORIES:Rockford
END:VEVENT
BEGIN:VEVENT
DTSTART;TZID=America/Chicago:20190922T100000
DTEND;TZID=America/Chicago:20190922T160000
DTSTAMP:20260424T212823
CREATED:20190911T193701Z
LAST-MODIFIED:20190922T161951Z
UID:7394-1569146400-1569168000@statelinekids.com
SUMMARY:CANCELLED: World War II Days
DESCRIPTION:Update: This event is cancelled due to rain. \nThe military re-enactment with more than 1\,000 uniformed re-enactors draws thousands to the museum and features tanks\, artillery\, and pyrotechnic displays.  \nCost: $14 per person\, $8 for kids 3-17\, free for kids 0-2
URL:https://statelinekids.com/event/world-war-ii-days-2/
LOCATION:Midway Village\, 6799 Guilford Road\, Rockford\, IL\, United States
CATEGORIES:Rockford
END:VEVENT
BEGIN:VEVENT
DTSTART;TZID=America/Chicago:20200120T140000
DTEND;TZID=America/Chicago:20200120T160000
DTSTAMP:20260424T212823
CREATED:20200119T211138Z
LAST-MODIFIED:20200119T211138Z
UID:9519-1579528800-1579536000@statelinekids.com
SUMMARY:Tea with Tubman at BPL
DESCRIPTION:Celebrate MLK Day with a historic reenactment of Harriet Tubman’s life.
URL:https://statelinekids.com/event/tea-with-tubman-at-bpl/
LOCATION:Beloit Public Library\, 605 Eclipse Blvd\, Beloit\, WI\, United States
CATEGORIES:Beloit
END:VEVENT
END:VCALENDAR