BEGIN:VCALENDAR
VERSION:2.0
PRODID:-//Stateline Kids - ECPv6.5.1.3//NONSGML v1.0//EN
CALSCALE:GREGORIAN
METHOD:PUBLISH
X-WR-CALNAME:Stateline Kids
X-ORIGINAL-URL:https://statelinekids.com
X-WR-CALDESC:Events for Stateline Kids
REFRESH-INTERVAL;VALUE=DURATION:PT1H
X-Robots-Tag:noindex
X-PUBLISHED-TTL:PT1H
BEGIN:VTIMEZONE
TZID:America/Chicago
BEGIN:DAYLIGHT
TZOFFSETFROM:-0600
TZOFFSETTO:-0500
TZNAME:CDT
DTSTART:20180311T080000
END:DAYLIGHT
BEGIN:STANDARD
TZOFFSETFROM:-0500
TZOFFSETTO:-0600
TZNAME:CST
DTSTART:20181104T070000
END:STANDARD
BEGIN:DAYLIGHT
TZOFFSETFROM:-0600
TZOFFSETTO:-0500
TZNAME:CDT
DTSTART:20190310T080000
END:DAYLIGHT
BEGIN:STANDARD
TZOFFSETFROM:-0500
TZOFFSETTO:-0600
TZNAME:CST
DTSTART:20191103T070000
END:STANDARD
BEGIN:DAYLIGHT
TZOFFSETFROM:-0600
TZOFFSETTO:-0500
TZNAME:CDT
DTSTART:20200308T080000
END:DAYLIGHT
BEGIN:STANDARD
TZOFFSETFROM:-0500
TZOFFSETTO:-0600
TZNAME:CST
DTSTART:20201101T070000
END:STANDARD
BEGIN:DAYLIGHT
TZOFFSETFROM:-0600
TZOFFSETTO:-0500
TZNAME:CDT
DTSTART:20210314T080000
END:DAYLIGHT
BEGIN:STANDARD
TZOFFSETFROM:-0500
TZOFFSETTO:-0600
TZNAME:CST
DTSTART:20211107T070000
END:STANDARD
BEGIN:DAYLIGHT
TZOFFSETFROM:-0600
TZOFFSETTO:-0500
TZNAME:CDT
DTSTART:20220313T080000
END:DAYLIGHT
BEGIN:STANDARD
TZOFFSETFROM:-0500
TZOFFSETTO:-0600
TZNAME:CST
DTSTART:20221106T070000
END:STANDARD
BEGIN:DAYLIGHT
TZOFFSETFROM:-0600
TZOFFSETTO:-0500
TZNAME:CDT
DTSTART:20230312T080000
END:DAYLIGHT
BEGIN:STANDARD
TZOFFSETFROM:-0500
TZOFFSETTO:-0600
TZNAME:CST
DTSTART:20231105T070000
END:STANDARD
BEGIN:DAYLIGHT
TZOFFSETFROM:-0600
TZOFFSETTO:-0500
TZNAME:CDT
DTSTART:20240310T080000
END:DAYLIGHT
BEGIN:STANDARD
TZOFFSETFROM:-0500
TZOFFSETTO:-0600
TZNAME:CST
DTSTART:20241103T070000
END:STANDARD
END:VTIMEZONE
BEGIN:VEVENT
DTSTART;TZID=America/Chicago:20180916T100000
DTEND;TZID=America/Chicago:20180916T160000
DTSTAMP:20260424T150500
CREATED:20180914T204859Z
LAST-MODIFIED:20180914T204859Z
UID:2611-1537092000-1537113600@statelinekids.com
SUMMARY:Dixon Scarecrow Fest
DESCRIPTION:There will be scarecrow decorating contests\, face painting\, sign painting\, pumpkin painting\, balloons\, food\, a petting zoo\, craft vendors and a pumpkin patch.
URL:https://statelinekids.com/event/dixon-scarecrow-fest/
LOCATION:Downtown Dixon\, 300 block of downtown\, Dixon\, IL\, United States
CATEGORIES:Dixon
END:VEVENT
BEGIN:VEVENT
DTSTART;TZID=America/Chicago:20181006T100000
DTEND;TZID=America/Chicago:20181006T120000
DTSTAMP:20260424T150500
CREATED:20181001T141712Z
LAST-MODIFIED:20181006T145405Z
UID:2985-1538820000-1538827200@statelinekids.com
SUMMARY:Pumpkin Painting
DESCRIPTION:Purchase a pumpkin and decorate it for free. All paint and supplies will be provided. Please use the bathroom before you get here\, this is a small family farm without a bathroom.\nCost: Price of pumpkin you select
URL:https://statelinekids.com/event/pumpkin-painting/
LOCATION:The Pumpkin Farm on 75\, 8580 Freeport Rd\, Durand\, IL\, United States
CATEGORIES:Durand
END:VEVENT
BEGIN:VEVENT
DTSTART;TZID=America/Chicago:20181007T110000
DTEND;TZID=America/Chicago:20181007T160000
DTSTAMP:20260424T150500
CREATED:20181001T143025Z
LAST-MODIFIED:20181007T163726Z
UID:2991-1538910000-1538928000@statelinekids.com
SUMMARY:CANCELED - Lockwood Pumpkin Fest
DESCRIPTION:Come to Lockwood Park for Lockwood Pumpkin Fest. Activities include pumpkin picking\, pony and horse rides\, making S’Mores\, games\, a corn maze\, haunted corn crib\, and more. Some activities will cost money. The fest continues throughout October including Sunday from 11 am – 4 pm and Monday from 10 am – 4 pm.
URL:https://statelinekids.com/event/lockwood-pumpkin-fest-2/
LOCATION:Lockwood Park\, 5201 Safford Rd\, Rockford\, IL\, United States
CATEGORIES:Rockford
END:VEVENT
BEGIN:VEVENT
DTSTART;TZID=America/Chicago:20181008T100000
DTEND;TZID=America/Chicago:20181008T160000
DTSTAMP:20260424T150500
CREATED:20181001T143444Z
LAST-MODIFIED:20181001T143444Z
UID:2993-1538992800-1539014400@statelinekids.com
SUMMARY:Lockwood Pumpkin Fest
DESCRIPTION:Come to Lockwood Park for Lockwood Pumpkin Fest. Activities include pumpkin picking\, pony and horse rides\, making S’Mores\, games\, a corn maze\, haunted corn crib\, and more. Some activities will cost money. The fest continues throughout October including Sunday from 11 am – 4 pm and Monday from 10 am – 4 pm.
URL:https://statelinekids.com/event/lockwood-pumpkin-fest-3/
LOCATION:Lockwood Park\, 5201 Safford Rd\, Rockford\, IL\, United States
CATEGORIES:Rockford
END:VEVENT
BEGIN:VEVENT
DTSTART;TZID=America/Chicago:20181026T120000
DTEND;TZID=America/Chicago:20181026T220000
DTSTAMP:20260424T150500
CREATED:20181001T152213Z
LAST-MODIFIED:20181001T152213Z
UID:3027-1540555200-1540591200@statelinekids.com
SUMMARY:Sycamore Pumpkin Festival
DESCRIPTION:Sycamore Pumpkin Fest is a yearly event celebrating the return of fall in Sycamore\, IL. There will be thousands of decorated pumpkins on display\, arts and craft shows\, a pie eating contest\, carnival\, fun fair\, parade\, and race. \nEvents for Kids:\n\nPie eating contest\nCarnival rides\nGames\nParade\nSunday\, October 28 at 1 pm
URL:https://statelinekids.com/event/sycamore-pumpkin-festival/
LOCATION:Downtown Sycamore\, 133 W. State St\, Sycamore\, IL\, United States
CATEGORIES:Sycamore
END:VEVENT
BEGIN:VEVENT
DTSTART;TZID=America/Chicago:20181027T120000
DTEND;TZID=America/Chicago:20181027T220000
DTSTAMP:20260424T150500
CREATED:20181001T152333Z
LAST-MODIFIED:20181001T152333Z
UID:3030-1540641600-1540677600@statelinekids.com
SUMMARY:Sycamore Pumpkin Festival
DESCRIPTION:Sycamore Pumpkin Fest is a yearly event celebrating the return of fall in Sycamore\, IL. There will be thousands of decorated pumpkins on display\, arts and craft shows\, a pie eating contest\, carnival\, fun fair\, parade\, and race. \nEvents for Kids:\n\nPie eating contest\nCarnival rides\nGames\nParade\nSunday\, October 28 at 1 pm
URL:https://statelinekids.com/event/sycamore-pumpkin-festival-2/
LOCATION:Downtown Sycamore\, 133 W. State St\, Sycamore\, IL\, United States
CATEGORIES:Sycamore
END:VEVENT
BEGIN:VEVENT
DTSTART;TZID=America/Chicago:20181028T120000
DTEND;TZID=America/Chicago:20181028T170000
DTSTAMP:20260424T150500
CREATED:20181001T152547Z
LAST-MODIFIED:20181001T152547Z
UID:3032-1540728000-1540746000@statelinekids.com
SUMMARY:Sycamore Pumpkin Festival
DESCRIPTION:Sycamore Pumpkin Fest is a yearly event celebrating the return of fall in Sycamore\, IL. There will be thousands of decorated pumpkins on display\, arts and craft shows\, a pie eating contest\, carnival\, fun fair\, parade\, and race. \nEvents for Kids:\n\nPie eating contest\nCarnival rides\nGames\nParade\nSunday\, October 28 at 1 pm
URL:https://statelinekids.com/event/sycamore-pumpkin-festival-3/
LOCATION:Downtown Sycamore\, 133 W. State St\, Sycamore\, IL\, United States
CATEGORIES:Sycamore
END:VEVENT
BEGIN:VEVENT
DTSTART;TZID=America/Chicago:20190907T100000
DTEND;TZID=America/Chicago:20190907T120000
DTSTAMP:20260424T150500
CREATED:20190831T210732Z
LAST-MODIFIED:20190831T210732Z
UID:7202-1567850400-1567857600@statelinekids.com
SUMMARY:Welcome\, Autumn! Pumpkin Painting
DESCRIPTION:Paint a pumpkin and enjoy some cider. Register here. \nCost: $5 per person
URL:https://statelinekids.com/event/welcome-autumn-pumpkin-painting/
LOCATION:Puri Family YMCA\, 1475 S Perryville Road\, Rockford\, IL\, United States
CATEGORIES:Rockford
END:VEVENT
BEGIN:VEVENT
DTSTART;TZID=America/Chicago:20191019T130000
DTEND;TZID=America/Chicago:20191019T160000
DTSTAMP:20260424T150500
CREATED:20191013T134904Z
LAST-MODIFIED:20191013T134904Z
UID:8034-1571490000-1571500800@statelinekids.com
SUMMARY:Mercyhealth Fall Festival
DESCRIPTION:The Fall Festival includes free bike helmets for the first 100 kids\, raffle baskets\, games\, bounce houses\, blow-up basketball hoops\, face painting\, pumpkin painting\, mascots including Snappy the Beloit Snapper and Chilly the Janesville Jet. Kids who wear costumes will be entered to win an iPad Mini and get a coupon for a free scoop at Culver’s.
URL:https://statelinekids.com/event/mercyhealth-fall-festival/
LOCATION:Mercyhealth Beloit\, 2825 Prairie Ave\, Beloit\, WI\, United States
CATEGORIES:Beloit
END:VEVENT
BEGIN:VEVENT
DTSTART;TZID=America/Chicago:20221008T130000
DTEND;TZID=America/Chicago:20221008T140000
DTSTAMP:20260424T150500
CREATED:20221001T230451Z
LAST-MODIFIED:20221001T230451Z
UID:24056-1665234000-1665237600@statelinekids.com
SUMMARY:Pumpkin Painting
DESCRIPTION:Paint a pumpkin\, all supplies are provided. Register here.
URL:https://statelinekids.com/event/pumpkin-painting-2/
LOCATION:Village Green\, 2640 N. Main St.\, Rockford\, IL\, United States
CATEGORIES:Rockford
END:VEVENT
BEGIN:VEVENT
DTSTART;TZID=America/Chicago:20231015T100000
DTEND;TZID=America/Chicago:20231015T120000
DTSTAMP:20260424T150500
CREATED:20231008T153911Z
LAST-MODIFIED:20231008T153911Z
UID:31230-1697364000-1697371200@statelinekids.com
SUMMARY:Fall Family Fun Pumpkin Painting
DESCRIPTION:Families can paint and decorate pumpkins together. Register here.
URL:https://statelinekids.com/event/fall-family-fun-pumpkin-painting/
LOCATION:Swedish American Riverfront YMCA\, 200 Y Blvd.\, Rockford\, IL\, United States
CATEGORIES:Rockford
END:VEVENT
BEGIN:VEVENT
DTSTART;TZID=America/Chicago:20231021T100000
DTEND;TZID=America/Chicago:20231021T170000
DTSTAMP:20260424T150500
CREATED:20231008T145701Z
LAST-MODIFIED:20231013T175016Z
UID:31215-1697882400-1697907600@statelinekids.com
SUMMARY:Valley Orchard Fall Festival
DESCRIPTION:Enjoy pumpkin painting\, face painting\, a tractor show\, craft vendors and food trucks.
URL:https://statelinekids.com/event/valley-orchard-fall-festival/
LOCATION:Cherry Valley Orchard\, 811 E. State St.\, Cherry Valley\, IL\, United States
CATEGORIES:Cherry Valley
END:VEVENT
BEGIN:VEVENT
DTSTART;TZID=America/Chicago:20240928T110000
DTEND;TZID=America/Chicago:20240928T150000
DTSTAMP:20260424T150500
CREATED:20240921T223041Z
LAST-MODIFIED:20240921T223041Z
UID:37759-1727521200-1727535600@statelinekids.com
SUMMARY:Community Celebration
DESCRIPTION:Enjoy a day of local organizations\, pumpkin painting\, bounce house\, photobooth\, foam party\, live music\, and food trucks.
URL:https://statelinekids.com/event/community-celebration/
LOCATION:Rock Valley College\, 3301 N. Mulford Rd\, Rockford\, IL\, United States
CATEGORIES:Rockford
END:VEVENT
BEGIN:VEVENT
DTSTART;TZID=America/Chicago:20241019T100000
DTEND;TZID=America/Chicago:20241019T130000
DTSTAMP:20260424T150500
CREATED:20241013T180841Z
LAST-MODIFIED:20241013T180841Z
UID:38188-1729332000-1729342800@statelinekids.com
SUMMARY:Pumpkin Painting
DESCRIPTION:Paint a pumpkin at Skelly’s and enjoy other free activities. Corn maze has a cost.
URL:https://statelinekids.com/event/pumpkin-painting-3/
LOCATION:Skelly’s Farm Market\, 2713 S Hayner Rd\, Janesville\, WI\, United States
CATEGORIES:Janesville
END:VEVENT
END:VCALENDAR