BEGIN:VCALENDAR
VERSION:2.0
PRODID:-//Stateline Kids - ECPv6.5.1.3//NONSGML v1.0//EN
CALSCALE:GREGORIAN
METHOD:PUBLISH
X-ORIGINAL-URL:https://statelinekids.com
X-WR-CALDESC:Events for Stateline Kids
REFRESH-INTERVAL;VALUE=DURATION:PT1H
X-Robots-Tag:noindex
X-PUBLISHED-TTL:PT1H
BEGIN:VTIMEZONE
TZID:America/Chicago
BEGIN:DAYLIGHT
TZOFFSETFROM:-0600
TZOFFSETTO:-0500
TZNAME:CDT
DTSTART:20190310T080000
END:DAYLIGHT
BEGIN:STANDARD
TZOFFSETFROM:-0500
TZOFFSETTO:-0600
TZNAME:CST
DTSTART:20191103T070000
END:STANDARD
BEGIN:DAYLIGHT
TZOFFSETFROM:-0600
TZOFFSETTO:-0500
TZNAME:CDT
DTSTART:20200308T080000
END:DAYLIGHT
BEGIN:STANDARD
TZOFFSETFROM:-0500
TZOFFSETTO:-0600
TZNAME:CST
DTSTART:20201101T070000
END:STANDARD
BEGIN:DAYLIGHT
TZOFFSETFROM:-0600
TZOFFSETTO:-0500
TZNAME:CDT
DTSTART:20210314T080000
END:DAYLIGHT
BEGIN:STANDARD
TZOFFSETFROM:-0500
TZOFFSETTO:-0600
TZNAME:CST
DTSTART:20211107T070000
END:STANDARD
END:VTIMEZONE
BEGIN:VEVENT
DTSTART;TZID=America/Chicago:20191016T163000
DTEND;TZID=America/Chicago:20191016T183000
DTSTAMP:20260424T014608
CREATED:20191012T161559Z
LAST-MODIFIED:20191012T161559Z
UID:7942-1571243400-1571250600@statelinekids.com
SUMMARY:Pumpkinpalooza
DESCRIPTION:Kids can bring a decorated pumpkin to enter into a pumpkin decorating contest. First 150 kids will get a coupon to Sips and Sprinkles.
URL:https://statelinekids.com/event/pumpkinpalooza/
LOCATION:Belvidere Family YMCA\, 220 W Locust St\, Ste 1\, Belvidere\, IL\, United States
CATEGORIES:Belvidere
END:VEVENT
BEGIN:VEVENT
DTSTART;TZID=America/Chicago:20211029T160000
DTEND;TZID=America/Chicago:20211029T190000
DTSTAMP:20260424T014608
CREATED:20210926T220443Z
LAST-MODIFIED:20210926T220443Z
UID:17529-1635523200-1635534000@statelinekids.com
SUMMARY:Trunk or Treat and Pumpkin Contest
DESCRIPTION:Enjoy Truck or Treating in the parking lot and bring your decorated pumpkin and vote for your favorite.
URL:https://statelinekids.com/event/trunk-or-treat-and-pumpkin-contest/
LOCATION:Ida Public Library\, 320 N State Street\, Belvidere\, IL\, United States
CATEGORIES:Belvidere
END:VEVENT
END:VCALENDAR