BEGIN:VCALENDAR
VERSION:2.0
PRODID:-//Stateline Kids - ECPv6.5.1.3//NONSGML v1.0//EN
CALSCALE:GREGORIAN
METHOD:PUBLISH
X-WR-CALNAME:Stateline Kids
X-ORIGINAL-URL:https://statelinekids.com
X-WR-CALDESC:Events for Stateline Kids
REFRESH-INTERVAL;VALUE=DURATION:PT1H
X-Robots-Tag:noindex
X-PUBLISHED-TTL:PT1H
BEGIN:VTIMEZONE
TZID:America/Chicago
BEGIN:DAYLIGHT
TZOFFSETFROM:-0600
TZOFFSETTO:-0500
TZNAME:CDT
DTSTART:20180311T080000
END:DAYLIGHT
BEGIN:STANDARD
TZOFFSETFROM:-0500
TZOFFSETTO:-0600
TZNAME:CST
DTSTART:20181104T070000
END:STANDARD
BEGIN:DAYLIGHT
TZOFFSETFROM:-0600
TZOFFSETTO:-0500
TZNAME:CDT
DTSTART:20190310T080000
END:DAYLIGHT
BEGIN:STANDARD
TZOFFSETFROM:-0500
TZOFFSETTO:-0600
TZNAME:CST
DTSTART:20191103T070000
END:STANDARD
BEGIN:DAYLIGHT
TZOFFSETFROM:-0600
TZOFFSETTO:-0500
TZNAME:CDT
DTSTART:20200308T080000
END:DAYLIGHT
BEGIN:STANDARD
TZOFFSETFROM:-0500
TZOFFSETTO:-0600
TZNAME:CST
DTSTART:20201101T070000
END:STANDARD
BEGIN:DAYLIGHT
TZOFFSETFROM:-0600
TZOFFSETTO:-0500
TZNAME:CDT
DTSTART:20210314T080000
END:DAYLIGHT
BEGIN:STANDARD
TZOFFSETFROM:-0500
TZOFFSETTO:-0600
TZNAME:CST
DTSTART:20211107T070000
END:STANDARD
BEGIN:DAYLIGHT
TZOFFSETFROM:-0600
TZOFFSETTO:-0500
TZNAME:CDT
DTSTART:20220313T080000
END:DAYLIGHT
BEGIN:STANDARD
TZOFFSETFROM:-0500
TZOFFSETTO:-0600
TZNAME:CST
DTSTART:20221106T070000
END:STANDARD
BEGIN:DAYLIGHT
TZOFFSETFROM:-0600
TZOFFSETTO:-0500
TZNAME:CDT
DTSTART:20230312T080000
END:DAYLIGHT
BEGIN:STANDARD
TZOFFSETFROM:-0500
TZOFFSETTO:-0600
TZNAME:CST
DTSTART:20231105T070000
END:STANDARD
BEGIN:DAYLIGHT
TZOFFSETFROM:-0600
TZOFFSETTO:-0500
TZNAME:CDT
DTSTART:20240310T080000
END:DAYLIGHT
BEGIN:STANDARD
TZOFFSETFROM:-0500
TZOFFSETTO:-0600
TZNAME:CST
DTSTART:20241103T070000
END:STANDARD
BEGIN:DAYLIGHT
TZOFFSETFROM:-0600
TZOFFSETTO:-0500
TZNAME:CDT
DTSTART:20250309T080000
END:DAYLIGHT
BEGIN:STANDARD
TZOFFSETFROM:-0500
TZOFFSETTO:-0600
TZNAME:CST
DTSTART:20251102T070000
END:STANDARD
END:VTIMEZONE
BEGIN:VEVENT
DTSTART;TZID=America/Chicago:20180721T183000
DTEND;TZID=America/Chicago:20180721T223000
DTSTAMP:20260423T104024
CREATED:20180719T204144Z
LAST-MODIFIED:20180719T204144Z
UID:1167-1532197800-1532212200@statelinekids.com
SUMMARY:Street Dance
DESCRIPTION:Now that the road construction is done\, we’re bringing back the annual Cherry Valley Street Dance. So mark your calendars\, because this year’s street dance will be held on Saturday\, July 21st from 6:30 p.m. to 10:30 p.m. in the downtown section of E. State St. in the Village of Cherry Valley. This year’s entertainment will be provided by Prime Time. \nWe’re going to have some great door prizes this year. Come and get a chance to win a flat screen TV\, Button and food ticket packages to Cherry Valley days and gift cards to various Cherry Valley businesses. (Must be present to win)\nRefreshments will be sold by various businesses and organizations. \nThere will also be activities for the kids.
URL:https://statelinekids.com/event/street-dance/
LOCATION:Village of Cherry Valley\, 806 E State Street\, Cherry Valley\, IL\, United States
CATEGORIES:Cherry Valley
END:VEVENT
BEGIN:VEVENT
DTSTART;TZID=America/Chicago:20180727T190000
DTEND;TZID=America/Chicago:20180727T220000
DTSTAMP:20260423T104024
CREATED:20180714T203923Z
LAST-MODIFIED:20180714T203923Z
UID:1001-1532718000-1532728800@statelinekids.com
SUMMARY:Family Outdoor Movie Night: Beauty and the Beast
DESCRIPTION:Join us for a Free Family Night at the movies.\nInflatables\, face painting\, coloring contest and much more\n7 pm\, movie begins at dusk- Belle will be here\, you will not want to miss this magical evening.
URL:https://statelinekids.com/event/family-outdoor-movie-night-beauty-and-the-beast/
LOCATION:YMCA of the Rock River Valley\, 220 E State St\, Rockford\, IL\, United States
CATEGORIES:Rockford
END:VEVENT
BEGIN:VEVENT
DTSTART;TZID=America/Chicago:20180805T120000
DTEND;TZID=America/Chicago:20180805T150000
DTSTAMP:20260423T104024
CREATED:20180729T233034Z
LAST-MODIFIED:20180729T233034Z
UID:1406-1533470400-1533481200@statelinekids.com
SUMMARY:Back to School Picnic and Backpack Giveaway
DESCRIPTION:This community event is part outdoor fair and part giveaway. Backpacks are given to students for the new school year\, while lunch\, drinks\, bounce house\, obstacle course and games with prizes are also provided for free. \nStudents may sign up for the backpack giveaway from 12:00-12:30 p.m. Must be present to win.
URL:https://statelinekids.com/event/back-to-school-picnic-and-backpack-giveaway/
LOCATION:Journey Church Ministries\, 7825 Forest Hills Road\, Loves Park\, IL\, United States
CATEGORIES:Loves Park
END:VEVENT
BEGIN:VEVENT
DTSTART;TZID=America/Chicago:20180807T170000
DTEND;TZID=America/Chicago:20180807T190000
DTSTAMP:20260423T104024
CREATED:20180805T144926Z
LAST-MODIFIED:20180805T144926Z
UID:1571-1533661200-1533668400@statelinekids.com
SUMMARY:National Night Out - Beloit
DESCRIPTION:The City of Beloit Police Department is hosting a citywide National Night Out kickoff event at the Harry C. Moore Pavilion in Riverside Park from 5 p.m. to 7 p.m. Tuesday\, Aug. 7\, 2018. \nResidents in neighborhoods throughout Beloit are asked to turn on and display outside lights\, lock their doors\, and spend a positive evening outside with their neighbors. \nPersonnel from the City of Beloit Police Department and the City of Beloit Fire Department\, as well as other community organizations\, will be present at the National Night Out kickoff event in Riverside Park. This event is designed to promote police-community partnerships and to strengthen neighborhoods as we work together to make Beloit neighborhoods safer for the whole community.
URL:https://statelinekids.com/event/national-night-out-beloit-wi/
LOCATION:Harry Moore Pavilion Riverside Park\, 1240 Riverside Dr\, Beloit\, WI\, United States
CATEGORIES:Beloit
END:VEVENT
BEGIN:VEVENT
DTSTART;TZID=America/Chicago:20180807T170000
DTEND;TZID=America/Chicago:20180807T190000
DTSTAMP:20260423T104024
CREATED:20180720T190642Z
LAST-MODIFIED:20180729T232808Z
UID:1175-1533661200-1533668400@statelinekids.com
SUMMARY:National Night Out - Machesney Park
DESCRIPTION:Building Strong Relationships between Machesney Park Police and the residents of the Village. This is a nationwide event that occurs annually on the first Tuesday of August! \n\nPublic Safety vehicle display\nPractice spraying a fire hose\nK-9 Demonstration\nLocal vendors\nBounce house\nHot dogs\, cookies\, and chips\nRaffles and prizes
URL:https://statelinekids.com/event/national-night-out/
LOCATION:Machesney Park Town Center\, 8750 North Second Street\, Machesney Park\, IL\, United States
CATEGORIES:Machesney Park
END:VEVENT
BEGIN:VEVENT
DTSTART;TZID=America/Chicago:20180807T170000
DTEND;TZID=America/Chicago:20180807T200000
DTSTAMP:20260423T104024
CREATED:20180803T020541Z
LAST-MODIFIED:20180803T020541Z
UID:1544-1533661200-1533672000@statelinekids.com
SUMMARY:National Night Out - Rockford
DESCRIPTION:Come out to Levings Lake\, 1420 S. Pierpont Avenue\, on Tuesday\, August 7\, from 5 to 8 p.m. for National Night Out\, hosted by the Rockford Police Department and the Rockford Park District Police Department. This family-friendly event will feature free entertainment\, games\, prizes and refreshments!
URL:https://statelinekids.com/event/national-night-out-rockford/
LOCATION:Levings Lake\, 420 S. Pierpont Avenue\, Rockford\, IL\, United States
CATEGORIES:Rockford
END:VEVENT
BEGIN:VEVENT
DTSTART;TZID=America/Chicago:20180812T110000
DTEND;TZID=America/Chicago:20180812T160000
DTSTAMP:20260423T104024
CREATED:20180806T021519Z
LAST-MODIFIED:20180806T021519Z
UID:1608-1534071600-1534089600@statelinekids.com
SUMMARY:RYBR Touch A Truck Kids Fest
DESCRIPTION:Stateline Events is bringing an awesome event to Freeport! Sponsored by Rock Your Body Rockford! \nEvery child’s imagination will go wild as they get to explore Stephenson County Fairgrounds filled with trucks of all shapes and sizes! Kids can participate in all kinds of interactive games and get their face painted! There will be food vendors and kid friendly businesses to shop from. Plus more fun things will be added as we organize this event!
URL:https://statelinekids.com/event/rybr-touch-a-truck-kids-fest/
LOCATION:Stephenson County Fairgrounds\, 2250 S Walnut Rd\, Freeport\, IL\, United States
CATEGORIES:Freeport
END:VEVENT
BEGIN:VEVENT
DTSTART;TZID=America/Chicago:20180816T120000
DTEND;TZID=America/Chicago:20180816T233000
DTSTAMP:20260423T104024
CREATED:20180814T142011Z
LAST-MODIFIED:20180814T142011Z
UID:1795-1534420800-1534462200@statelinekids.com
SUMMARY:Kid’s Day at Winnebago County Fair
DESCRIPTION:Kids under 12 are free today! Enjoy the fair food\, rides\, games\, music\, and live animals. Fair runs from August 15-19.
URL:https://statelinekids.com/event/kids-day-winnebago-county-fair/
LOCATION:Winnebago County Fairgrounds\, 500 W. 1st Street\, Pecatonica\, IL\, United States
CATEGORIES:Pecatonica
END:VEVENT
BEGIN:VEVENT
DTSTART;TZID=America/Chicago:20181231T120000
DTEND;TZID=America/Chicago:20181231T120100
DTSTAMP:20260423T104024
CREATED:20181230T215901Z
LAST-MODIFIED:20181230T215901Z
UID:4415-1546257600-1546257660@statelinekids.com
SUMMARY:Free New Year’s Eve Balloon Drop at Coral Cove
DESCRIPTION:Coral Cove will be having a free New Year’s Eve balloon drop at noon. Balloons are stuffed with tickets\, tokens\, candy\, and other small prizes. No registration is required.
URL:https://statelinekids.com/event/free-new-years-eve-balloon-drop-at-coral-cove/
LOCATION:Coral Cove Family Fun Center\, 586 Progressive Ln\, South Beloit\, IL\, United States
CATEGORIES:South Beloit
END:VEVENT
BEGIN:VEVENT
DTSTART;TZID=America/Chicago:20181231T130000
DTEND;TZID=America/Chicago:20181231T150000
DTSTAMP:20260423T104024
CREATED:20181230T220345Z
LAST-MODIFIED:20181230T220415Z
UID:4419-1546261200-1546268400@statelinekids.com
SUMMARY:Family Glow Bowling at Diamond Lanes
DESCRIPTION:Diamond Lanes will host a family glow bowling celebration. Admission includes bowling\, shoe rental\, face painting\, prizes and fun. \nCost:$7 per person
URL:https://statelinekids.com/event/family-glow-bowling-at-diamond-lanes/
LOCATION:Diamond Lanes\, 1218 Cranston Rd.\, Beloit\, WI\, United States
CATEGORIES:Beloit
END:VEVENT
BEGIN:VEVENT
DTSTART;VALUE=DATE:20190223
DTEND;VALUE=DATE:20190225
DTSTAMP:20260423T104024
CREATED:20190206T194031Z
LAST-MODIFIED:20190207T013938Z
UID:4778-1550880000-1551052799@statelinekids.com
SUMMARY:Mini-Golf in the Library and Silent Auction
DESCRIPTION:The Cherry Valley Public Library is transforming into a miniature golf course on Sat.\, Feb. 23 and Sun.\, Feb. 24 for their seventh annual “Mini-Golf in the Library and Silent Auction” fundraiser. \nFor $5.00 each\, young and old alike can test out their putting skills on the nine holes arranged throughout the aisles and bookshelves in the library. Ages three and under are free with a paying adult! Tee times are available on Sat. from 10:00 am to 4:00 pm and on Sun. from 1:00 to 4:00 pm. To reserve your tee time\, call the library at 815-332-5161. Everyone is welcome…no library card is needed! \nRefreshments will be available for purchase on both days and over 100 Silent Auction items will be displayed for bids until 4:00 pm on Sunday. If mini-golf isn’t your thing\, then come for lunch or a snack and stay to browse and bid on the silent auction goodies. On Saturday\, there will be Salamone’s pizza by the slice and Cold Stone Creamery on both days in addition to other snacks. \nItems up for auction include baskets with gift certificates from local restaurants and businesses\, tickets to a variety of entertainment venues\, and some beautiful handcrafted items. Proceeds will go toward a building expansion which will include a youth services program room and drive-up book return.
URL:https://statelinekids.com/event/mini-golf-in-the-library-and-silent-auction/
LOCATION:Cherry Valley Public Library\, 755 E. State St\, Cherry Valley\, IL\, United States
CATEGORIES:Cherry Valley
ATTACH;FMTTYPE=image/png:https://statelinekids.com/wp-content/uploads/2019/02/facebook-mini-golf-poster2-1.png
END:VEVENT
BEGIN:VEVENT
DTSTART;TZID=America/Chicago:20190622T140000
DTEND;TZID=America/Chicago:20190622T170000
DTSTAMP:20260423T104024
CREATED:20190617T001950Z
LAST-MODIFIED:20190617T001950Z
UID:6108-1561212000-1561222800@statelinekids.com
SUMMARY:Free Family Fun
DESCRIPTION:Everyone is welcome to come out and enjoy games\, prizes\, inflatables\, food\, and more. Everything is free.
URL:https://statelinekids.com/event/free-family-fun/
LOCATION:Stateline Church\, 601 N. Perryville Rd.\, Rockford\, IL\, United States
CATEGORIES:Rockford
END:VEVENT
BEGIN:VEVENT
DTSTART;TZID=America/Chicago:20191005T130000
DTEND;TZID=America/Chicago:20191005T150000
DTSTAMP:20260423T104024
CREATED:20190929T150417Z
LAST-MODIFIED:20190929T150417Z
UID:7673-1570280400-1570287600@statelinekids.com
SUMMARY:Boo to the Flu
DESCRIPTION:Join IlliniCare Health for flu shots (bring insurance card if you’d like one)\, games\, raffles\, prizes\, arts and crafts and fitness activities. Wear your Halloween costumes!
URL:https://statelinekids.com/event/boo-to-the-flu/
LOCATION:Discovery Center\, 711 N Main St\, Rockford\, IL\, 61103\, United States
CATEGORIES:Rockford
END:VEVENT
BEGIN:VEVENT
DTSTART;TZID=America/Chicago:20191012T090000
DTEND;TZID=America/Chicago:20191012T150000
DTSTAMP:20260423T104024
CREATED:20191005T170942Z
LAST-MODIFIED:20191005T170942Z
UID:7814-1570870800-1570892400@statelinekids.com
SUMMARY:Pumpkin Patch Food Drive
DESCRIPTION:Pick out your FREE pumpkin–small\, big\, or HUGE–by bringing 2 or more non-perishable food items to donate to the food drive. Donated personal items such as toothpaste/toothbrushes\, toilet paper\, tissues\, shampoo/conditioner\, feminine hygiene products\, etc are appreciated as well! The food drive will benefit the Rockton Food Pantry. Please come out and support our efforts to help feed the hungry of our community. \nThere will be many prizes\, treats\, inflatables\, and much fun to be had! You can also walk the beautiful trails through our property! \nThe food drive will take place on our property on the southwest corner of Prairie Hill and Willowbrook Rd (5800 Prairie Hill Rd). Please message us if you have any questions! \n 
URL:https://statelinekids.com/event/pumpkin-patch-food-drive/
LOCATION:Amazing Grace Lutheran Church\, 14714 Willowbrook Rd.\, South Beloit\, IL\, United States
CATEGORIES:South Beloit
END:VEVENT
BEGIN:VEVENT
DTSTART;TZID=America/Chicago:20191019T110000
DTEND;TZID=America/Chicago:20191019T140000
DTSTAMP:20260423T104024
CREATED:20191013T135016Z
LAST-MODIFIED:20191013T135016Z
UID:8037-1571482800-1571493600@statelinekids.com
SUMMARY:Fall Fest
DESCRIPTION:Come to the Family Worship Center for carnival games\, food\, face painting\, petting zoo\, prizes\, candy\, pumpkin patch and pumpkin decorating station.
URL:https://statelinekids.com/event/fall-fest/
LOCATION:Family Worship Center Beloit\, 1021 Cranston Rd.\, Beloit\, WI\, United States
CATEGORIES:Beloit
END:VEVENT
BEGIN:VEVENT
DTSTART;TZID=America/Chicago:20191025T173000
DTEND;TZID=America/Chicago:20191025T193000
DTSTAMP:20260423T104024
CREATED:20191012T015851Z
LAST-MODIFIED:20191012T015851Z
UID:7916-1572024600-1572031800@statelinekids.com
SUMMARY:Trunk or Treat at Caps Garage
DESCRIPTION:Trunk or treat from the trunks of 50 hotrods. Enjoy crafts\, an outdoor movie\, games and activities\, prizes and contests\, free photo booth and food for purchase.
URL:https://statelinekids.com/event/trunk-or-treat-at-caps-garage/
LOCATION:Caps Garage\, 7215 Clinton Rd\, Loves Park\, IL\, United States
CATEGORIES:Loves Park
END:VEVENT
BEGIN:VEVENT
DTSTART;TZID=America/Chicago:20200204T173000
DTEND;TZID=America/Chicago:20200204T183000
DTSTAMP:20260423T104024
CREATED:20200201T182334Z
LAST-MODIFIED:20200201T182334Z
UID:9657-1580837400-1580841000@statelinekids.com
SUMMARY:TeenScene: Minute to Win It at BPL
DESCRIPTION:Kids ages 12-18 can play fun games and win prizes.
URL:https://statelinekids.com/event/teenscene-minute-to-win-it-at-bpl/
LOCATION:Beloit Public Library\, 605 Eclipse Blvd\, Beloit\, WI\, United States
CATEGORIES:Beloit
END:VEVENT
BEGIN:VEVENT
DTSTART;TZID=America/Chicago:20200207T173000
DTEND;TZID=America/Chicago:20200207T193000
DTSTAMP:20260423T104024
CREATED:20200201T175954Z
LAST-MODIFIED:20200201T175954Z
UID:9648-1581096600-1581103800@statelinekids.com
SUMMARY:CBS Winterfest
DESCRIPTION:Enjoy games\, face painting\, a cake walk\, bounce house and more. Tickets are $1 each.
URL:https://statelinekids.com/event/cbs-winterfest/
LOCATION:Cathedral Baptist School\, 5622 35th St.\, Rockford\, IL\, United States
CATEGORIES:Rockford
END:VEVENT
BEGIN:VEVENT
DTSTART;TZID=America/Chicago:20210411T101500
DTEND;TZID=America/Chicago:20210411T120000
DTSTAMP:20260423T104024
CREATED:20210403T165404Z
LAST-MODIFIED:20210403T165404Z
UID:15211-1618136100-1618142400@statelinekids.com
SUMMARY:TaDah Easter Eggstravanza
DESCRIPTION:Do an Easter egg hunt\, play games\, watch an outdoor movie\, and win prizes. Sign up in advance here.
URL:https://statelinekids.com/event/tadah-easter-eggstravanza/
LOCATION:St. Mark Janesville\, 2921 Mt. Zion Ave.\, Janesville\, WI\, United States
CATEGORIES:Janesville
END:VEVENT
BEGIN:VEVENT
DTSTART;TZID=America/Chicago:20210815T120000
DTEND;TZID=America/Chicago:20210815T160000
DTSTAMP:20260423T104024
CREATED:20210808T181342Z
LAST-MODIFIED:20210808T181342Z
UID:17029-1629028800-1629043200@statelinekids.com
SUMMARY:Release the Quackin’ Party
DESCRIPTION:Launch ducks from a giant slingshot into the river to try to hit a target and win prizes. Enjoy food\, live music\, and games.
URL:https://statelinekids.com/event/release-the-quackin-party/
LOCATION:Prairie Street Brewing Company\, 200 Prairie St\, Rockford\, IL\, United States
CATEGORIES:Rockford
END:VEVENT
BEGIN:VEVENT
DTSTART;VALUE=DATE:20220531
DTEND;VALUE=DATE:20220724
DTSTAMP:20260423T104024
CREATED:20220603T135549Z
LAST-MODIFIED:20220603T135550Z
UID:20772-1653955200-1658620799@statelinekids.com
SUMMARY:NSLD Children’s Summer Reading Club
DESCRIPTION:Children’s Summer Reading Club Starts May 31 at North Suburban Library District    \nTrack your reading for a chance to WIN a camping gear set! \nGet your SRC To Go bag starting May 31 at either library location (Loves Park or Roscoe). Choose to complete the paper log included\, or use the Beanstack online tracking format. Have fun completing reading challenges! Return your completed paper log by July 23 to be included in the drawing for a chance to win a camping gear set! Stop by Children’s Services for more information. Ends Saturday\, July 23. For more information\, visit the NSLD website at www.northsuburbanlibrary.org
URL:https://statelinekids.com/event/nsld-childrens-summer-reading-club/
LOCATION:North Suburban Library Loves Park\, 6349 N 2nd Street\, Loves Park\, IL\, United States
CATEGORIES:Loves Park,Roscoe
ATTACH;FMTTYPE=image/png:https://statelinekids.com/wp-content/uploads/2022/06/Childrens-SRC.png
END:VEVENT
BEGIN:VEVENT
DTSTART;TZID=America/Chicago:20230310T163000
DTEND;TZID=America/Chicago:20230310T173000
DTSTAMP:20260423T104024
CREATED:20230304T192234Z
LAST-MODIFIED:20230304T192234Z
UID:26713-1678465800-1678469400@statelinekids.com
SUMMARY:Family Nature Trivia
DESCRIPTION:Families with kids ages 6 and up can answer trivia questions about nature and compete for prizes. Register here.
URL:https://statelinekids.com/event/family-nature-trivia/
LOCATION:Nature At the Confluence\, 306 Dickop St\, South Beloit\, IL\, United States
CATEGORIES:South Beloit
END:VEVENT
BEGIN:VEVENT
DTSTART;TZID=America/Chicago:20240727T110000
DTEND;TZID=America/Chicago:20240727T123000
DTSTAMP:20260423T104024
CREATED:20240720T175044Z
LAST-MODIFIED:20240720T175044Z
UID:36952-1722078000-1722083400@statelinekids.com
SUMMARY:Rockford Summer Bash
DESCRIPTION:Enjoy a summer bash with a bounce house\, dunk tank\, frozen treats\, hot dogs\, games\, prizes and more.
URL:https://statelinekids.com/event/rockford-summer-bash/
LOCATION:First Northern Credit Union\, 104 N. Showplace Dr.\, Rockford\, IL\, United States
CATEGORIES:Rockford
END:VEVENT
BEGIN:VEVENT
DTSTART;TZID=America/Chicago:20241026T120000
DTEND;TZID=America/Chicago:20241026T140000
DTSTAMP:20260423T104024
CREATED:20241020T223616Z
LAST-MODIFIED:20241020T223616Z
UID:38326-1729944000-1729951200@statelinekids.com
SUMMARY:The Great Pumpkin Giveaway
DESCRIPTION:Enjoy a free pumpkin while supplies last\, games\, prizes\, and deals on food.
URL:https://statelinekids.com/event/the-great-pumpkin-giveaway-5/
LOCATION:Bucciferro McDonald’s Beloit\, 45 State St.\, Beloit\, WI\, United States
CATEGORIES:Beloit
END:VEVENT
BEGIN:VEVENT
DTSTART;TZID=America/Chicago:20250719T100000
DTEND;TZID=America/Chicago:20250719T113000
DTSTAMP:20260423T104024
CREATED:20250712T165543Z
LAST-MODIFIED:20250712T165543Z
UID:41424-1752919200-1752924600@statelinekids.com
SUMMARY:Rockford Summer Bash
DESCRIPTION:Enjoy a bounce house\, play games\, win prizes\, and more. Open to the public.
URL:https://statelinekids.com/event/rockford-summer-bash-2/
LOCATION:First Northern Credit Union\, 104 N. Showplace Dr.\, Rockford\, IL\, United States
CATEGORIES:Rockford
END:VEVENT
END:VCALENDAR