BEGIN:VCALENDAR
VERSION:2.0
PRODID:-//Stateline Kids - ECPv6.5.1.3//NONSGML v1.0//EN
CALSCALE:GREGORIAN
METHOD:PUBLISH
X-WR-CALNAME:Stateline Kids
X-ORIGINAL-URL:https://statelinekids.com
X-WR-CALDESC:Events for Stateline Kids
REFRESH-INTERVAL;VALUE=DURATION:PT1H
X-Robots-Tag:noindex
X-PUBLISHED-TTL:PT1H
BEGIN:VTIMEZONE
TZID:America/Chicago
BEGIN:DAYLIGHT
TZOFFSETFROM:-0600
TZOFFSETTO:-0500
TZNAME:CDT
DTSTART:20180311T080000
END:DAYLIGHT
BEGIN:STANDARD
TZOFFSETFROM:-0500
TZOFFSETTO:-0600
TZNAME:CST
DTSTART:20181104T070000
END:STANDARD
BEGIN:DAYLIGHT
TZOFFSETFROM:-0600
TZOFFSETTO:-0500
TZNAME:CDT
DTSTART:20190310T080000
END:DAYLIGHT
BEGIN:STANDARD
TZOFFSETFROM:-0500
TZOFFSETTO:-0600
TZNAME:CST
DTSTART:20191103T070000
END:STANDARD
BEGIN:DAYLIGHT
TZOFFSETFROM:-0600
TZOFFSETTO:-0500
TZNAME:CDT
DTSTART:20200308T080000
END:DAYLIGHT
BEGIN:STANDARD
TZOFFSETFROM:-0500
TZOFFSETTO:-0600
TZNAME:CST
DTSTART:20201101T070000
END:STANDARD
BEGIN:DAYLIGHT
TZOFFSETFROM:-0600
TZOFFSETTO:-0500
TZNAME:CDT
DTSTART:20210314T080000
END:DAYLIGHT
BEGIN:STANDARD
TZOFFSETFROM:-0500
TZOFFSETTO:-0600
TZNAME:CST
DTSTART:20211107T070000
END:STANDARD
BEGIN:DAYLIGHT
TZOFFSETFROM:-0600
TZOFFSETTO:-0500
TZNAME:CDT
DTSTART:20220313T080000
END:DAYLIGHT
BEGIN:STANDARD
TZOFFSETFROM:-0500
TZOFFSETTO:-0600
TZNAME:CST
DTSTART:20221106T070000
END:STANDARD
END:VTIMEZONE
BEGIN:VEVENT
DTSTART;TZID=America/Chicago:20180929T110000
DTEND;TZID=America/Chicago:20180929T130000
DTSTAMP:20260420T001015
CREATED:20180923T161215Z
LAST-MODIFIED:20180923T161215Z
UID:2793-1538218800-1538226000@statelinekids.com
SUMMARY:Princess Brunch with Once Upon a Dream Performances
DESCRIPTION:Enjoy Franchesco’s famous brunch and a performance and meet and greet from the princesses. Get tickets here.
URL:https://statelinekids.com/event/princess-brunch-with-once-upon-a-dream-performances/
LOCATION:Franchesco’s Ristorante\, 7128 Spring Creek Rd\, Rockford\, IL\, United States
CATEGORIES:Rockford
END:VEVENT
BEGIN:VEVENT
DTSTART;TZID=America/Chicago:20181017T173000
DTEND;TZID=America/Chicago:20181017T200000
DTSTAMP:20260420T001015
CREATED:20181015T012034Z
LAST-MODIFIED:20181015T012034Z
UID:3315-1539797400-1539806400@statelinekids.com
SUMMARY:The Enchanted Forest and Hollywood Hayride
DESCRIPTION:The Enchanted Forest and Hollywood Hayride is a non-scary community-wide special event for families with young children. The Enchanted Forest was an award winter at the Wisconsin Parks and Recreation Conference for excellence in recreation programming. The event has evolved over the years to a spectacle like no other in the surrounding area\, and is a must-see for families. \nCost: Enchanted Forest $3/child\, $2/adult\nHollywood Hayride $3/person
URL:https://statelinekids.com/event/the-enchanted-forest-and-hollywood-hayride/
LOCATION:Palmer Park\, 2501 Palmer Dr\, Janesville\, WI\, United States
CATEGORIES:Janesville
END:VEVENT
BEGIN:VEVENT
DTSTART;TZID=America/Chicago:20190223T110000
DTEND;TZID=America/Chicago:20190223T130000
DTSTAMP:20260420T001015
CREATED:20190217T215012Z
LAST-MODIFIED:20190217T215012Z
UID:4923-1550919600-1550926800@statelinekids.com
SUMMARY:Princess Brunch
DESCRIPTION:Come to Franchesco’s for a brunch and show from Once Upon a Dream performers. \nCost: $40 per adult\, $20 per child
URL:https://statelinekids.com/event/princess-brunch/
LOCATION:Franchesco’s Ristorante\, 7128 Spring Creek Rd\, Rockford\, IL\, United States
CATEGORIES:Rockford
END:VEVENT
BEGIN:VEVENT
DTSTART;TZID=America/Chicago:20190503T190000
DTEND;TZID=America/Chicago:20190503T210000
DTSTAMP:20260420T001015
CREATED:20190430T034644Z
LAST-MODIFIED:20190430T034644Z
UID:5539-1556910000-1556917200@statelinekids.com
SUMMARY:Cinderella
DESCRIPTION:Watch the Hononegah High School presentation of Cinderella. Show continues through Sunday. Get tickets here. \nCost: $10/adult\, $8/student
URL:https://statelinekids.com/event/cinderella/
LOCATION:Hononegah Performing Art Center\, 307 Salem St.\, Rockton\, IL\, United States
CATEGORIES:Rockton
END:VEVENT
BEGIN:VEVENT
DTSTART;TZID=America/Chicago:20190603T100000
DTEND;TZID=America/Chicago:20190603T110000
DTSTAMP:20260420T001015
CREATED:20190601T230310Z
LAST-MODIFIED:20190601T230310Z
UID:5866-1559556000-1559559600@statelinekids.com
SUMMARY:Pop In Princess Stories
DESCRIPTION:Listen to a story read by a different princess each week and sing songs. Reservations required\, no walk ups are allowed. This event happens every Monday this summer. Get tickets here. \nCost: $5 per child\, kids under 2 and adults are free
URL:https://statelinekids.com/event/pop-in-princess-stories/
LOCATION:Once Upon a Dream Royal Tea Room\, 415 N. Church St.\, Rockford\, IL\, United States
CATEGORIES:Rockford
END:VEVENT
BEGIN:VEVENT
DTSTART;TZID=America/Chicago:20190617T100000
DTEND;TZID=America/Chicago:20190617T110000
DTSTAMP:20260420T001015
CREATED:20190616T233535Z
LAST-MODIFIED:20190616T233535Z
UID:6047-1560765600-1560769200@statelinekids.com
SUMMARY:Pop In Princess Stories
DESCRIPTION:Listen to a story read by a different princess each week and sing songs. Reservations required\, no walk ups are allowed. This event happens every Monday this summer. Get tickets here. \nCost: $5 per child\, kids under 2 and adults are free \n 
URL:https://statelinekids.com/event/pop-in-princess-stories-2/
LOCATION:Once Upon a Dream Royal Tea Room\, 415 N. Church St.\, Rockford\, IL\, United States
CATEGORIES:Rockford
END:VEVENT
BEGIN:VEVENT
DTSTART;TZID=America/Chicago:20190701T100000
DTEND;TZID=America/Chicago:20190701T110000
DTSTAMP:20260420T001015
CREATED:20190630T203809Z
LAST-MODIFIED:20190630T203809Z
UID:6308-1561975200-1561978800@statelinekids.com
SUMMARY:Pop In Princess Stories
DESCRIPTION:Listen to a princess tell a story and sing songs. Register here. \nCost: $5 per child\, ages 3 and under are free
URL:https://statelinekids.com/event/pop-in-princess-stories-3/
LOCATION:Once Upon a Dream Royal Tea Room\, 415 N. Church St.\, Rockford\, IL\, United States
CATEGORIES:Rockford
END:VEVENT
BEGIN:VEVENT
DTSTART;TZID=America/Chicago:20190708T100000
DTEND;TZID=America/Chicago:20190708T110000
DTSTAMP:20260420T001015
CREATED:20190707T171354Z
LAST-MODIFIED:20190707T171354Z
UID:6407-1562580000-1562583600@statelinekids.com
SUMMARY:Pop In Princess Stories
DESCRIPTION:Listen to a princess tell a story and sing songs. Register here. \nCost: $5 per child\, ages 3 and under are free
URL:https://statelinekids.com/event/pop-in-princess-stories-5/
LOCATION:Once Upon a Dream Royal Tea Room\, 415 N. Church St.\, Rockford\, IL\, United States
CATEGORIES:Rockford
END:VEVENT
BEGIN:VEVENT
DTSTART;TZID=America/Chicago:20190708T100000
DTEND;TZID=America/Chicago:20190708T110000
DTSTAMP:20260420T001015
CREATED:20190703T145049Z
LAST-MODIFIED:20190703T145049Z
UID:6387-1562580000-1562583600@statelinekids.com
SUMMARY:Pop In Princess Stories
DESCRIPTION:A different princess\, a different story\, a different adventure every week! \n“Pop in Princess” is a weekly story time for boys and girls\, young and old. Join us each week as we embark on exciting adventures and lessons in being strong\, brave and making a difference! \nStory times include a surprise princess visit\, themed stories and songs to make lifetime memories and learn lessons in virtue and everday acts of kindness. \nSpace is limited to 25 children per story time. Ages 2 and under are free. Adults free. Parents are required to stay. Message us for a voucher for your child under 3 to attend. Register here.
URL:https://statelinekids.com/event/pop-in-princess-stories-4/
LOCATION:Once Upon a Dream Royal Tea Room\, 415 N. Church St.\, Rockford\, IL\, United States
CATEGORIES:Rockford
END:VEVENT
BEGIN:VEVENT
DTSTART;TZID=America/Chicago:20190713T100000
DTEND;TZID=America/Chicago:20190713T120000
DTSTAMP:20260420T001015
CREATED:20190707T175405Z
LAST-MODIFIED:20190707T175405Z
UID:6464-1563012000-1563019200@statelinekids.com
SUMMARY:Princess Tea Party
DESCRIPTION:Dress as your favorite princess\, eat a three course lunch\, and meet princesses from Once Upon a Dream and the Young at Heart festival. Get tickets here. \nCost: $20 per adult\, $10 for kids 4-12\, $2 for kids 3 and under
URL:https://statelinekids.com/event/princess-tea-party/
LOCATION:Tinker Swiss Cottage\, 411 Kent St\, Rockford\, IL\, United States
CATEGORIES:Rockford
END:VEVENT
BEGIN:VEVENT
DTSTART;TZID=America/Chicago:20190713T110000
DTEND;TZID=America/Chicago:20190713T130000
DTSTAMP:20260420T001015
CREATED:20190707T161104Z
LAST-MODIFIED:20190707T161104Z
UID:6403-1563015600-1563022800@statelinekids.com
SUMMARY:Princess Meet & Greet with Brunch at Franchescos!
DESCRIPTION:Franchesco’s has partnered with Once Upon a Dream Performances to bring your families a Meet & Greet brunch. \nEnjoy Franchesco’s Brunch with Sliders\, Pancakes\, Crepes\, Snow Cones\, Popcorn\, Kim’s Cake\, and much more! \nCome meet Princess Jasmine from Aladdin in person! \nAdmissions:\nAdults $40\nKids $20
URL:https://statelinekids.com/event/princess-meet-greet-with-brunch-at-franchescos/
LOCATION:Franchesco’s Ristorante\, 7128 Spring Creek Rd\, Rockford\, IL\, United States
CATEGORIES:Rockford
END:VEVENT
BEGIN:VEVENT
DTSTART;TZID=America/Chicago:20190713T130000
DTEND;TZID=America/Chicago:20190713T160000
DTSTAMP:20260420T001015
CREATED:20190705T165531Z
LAST-MODIFIED:20190705T165531Z
UID:6396-1563022800-1563033600@statelinekids.com
SUMMARY:Fariy Festival
DESCRIPTION:Join fairies of all ages\, shapes and sizes for a magical afternoon full of fairy fun and activities on the Womanspace campus! Find & create magical fairy items to take home! Enjoy opening ceremonies & fairy dances by the Rockford Dance Company! Advance ticket purchase is recommended. Rain or shine! Sorry\, no refunds. Proceeds benefit youth programs. \nAges 4+: $10 in advance/$15 at the door \nAges 3 & under: Free!
URL:https://statelinekids.com/event/fariy-festival/
LOCATION:Womanspace of Rockford\, 3333 Maria Linden Rd\, Rockford\, IL\, United States
CATEGORIES:Rockford
END:VEVENT
BEGIN:VEVENT
DTSTART;TZID=America/Chicago:20190713T183000
DTEND;TZID=America/Chicago:20190713T213000
DTSTAMP:20260420T001015
CREATED:20190707T175904Z
LAST-MODIFIED:20190707T175904Z
UID:6468-1563042600-1563053400@statelinekids.com
SUMMARY:Princess Night at the Rockford Rivets
DESCRIPTION:Dress up in your favorite princess or superhero attire for the game. There will be post-game fireworks. Get tickets here. \nCost: $10 per ticket
URL:https://statelinekids.com/event/princess-night-at-the-rockford-rivets/
LOCATION:Rockford Rivets Stadium\, 4503 Interstate Blvd.\, Loves Park\, IL\, United States
CATEGORIES:Loves Park
END:VEVENT
BEGIN:VEVENT
DTSTART;TZID=America/Chicago:20190715T100000
DTEND;TZID=America/Chicago:20190715T110000
DTSTAMP:20260420T001015
CREATED:20190713T222444Z
LAST-MODIFIED:20190713T222444Z
UID:6507-1563184800-1563188400@statelinekids.com
SUMMARY:Pop In Princess Stories
DESCRIPTION:Listen to a princess tell a story and sing songs. Register here. \nCost: $5 per child\, ages 3 and under are free
URL:https://statelinekids.com/event/pop-in-princess-stories-6/
LOCATION:Once Upon a Dream Royal Tea Room\, 415 N. Church St.\, Rockford\, IL\, United States
CATEGORIES:Rockford
END:VEVENT
BEGIN:VEVENT
DTSTART;TZID=America/Chicago:20190722T100000
DTEND;TZID=America/Chicago:20190722T110000
DTSTAMP:20260420T001015
CREATED:20190720T184413Z
LAST-MODIFIED:20190720T184413Z
UID:6617-1563789600-1563793200@statelinekids.com
SUMMARY:Pop In Princess Storytime
DESCRIPTION:Listen to a princess tell a story and sing songs. Register here. \nCost: $5 per child\, ages 3 and under are free
URL:https://statelinekids.com/event/pop-in-princess-storytime/
LOCATION:Once Upon a Dream Royal Tea Room\, 415 N. Church St.\, Rockford\, IL\, United States
CATEGORIES:Rockford
END:VEVENT
BEGIN:VEVENT
DTSTART;TZID=America/Chicago:20190805T100000
DTEND;TZID=America/Chicago:20190805T110000
DTSTAMP:20260420T001015
CREATED:20190804T183825Z
LAST-MODIFIED:20190805T031014Z
UID:6819-1564999200-1565002800@statelinekids.com
SUMMARY:CANCELLED: Pop In Princess Stories
DESCRIPTION:Listen to a princess tell a story and sing songs. Register here. \nCost: $5 per child\, ages 3 and under are free
URL:https://statelinekids.com/event/pop-in-princess-stories-8/
LOCATION:Once Upon a Dream Royal Tea Room\, 415 N. Church St.\, Rockford\, IL\, United States
CATEGORIES:Rockford
END:VEVENT
BEGIN:VEVENT
DTSTART;TZID=America/Chicago:20190904T163000
DTEND;TZID=America/Chicago:20190904T180000
DTSTAMP:20260420T001015
CREATED:20190901T142035Z
LAST-MODIFIED:20190901T142116Z
UID:7226-1567614600-1567620000@statelinekids.com
SUMMARY:Fairy Tales and Friends Wednesday Afternoon Sessions
DESCRIPTION:Grab a complimentary cup of coffee\, sit back and watch as the little ones engage in imaginative free play at our Royal Tea Room. Each “Fairy Tales and Friends” session also includes a story time with a different princess or super hero. \nKids 2 and older cost $15\, adults and babies under 2 and free. Register here.
URL:https://statelinekids.com/event/fairy-tales-and-friends-wednesday-afternoon-sessions/
LOCATION:Once Upon a Dream Royal Tea Room\, 415 N. Church St.\, Rockford\, IL\, United States
CATEGORIES:Rockford
END:VEVENT
BEGIN:VEVENT
DTSTART;TZID=America/Chicago:20190911T163000
DTEND;TZID=America/Chicago:20190911T180000
DTSTAMP:20260420T001015
CREATED:20190908T012704Z
LAST-MODIFIED:20190908T012704Z
UID:7327-1568219400-1568224800@statelinekids.com
SUMMARY:Fairy Tales and Friends
DESCRIPTION:Kids will listen to a story told by a princess or superhero. Register here.
URL:https://statelinekids.com/event/fairy-tales-and-friends/
LOCATION:Once Upon a Dream Royal Tea Room\, 415 N. Church St.\, Rockford\, IL\, United States
CATEGORIES:Rockford
END:VEVENT
BEGIN:VEVENT
DTSTART;TZID=America/Chicago:20190925T163000
DTEND;TZID=America/Chicago:20190925T180000
DTSTAMP:20260420T001015
CREATED:20190921T185707Z
LAST-MODIFIED:20190921T185707Z
UID:7552-1569429000-1569434400@statelinekids.com
SUMMARY:Fairy Tales and Friends
DESCRIPTION:Kids will listen to a story told by a princess or superhero. Register here.
URL:https://statelinekids.com/event/fairy-tales-and-friends-3/
LOCATION:Once Upon a Dream Royal Tea Room\, 415 N. Church St.\, Rockford\, IL\, United States
CATEGORIES:Rockford
END:VEVENT
BEGIN:VEVENT
DTSTART;TZID=America/Chicago:20190928T100000
DTEND;TZID=America/Chicago:20190928T120000
DTSTAMP:20260420T001015
CREATED:20190921T203215Z
LAST-MODIFIED:20190921T203215Z
UID:7585-1569664800-1569672000@statelinekids.com
SUMMARY:Prince and Princess Palace Party
DESCRIPTION:The YMCA will transform into a magical kingdom where kids ages 4-8 can play royal games\, conduct magical experiments\, and make projects. Register here. \nCost: $10 for member\, $15 for non-members
URL:https://statelinekids.com/event/prince-and-princess-palace-party/
LOCATION:Puri Family YMCA\, 1475 S Perryville Road\, Rockford\, IL\, United States
CATEGORIES:Rockford
END:VEVENT
BEGIN:VEVENT
DTSTART;TZID=America/Chicago:20190928T100000
DTEND;TZID=America/Chicago:20190928T130000
DTSTAMP:20260420T001015
CREATED:20190921T204649Z
LAST-MODIFIED:20190921T204649Z
UID:7589-1569664800-1569675600@statelinekids.com
SUMMARY:Back to School Meet and Greet with Belle
DESCRIPTION:Meet Belle\, listen to a story\, take a photo\, sing and dance. This is an open house style event. Get tickets here. \nCost: $7 per kid presale\, $10 at the door\, kids 1 and under and adults are free
URL:https://statelinekids.com/event/back-to-school-meet-and-greet-with-belle/
LOCATION:Once Upon a Dream Royal Tea Room\, 415 N. Church St.\, Rockford\, IL\, United States
CATEGORIES:Rockford
END:VEVENT
BEGIN:VEVENT
DTSTART;TZID=America/Chicago:20191002T163000
DTEND;TZID=America/Chicago:20191002T180000
DTSTAMP:20260420T001015
CREATED:20190929T125434Z
LAST-MODIFIED:20190929T125434Z
UID:7615-1570033800-1570039200@statelinekids.com
SUMMARY:Fairy Tales and Friends
DESCRIPTION:Kids will listen to a story told by a princess or superhero. Register here.
URL:https://statelinekids.com/event/fairy-tales-and-friends-4/
LOCATION:Once Upon a Dream Royal Tea Room\, 415 N. Church St.\, Rockford\, IL\, United States
CATEGORIES:Rockford
END:VEVENT
BEGIN:VEVENT
DTSTART;TZID=America/Chicago:20191009T163000
DTEND;TZID=America/Chicago:20191009T180000
DTSTAMP:20260420T001015
CREATED:20191005T164837Z
LAST-MODIFIED:20191005T164837Z
UID:7794-1570638600-1570644000@statelinekids.com
SUMMARY:Fairy Tales and Friends
DESCRIPTION:Kids will listen to a story told by a princess or superhero. Register here.
URL:https://statelinekids.com/event/fairy-tales-and-friends-5/
LOCATION:Once Upon a Dream Royal Tea Room\, 415 N. Church St.\, Rockford\, IL\, United States
CATEGORIES:Rockford
END:VEVENT
BEGIN:VEVENT
DTSTART;TZID=America/Chicago:20191228T140000
DTEND;TZID=America/Chicago:20191228T153000
DTSTAMP:20260420T001015
CREATED:20191221T201640Z
LAST-MODIFIED:20191221T201640Z
UID:9120-1577541600-1577547000@statelinekids.com
SUMMARY:Janesville Princess Academy
DESCRIPTION:Kids ages 3-7 can dress as their favorite princess and come to a princess lesson. Kids will receive a tiara\, photoshoot\, treat and necklace. Get tickets here. \nCost is $35 for one child and adult pair
URL:https://statelinekids.com/event/janesville-princess-academy/
LOCATION:Janesville VFW Post 1621\, 1015 Center Ave.\, Janesville\, WI\, United States
CATEGORIES:Janesville
END:VEVENT
BEGIN:VEVENT
DTSTART;TZID=America/Chicago:20200125T103000
DTEND;TZID=America/Chicago:20200125T123000
DTSTAMP:20260420T001015
CREATED:20200118T202545Z
LAST-MODIFIED:20200119T170351Z
UID:9470-1579948200-1579955400@statelinekids.com
SUMMARY:Sensory Friendly Meet and Greet with the Snow Sisters
DESCRIPTION:This is a sensory-friendly meet and greet with softer music\, free play and photo opportunities capped at 25 reservations. Register here. \nCost is $10 per child 2 and up
URL:https://statelinekids.com/event/sensory-friendly-meet-and-greet-with-the-snow-sisters/
LOCATION:Once Upon a Dream Royal Tea Room\, 415 N. Church St.\, Rockford\, IL\, United States
CATEGORIES:Rockford
END:VEVENT
BEGIN:VEVENT
DTSTART;TZID=America/Chicago:20200808T110000
DTEND;TZID=America/Chicago:20200808T123000
DTSTAMP:20260420T001015
CREATED:20200801T214532Z
LAST-MODIFIED:20200801T214532Z
UID:12435-1596884400-1596889800@statelinekids.com
SUMMARY:Picnic with a Princess
DESCRIPTION:Dress up as your favorite princess and have a picnic with Miss Illinois and Miss Teen Illinois. Get tickets here.
URL:https://statelinekids.com/event/picnic-with-a-princess/
LOCATION:Tinker Swiss Cottage\, 411 Kent St\, Rockford\, IL\, United States
CATEGORIES:Rockford
END:VEVENT
BEGIN:VEVENT
DTSTART;TZID=America/Chicago:20210627T140500
DTEND;TZID=America/Chicago:20210627T160500
DTSTAMP:20260420T001015
CREATED:20210620T181347Z
LAST-MODIFIED:20210620T181347Z
UID:16347-1624802700-1624809900@statelinekids.com
SUMMARY:Princess Day at the Snappers Game
DESCRIPTION: Watch a Snappers game on Princess Day. Kids get to run the bases. Get tickets here. \nCost: $9 – 35 per ticket
URL:https://statelinekids.com/event/princess-day-at-the-snappers-game/
LOCATION:Pohlman Field\, 2301 Skyline Dr.\, Beloit\, WI\, United States
CATEGORIES:Beloit
END:VEVENT
BEGIN:VEVENT
DTSTART;TZID=America/Chicago:20210709T100000
DTEND;TZID=America/Chicago:20210709T150000
DTSTAMP:20260420T001015
CREATED:20210704T202939Z
LAST-MODIFIED:20210704T202939Z
UID:16554-1625824800-1625842800@statelinekids.com
SUMMARY:Princess and Superhero Day
DESCRIPTION:Kids can design a mask or crown\, magic wand\, and superhero shield. Reserve your spot here. \nCost: $9 per person over 1 year old / free for kids under 1 / free for members
URL:https://statelinekids.com/event/princess-and-superhero-day/
LOCATION:Discovery Center\, 711 N Main St\, Rockford\, IL\, 61103\, United States
CATEGORIES:Rockford
END:VEVENT
BEGIN:VEVENT
DTSTART;TZID=America/Chicago:20210710T180500
DTEND;TZID=America/Chicago:20210710T210000
DTSTAMP:20260420T001015
CREATED:20210704T202703Z
LAST-MODIFIED:20210704T202703Z
UID:16552-1625940300-1625950800@statelinekids.com
SUMMARY:Princess and Pirate Night at the Rockford Rivets
DESCRIPTION:Check out Princess and Pirate night at the Rockford Rivets. Get tickets here. \nCost: $12 per ticket
URL:https://statelinekids.com/event/princess-and-pirate-night-at-the-rockford-rivets/
LOCATION:Rockford Rivets Stadium\, 4503 Interstate Blvd.\, Loves Park\, IL\, United States
CATEGORIES:Loves Park
END:VEVENT
BEGIN:VEVENT
DTSTART;TZID=America/Chicago:20220722T100000
DTEND;TZID=America/Chicago:20220722T150000
DTSTAMP:20260420T001015
CREATED:20220612T181315Z
LAST-MODIFIED:20220612T181315Z
UID:20999-1658484000-1658502000@statelinekids.com
SUMMARY:Family Friday: Fairy Tale
DESCRIPTION:Grab your tiara\, polish your shield and rev up your imagination. Come in costume as your favorite princess\, knight\, villain or mythical creature. Design a castle\, invent ogre ears\, and construct a royal crest. Build a house for the three little pigs\, climb a beanstalk\, and make Humpty Dumpty fall. Check out some fairy tales found in the night sky in a special planetarium show!
URL:https://statelinekids.com/event/family-friday-fairy-tale/
LOCATION:Discovery Center\, 711 N Main St\, Rockford\, IL\, 61103\, United States
CATEGORIES:Rockford
END:VEVENT
END:VCALENDAR