BEGIN:VCALENDAR
VERSION:2.0
PRODID:-//Stateline Kids - ECPv6.5.1.3//NONSGML v1.0//EN
CALSCALE:GREGORIAN
METHOD:PUBLISH
X-WR-CALNAME:Stateline Kids
X-ORIGINAL-URL:https://statelinekids.com
X-WR-CALDESC:Events for Stateline Kids
REFRESH-INTERVAL;VALUE=DURATION:PT1H
X-Robots-Tag:noindex
X-PUBLISHED-TTL:PT1H
BEGIN:VTIMEZONE
TZID:America/Chicago
BEGIN:DAYLIGHT
TZOFFSETFROM:-0600
TZOFFSETTO:-0500
TZNAME:CDT
DTSTART:20180311T080000
END:DAYLIGHT
BEGIN:STANDARD
TZOFFSETFROM:-0500
TZOFFSETTO:-0600
TZNAME:CST
DTSTART:20181104T070000
END:STANDARD
BEGIN:DAYLIGHT
TZOFFSETFROM:-0600
TZOFFSETTO:-0500
TZNAME:CDT
DTSTART:20190310T080000
END:DAYLIGHT
BEGIN:STANDARD
TZOFFSETFROM:-0500
TZOFFSETTO:-0600
TZNAME:CST
DTSTART:20191103T070000
END:STANDARD
BEGIN:DAYLIGHT
TZOFFSETFROM:-0600
TZOFFSETTO:-0500
TZNAME:CDT
DTSTART:20200308T080000
END:DAYLIGHT
BEGIN:STANDARD
TZOFFSETFROM:-0500
TZOFFSETTO:-0600
TZNAME:CST
DTSTART:20201101T070000
END:STANDARD
BEGIN:DAYLIGHT
TZOFFSETFROM:-0600
TZOFFSETTO:-0500
TZNAME:CDT
DTSTART:20210314T080000
END:DAYLIGHT
BEGIN:STANDARD
TZOFFSETFROM:-0500
TZOFFSETTO:-0600
TZNAME:CST
DTSTART:20211107T070000
END:STANDARD
BEGIN:DAYLIGHT
TZOFFSETFROM:-0600
TZOFFSETTO:-0500
TZNAME:CDT
DTSTART:20220313T080000
END:DAYLIGHT
BEGIN:STANDARD
TZOFFSETFROM:-0500
TZOFFSETTO:-0600
TZNAME:CST
DTSTART:20221106T070000
END:STANDARD
BEGIN:DAYLIGHT
TZOFFSETFROM:-0600
TZOFFSETTO:-0500
TZNAME:CDT
DTSTART:20230312T080000
END:DAYLIGHT
BEGIN:STANDARD
TZOFFSETFROM:-0500
TZOFFSETTO:-0600
TZNAME:CST
DTSTART:20231105T070000
END:STANDARD
END:VTIMEZONE
BEGIN:VEVENT
DTSTART;TZID=America/Chicago:20180903T120000
DTEND;TZID=America/Chicago:20180903T140000
DTSTAMP:20260424T063230
CREATED:20180903T021849Z
LAST-MODIFIED:20180903T021849Z
UID:2347-1535976000-1535983200@statelinekids.com
SUMMARY:We are One Labor Day Picnic and Car Show
DESCRIPTION:This event features live music\, a car show\, bounce houses\, rock climbing\, train rides\, pony rides\, and food and beverages available for purchase.
URL:https://statelinekids.com/event/we-are-one-labor-day-picnic-and-car-show/
LOCATION:Davis Park\, 320 S. Wyman Street\, Rockford\, IL\, United States
CATEGORIES:Rockford
END:VEVENT
BEGIN:VEVENT
DTSTART;TZID=America/Chicago:20181006T110000
DTEND;TZID=America/Chicago:20181006T160000
DTSTAMP:20260424T063230
CREATED:20181001T141852Z
LAST-MODIFIED:20181006T145418Z
UID:2988-1538823600-1538841600@statelinekids.com
SUMMARY:CANCELED: Lockwood Pumpkin Fest
DESCRIPTION:Come to Lockwood Park for Lockwood Pumpkin Fest. Activities include pumpkin picking\, pony and horse rides\, making S’Mores\, games\, a corn maze\, haunted corn crib\, and more. Some activities will cost money. The fest continues throughout October including Sunday from 11 am – 4 pm and Monday from 10 am – 4 pm.
URL:https://statelinekids.com/event/lockwood-pumpkin-fest/
LOCATION:Lockwood Park\, 5201 Safford Rd\, Rockford\, IL\, United States
END:VEVENT
BEGIN:VEVENT
DTSTART;TZID=America/Chicago:20181006T110000
DTEND;TZID=America/Chicago:20181006T170000
DTSTAMP:20260424T063230
CREATED:20181001T152736Z
LAST-MODIFIED:20181001T152736Z
UID:3034-1538823600-1538845200@statelinekids.com
SUMMARY:Lake Geneva Oktoberfest
DESCRIPTION:Lake Geneva Oktoberfest is located near lovely Lake Geneva in Wisconsin. There will be pony rides\, bounce houses\, music\, children’s performances\, food\, donuts\, Scootoberfest games\, and the Giant Pumpkin Weigh-in. You can also visit local shops and see the beautiful fall colors around the lake. \nEvents for Kids:\n\nPony rides\nBounce houses\nChildren’s performances
URL:https://statelinekids.com/event/lake-geneva-oktoberfest/
LOCATION:Downtown Lake Geneva\, Main and Broad Streets\, Lake Geneva\, WI\, United States
CATEGORIES:Lake Geneva
END:VEVENT
BEGIN:VEVENT
DTSTART;TZID=America/Chicago:20181007T110000
DTEND;TZID=America/Chicago:20181007T160000
DTSTAMP:20260424T063230
CREATED:20181001T143025Z
LAST-MODIFIED:20181007T163726Z
UID:2991-1538910000-1538928000@statelinekids.com
SUMMARY:CANCELED - Lockwood Pumpkin Fest
DESCRIPTION:Come to Lockwood Park for Lockwood Pumpkin Fest. Activities include pumpkin picking\, pony and horse rides\, making S’Mores\, games\, a corn maze\, haunted corn crib\, and more. Some activities will cost money. The fest continues throughout October including Sunday from 11 am – 4 pm and Monday from 10 am – 4 pm.
URL:https://statelinekids.com/event/lockwood-pumpkin-fest-2/
LOCATION:Lockwood Park\, 5201 Safford Rd\, Rockford\, IL\, United States
CATEGORIES:Rockford
END:VEVENT
BEGIN:VEVENT
DTSTART;TZID=America/Chicago:20181007T110000
DTEND;TZID=America/Chicago:20181007T170000
DTSTAMP:20260424T063230
CREATED:20181001T152844Z
LAST-MODIFIED:20181001T152844Z
UID:3037-1538910000-1538931600@statelinekids.com
SUMMARY:Lake Geneva Oktoberfest
DESCRIPTION:Lake Geneva Oktoberfest is located near lovely Lake Geneva in Wisconsin. There will be pony rides\, bounce houses\, music\, children’s performances\, food\, donuts\, Scootoberfest games\, and the Giant Pumpkin Weigh-in. You can also visit local shops and see the beautiful fall colors around the lake. \nEvents for Kids:\n\nPony rides\nBounce houses\nChildren’s performances
URL:https://statelinekids.com/event/lake-geneva-oktoberfest-2/
LOCATION:Downtown Lake Geneva\, Main and Broad Streets\, Lake Geneva\, WI\, United States
CATEGORIES:Lake Geneva
END:VEVENT
BEGIN:VEVENT
DTSTART;TZID=America/Chicago:20181008T100000
DTEND;TZID=America/Chicago:20181008T160000
DTSTAMP:20260424T063230
CREATED:20181001T143444Z
LAST-MODIFIED:20181001T143444Z
UID:2993-1538992800-1539014400@statelinekids.com
SUMMARY:Lockwood Pumpkin Fest
DESCRIPTION:Come to Lockwood Park for Lockwood Pumpkin Fest. Activities include pumpkin picking\, pony and horse rides\, making S’Mores\, games\, a corn maze\, haunted corn crib\, and more. Some activities will cost money. The fest continues throughout October including Sunday from 11 am – 4 pm and Monday from 10 am – 4 pm.
URL:https://statelinekids.com/event/lockwood-pumpkin-fest-3/
LOCATION:Lockwood Park\, 5201 Safford Rd\, Rockford\, IL\, United States
CATEGORIES:Rockford
END:VEVENT
BEGIN:VEVENT
DTSTART;TZID=America/Chicago:20181020T110000
DTEND;TZID=America/Chicago:20181020T160000
DTSTAMP:20260424T063230
CREATED:20181015T152306Z
LAST-MODIFIED:20181019T212933Z
UID:3366-1540033200-1540051200@statelinekids.com
SUMMARY:CANCELED - Lockwood Pumpkin Fest
DESCRIPTION:Come to Lockwood Park for Lockwood Pumpkin Fest. Activities include pumpkin picking\, pony and horse rides\, making S’Mores\, games\, a corn maze\, haunted corn crib\, and more. Some activities will cost money.
URL:https://statelinekids.com/event/lockwood-pumpkin-fest-7/
LOCATION:Lockwood Park\, 5201 Safford Rd\, Rockford\, IL\, United States
CATEGORIES:Rockford
END:VEVENT
BEGIN:VEVENT
DTSTART;TZID=America/Chicago:20181021T110000
DTEND;TZID=America/Chicago:20181021T160000
DTSTAMP:20260424T063230
CREATED:20181015T151822Z
LAST-MODIFIED:20181015T151822Z
UID:3364-1540119600-1540137600@statelinekids.com
SUMMARY:Lockwood Pumpkin Fest
DESCRIPTION:Come to Lockwood Park for Lockwood Pumpkin Fest. Activities include pumpkin picking\, pony and horse rides\, making S’Mores\, games\, a corn maze\, haunted corn crib\, and more. Some activities will cost money.
URL:https://statelinekids.com/event/lockwood-pumpkin-fest-6/
LOCATION:Lockwood Park\, 5201 Safford Rd\, Rockford\, IL\, United States
CATEGORIES:Rockford
END:VEVENT
BEGIN:VEVENT
DTSTART;TZID=America/Chicago:20181027T110000
DTEND;TZID=America/Chicago:20181027T160000
DTSTAMP:20260424T063230
CREATED:20181015T152433Z
LAST-MODIFIED:20181015T152433Z
UID:3368-1540638000-1540656000@statelinekids.com
SUMMARY:Lockwood Pumpkin Fest
DESCRIPTION:Come to Lockwood Park for Lockwood Pumpkin Fest. Activities include pumpkin picking\, pony and horse rides\, making S’Mores\, games\, a corn maze\, haunted corn crib\, and more. Some activities will cost money.
URL:https://statelinekids.com/event/lockwood-pumpkin-fest-8/
LOCATION:Lockwood Park\, 5201 Safford Rd\, Rockford\, IL\, United States
CATEGORIES:Rockford
END:VEVENT
BEGIN:VEVENT
DTSTART;TZID=America/Chicago:20181028T110000
DTEND;TZID=America/Chicago:20181028T160000
DTSTAMP:20260424T063230
CREATED:20181015T152540Z
LAST-MODIFIED:20181028T182147Z
UID:3370-1540724400-1540742400@statelinekids.com
SUMMARY:CANCELED - Lockwood Pumpkin Fest
DESCRIPTION:Come to Lockwood Park for Lockwood Pumpkin Fest. Activities include pumpkin picking\, pony and horse rides\, making S’Mores\, games\, a corn maze\, haunted corn crib\, and more. Some activities will cost money.
URL:https://statelinekids.com/event/lockwood-pumpkin-fest-9/
LOCATION:Lockwood Park\, 5201 Safford Rd\, Rockford\, IL\, United States
CATEGORIES:Rockford
END:VEVENT
BEGIN:VEVENT
DTSTART;TZID=America/Chicago:20190821T110000
DTEND;TZID=America/Chicago:20190821T140000
DTSTAMP:20260424T063230
CREATED:20190818T190440Z
LAST-MODIFIED:20190818T190440Z
UID:7082-1566385200-1566396000@statelinekids.com
SUMMARY:Lockwood Park Back to School Celebration
DESCRIPTION:Stop by Lockwood Park to meet the animals in the Children’s Farm\, ride the ponies\, and play on the two playgrounds. \nCost: Free to enter\, $1 to feed animals\, $3 for pony rides
URL:https://statelinekids.com/event/lockwood-park-back-to-school-celebration/
LOCATION:Lockwood Park\, 5201 Safford Rd\, Rockford\, IL\, United States
CATEGORIES:Rockford
END:VEVENT
BEGIN:VEVENT
DTSTART;TZID=America/Chicago:20191012T100000
DTEND;TZID=America/Chicago:20191012T170000
DTSTAMP:20260424T063230
CREATED:20191005T172441Z
LAST-MODIFIED:20191005T172441Z
UID:7819-1570874400-1570899600@statelinekids.com
SUMMARY:Lockwood’s Pumpkin Fest
DESCRIPTION:Spend the day at Lockwood celebrating Fall by picking a pumpkin\, riding a pony or horse\, playing games\, going through a corn maze and making S’mores. Pumpkins are $6\, pony rides are $4\, S’mores are $2. Save money by buying wristbands in advance here. Event continues Sunday and Monday from 10 am – 5 pm. \nCost: $12 per person admission\, 2 and under are free. Activities cost money.
URL:https://statelinekids.com/event/lockwoods-pumpkin-fest/
LOCATION:Lockwood Park\, 5201 Safford Rd\, Rockford\, IL\, United States
CATEGORIES:Rockford
END:VEVENT
BEGIN:VEVENT
DTSTART;TZID=America/Chicago:20191013T100000
DTEND;TZID=America/Chicago:20191013T170000
DTSTAMP:20260424T063230
CREATED:20191005T172526Z
LAST-MODIFIED:20191005T172526Z
UID:7821-1570960800-1570986000@statelinekids.com
SUMMARY:Lockwood's Pumpkin Fest
DESCRIPTION:Spend the day at Lockwood celebrating Fall by picking a pumpkin\, riding a pony or horse\, playing games\, going through a corn maze and making S’mores. Pumpkins are $6\, pony rides are $4\, S’mores are $2. Save money by buying wristbands in advance here. Event continues Sunday and Monday from 10 am – 5 pm. \nCost: $12 per person admission\, 2 and under are free. Activities cost money.
URL:https://statelinekids.com/event/lockwoods-pumpkin-fest-2/
LOCATION:Lockwood Park\, 5201 Safford Rd\, Rockford\, IL\, United States
CATEGORIES:Rockford
END:VEVENT
BEGIN:VEVENT
DTSTART;TZID=America/Chicago:20191014T100000
DTEND;TZID=America/Chicago:20191014T170000
DTSTAMP:20260424T063230
CREATED:20191005T172618Z
LAST-MODIFIED:20191005T172618Z
UID:7823-1571047200-1571072400@statelinekids.com
SUMMARY:Lockwood's Pumpkin Fest
DESCRIPTION:Spend the day at Lockwood celebrating Fall by picking a pumpkin\, riding a pony or horse\, playing games\, going through a corn maze and making S’mores. Pumpkins are $6\, pony rides are $4\, S’mores are $2. Save money by buying wristbands in advance here. Event continues Sunday and Monday from 10 am – 5 pm. \nCost: $12 per person admission\, 2 and under are free. Activities cost money.
URL:https://statelinekids.com/event/lockwoods-pumpkin-fest-3/
LOCATION:Lockwood Park\, 5201 Safford Rd\, Rockford\, IL\, United States
CATEGORIES:Rockford
END:VEVENT
BEGIN:VEVENT
DTSTART;TZID=America/Chicago:20191027T160000
DTEND;TZID=America/Chicago:20191027T190000
DTSTAMP:20260424T063230
CREATED:20191015T142856Z
LAST-MODIFIED:20191015T142856Z
UID:8131-1572192000-1572202800@statelinekids.com
SUMMARY:Harvest Fest
DESCRIPTION:Enjoy a day of fall fun at Maywood Free Church. There will be hayrides\, bounce house\, pony rides\, face painting\, candy grabs\, chili\, hot dogs and more. Everything is FREE!
URL:https://statelinekids.com/event/harvest-fest/
LOCATION:Maywood Free Church\, 3621 Samuelson Rd\, Rockford\, IL\, United States
CATEGORIES:Rockford
END:VEVENT
BEGIN:VEVENT
DTSTART;TZID=America/Chicago:20201003T100000
DTEND;TZID=America/Chicago:20201003T160000
DTSTAMP:20260424T063230
CREATED:20200927T174515Z
LAST-MODIFIED:20200927T174515Z
UID:13101-1601719200-1601740800@statelinekids.com
SUMMARY:Fall on the Farm
DESCRIPTION:Spend the day at the farm and do a variety of fall activities including picking a pumpkin\, taking a wagon ride\, riding a pony ride\, and visiting the petting zoo. This event continues throughout October. \nCost: $10 per person for the experience package
URL:https://statelinekids.com/event/fall-on-the-farm/2020-10-03/
LOCATION:Lockwood Park\, 5201 Safford Rd\, Rockford\, IL\, United States
CATEGORIES:Rockford
END:VEVENT
BEGIN:VEVENT
DTSTART;TZID=America/Chicago:20210522T100000
DTEND;TZID=America/Chicago:20210522T160000
DTSTAMP:20260424T063230
CREATED:20210516T180644Z
LAST-MODIFIED:20210516T180809Z
UID:15651-1621677600-1621699200@statelinekids.com
SUMMARY:Saturday Fun at Lockwood Park
DESCRIPTION:Enjoy the two playgrounds\, Children’s Farm barn\, pony rides\, and wagon rides.  \nCost: Activities costs from $1-5
URL:https://statelinekids.com/event/saturday-fun/2021-05-22/
LOCATION:Lockwood Park\, 5201 Safford Rd\, Rockford\, IL\, United States
CATEGORIES:Rockford
END:VEVENT
BEGIN:VEVENT
DTSTART;TZID=America/Chicago:20211031T160000
DTEND;TZID=America/Chicago:20211031T183000
DTSTAMP:20260424T063230
CREATED:20211021T183146Z
LAST-MODIFIED:20211021T183146Z
UID:17910-1635696000-1635705000@statelinekids.com
SUMMARY:Harvest Fest at Maywood Free Church
DESCRIPTION:Enjoy hayrides\, pony rides\, face painting\, candy for kids\, hot dogs\, chili and more. Open to the public and free for everyone!
URL:https://statelinekids.com/event/harvest-fest-at-maywood-free-church/
LOCATION:Maywood Free Church\, 3621 Samuelson Rd\, Rockford\, IL\, United States
CATEGORIES:Rockford
END:VEVENT
BEGIN:VEVENT
DTSTART;TZID=America/Chicago:20231029T150000
DTEND;TZID=America/Chicago:20231029T180000
DTSTAMP:20260424T063230
CREATED:20231011T150626Z
LAST-MODIFIED:20231011T150626Z
UID:31283-1698591600-1698602400@statelinekids.com
SUMMARY:Harvest Fest
DESCRIPTION:Enjoy free chili\, hot dogs\, tamales\, pony rides\, hay rides\, kids games\, candy for kids\, and a bunch more goodies. Dress warmly as it’s entirely outdoors and can be chilly!
URL:https://statelinekids.com/event/harvest-fest-2/
LOCATION:Maywood Free Church\, 3621 Samuelson Rd\, Rockford\, IL\, United States
CATEGORIES:Rockford
END:VEVENT
END:VCALENDAR