BEGIN:VCALENDAR
VERSION:2.0
PRODID:-//Stateline Kids - ECPv6.5.1.3//NONSGML v1.0//EN
CALSCALE:GREGORIAN
METHOD:PUBLISH
X-ORIGINAL-URL:https://statelinekids.com
X-WR-CALDESC:Events for Stateline Kids
REFRESH-INTERVAL;VALUE=DURATION:PT1H
X-Robots-Tag:noindex
X-PUBLISHED-TTL:PT1H
BEGIN:VTIMEZONE
TZID:America/Chicago
BEGIN:DAYLIGHT
TZOFFSETFROM:-0600
TZOFFSETTO:-0500
TZNAME:CDT
DTSTART:20220313T080000
END:DAYLIGHT
BEGIN:STANDARD
TZOFFSETFROM:-0500
TZOFFSETTO:-0600
TZNAME:CST
DTSTART:20221106T070000
END:STANDARD
BEGIN:DAYLIGHT
TZOFFSETFROM:-0600
TZOFFSETTO:-0500
TZNAME:CDT
DTSTART:20230312T080000
END:DAYLIGHT
BEGIN:STANDARD
TZOFFSETFROM:-0500
TZOFFSETTO:-0600
TZNAME:CST
DTSTART:20231105T070000
END:STANDARD
BEGIN:DAYLIGHT
TZOFFSETFROM:-0600
TZOFFSETTO:-0500
TZNAME:CDT
DTSTART:20240310T080000
END:DAYLIGHT
BEGIN:STANDARD
TZOFFSETFROM:-0500
TZOFFSETTO:-0600
TZNAME:CST
DTSTART:20241103T070000
END:STANDARD
END:VTIMEZONE
BEGIN:VEVENT
DTSTART;TZID=America/Chicago:20220512T100000
DTEND;TZID=America/Chicago:20220512T104500
DTSTAMP:20260424T093009
CREATED:20220507T175809Z
LAST-MODIFIED:20220507T175809Z
UID:20151-1652349600-1652352300@statelinekids.com
SUMMARY:Baby Play Date
DESCRIPTION:Babies ages 0-2 can enjoy simple songs and stories while parents get to know each other.
URL:https://statelinekids.com/event/baby-play-date-6/
LOCATION:Beloit Public Library\, 605 Eclipse Blvd\, Beloit\, WI\, United States
CATEGORIES:Beloit
END:VEVENT
BEGIN:VEVENT
DTSTART;TZID=America/Chicago:20230112T100000
DTEND;TZID=America/Chicago:20230112T104500
DTSTAMP:20260424T093009
CREATED:20230107T205816Z
LAST-MODIFIED:20230107T205816Z
UID:25686-1673517600-1673520300@statelinekids.com
SUMMARY:Baby Play Date
DESCRIPTION:Parents can bring babies ages birth through two to connect with other parents\, sing songs\, and listen to stories.
URL:https://statelinekids.com/event/baby-play-date-7/2023-01-12/
LOCATION:Beloit Public Library\, 605 Eclipse Blvd\, Beloit\, WI\, United States
CATEGORIES:Beloit
END:VEVENT
BEGIN:VEVENT
DTSTART;TZID=America/Chicago:20230209T100000
DTEND;TZID=America/Chicago:20230209T104500
DTSTAMP:20260424T093009
CREATED:20230205T185154Z
LAST-MODIFIED:20230205T185154Z
UID:26298-1675936800-1675939500@statelinekids.com
SUMMARY:Baby Play Date
DESCRIPTION:Babies under 2 years old can enjoy simple songs and stories.
URL:https://statelinekids.com/event/baby-play-date-8/
LOCATION:Beloit Public Library\, 605 Eclipse Blvd\, Beloit\, WI\, United States
CATEGORIES:Beloit
END:VEVENT
BEGIN:VEVENT
DTSTART;TZID=America/Chicago:20230620T100000
DTEND;TZID=America/Chicago:20230620T110000
DTSTAMP:20260424T093009
CREATED:20230617T005019Z
LAST-MODIFIED:20230617T005019Z
UID:28823-1687255200-1687258800@statelinekids.com
SUMMARY:Play Dates and Popsicles With the Principal
DESCRIPTION:Join Spectrum Progressive School’s principal for a morning of hands-on play with current and prospective families. Kids can enjoy popsicles and a play date and learn more about what Spectrum has to offer. Spectrum is a preschool and early education school where the studio ratios are 12:1. They have a multi-age learning environment and connect with nature.
URL:https://statelinekids.com/event/play-dates-and-popsicles-with-the-principal/2023-06-20/
LOCATION:Spectrum School\, 4848 Turner Street\, Rockford\, IL\, United States
CATEGORIES:Rockford
ATTACH;FMTTYPE=image/png:https://statelinekids.com/wp-content/uploads/2023/06/Screen-Shot-2023-06-16-at-7.49.23-PM.png
END:VEVENT
BEGIN:VEVENT
DTSTART;TZID=America/Chicago:20240111T100000
DTEND;TZID=America/Chicago:20240111T104500
DTSTAMP:20260424T093009
CREATED:20240107T021723Z
LAST-MODIFIED:20240107T021723Z
UID:32913-1704967200-1704969900@statelinekids.com
SUMMARY:Baby Play Date
DESCRIPTION:Babies ages 0-2 can connect with their parents while hearing simple songs and stories.
URL:https://statelinekids.com/event/baby-play-date-9/
LOCATION:Beloit Public Library\, 605 Eclipse Blvd\, Beloit\, WI\, United States
CATEGORIES:Beloit
END:VEVENT
END:VCALENDAR