BEGIN:VCALENDAR
VERSION:2.0
PRODID:-//Stateline Kids - ECPv6.5.1.3//NONSGML v1.0//EN
CALSCALE:GREGORIAN
METHOD:PUBLISH
X-WR-CALNAME:Stateline Kids
X-ORIGINAL-URL:https://statelinekids.com
X-WR-CALDESC:Events for Stateline Kids
REFRESH-INTERVAL;VALUE=DURATION:PT1H
X-Robots-Tag:noindex
X-PUBLISHED-TTL:PT1H
BEGIN:VTIMEZONE
TZID:America/Chicago
BEGIN:DAYLIGHT
TZOFFSETFROM:-0600
TZOFFSETTO:-0500
TZNAME:CDT
DTSTART:20180311T080000
END:DAYLIGHT
BEGIN:STANDARD
TZOFFSETFROM:-0500
TZOFFSETTO:-0600
TZNAME:CST
DTSTART:20181104T070000
END:STANDARD
BEGIN:DAYLIGHT
TZOFFSETFROM:-0600
TZOFFSETTO:-0500
TZNAME:CDT
DTSTART:20190310T080000
END:DAYLIGHT
BEGIN:STANDARD
TZOFFSETFROM:-0500
TZOFFSETTO:-0600
TZNAME:CST
DTSTART:20191103T070000
END:STANDARD
BEGIN:DAYLIGHT
TZOFFSETFROM:-0600
TZOFFSETTO:-0500
TZNAME:CDT
DTSTART:20200308T080000
END:DAYLIGHT
BEGIN:STANDARD
TZOFFSETFROM:-0500
TZOFFSETTO:-0600
TZNAME:CST
DTSTART:20201101T070000
END:STANDARD
BEGIN:DAYLIGHT
TZOFFSETFROM:-0600
TZOFFSETTO:-0500
TZNAME:CDT
DTSTART:20210314T080000
END:DAYLIGHT
BEGIN:STANDARD
TZOFFSETFROM:-0500
TZOFFSETTO:-0600
TZNAME:CST
DTSTART:20211107T070000
END:STANDARD
BEGIN:DAYLIGHT
TZOFFSETFROM:-0600
TZOFFSETTO:-0500
TZNAME:CDT
DTSTART:20220313T080000
END:DAYLIGHT
BEGIN:STANDARD
TZOFFSETFROM:-0500
TZOFFSETTO:-0600
TZNAME:CST
DTSTART:20221106T070000
END:STANDARD
BEGIN:DAYLIGHT
TZOFFSETFROM:-0600
TZOFFSETTO:-0500
TZNAME:CDT
DTSTART:20230312T080000
END:DAYLIGHT
BEGIN:STANDARD
TZOFFSETFROM:-0500
TZOFFSETTO:-0600
TZNAME:CST
DTSTART:20231105T070000
END:STANDARD
END:VTIMEZONE
BEGIN:VEVENT
DTSTART;TZID=America/Chicago:20180728T110000
DTEND;TZID=America/Chicago:20180728T140000
DTSTAMP:20260420T155520
CREATED:20180711T185245Z
LAST-MODIFIED:20180711T185245Z
UID:917-1532775600-1532786400@statelinekids.com
SUMMARY:Kid's Health and Safety Fair
DESCRIPTION:Join State Rep. Joe Sosnowski along with over 50 health and safety booths from local organizations\, businesses\, and government agencies for a day of fun. \nFree Kids Identification kits \nCheck out over 20 cool trucks and emergency vehicles \nFree diabetes screening \nCar seat safety check \nKnocker ball \nBring canned food item to enter raffle \nBounce house and petting zoo \nShred truck for paper documents \n 
URL:https://statelinekids.com/event/kids-health-and-safety-fair/
LOCATION:Rockford Christian Schools\, 1401 N. Bell School Road\, Rockford\, IL\, United States
CATEGORIES:Rockford
END:VEVENT
BEGIN:VEVENT
DTSTART;TZID=America/Chicago:20180901T100000
DTEND;TZID=America/Chicago:20180901T170000
DTSTAMP:20260420T155520
CREATED:20180829T144835Z
LAST-MODIFIED:20180829T144835Z
UID:2277-1535796000-1535821200@statelinekids.com
SUMMARY:Maple Park Fun Fest
DESCRIPTION:If you’re up for a short drive (45 minutes from Rockford)\, Maple Park Fun Fest has a bunch of free activities for kids on Saturday. The Fun Fest continues through Monday\, September 3. Admission is FREE! \nSaturday’s schedule: \nPetting zoo from 12 pm – 4 pm \nTraveling reptiles show from 12:30 – 1:30 pm \nBobby “Circus Boy” Hunt at 4 pm \nToilet Bowl Races at 2 pm \nRock climbing wall from 12 pm – 4 pm \nFace painting by Maddie from 1 pm – 3 pm \nCaricaturist David Curbis from 2:30 – 5:00 pm \n  \n 
URL:https://statelinekids.com/event/maple-park-fun-fest/
LOCATION:Maple Park Main Street\, 309 Main Street\, Maple Park\, IL\, United States
CATEGORIES:Maple Park
END:VEVENT
BEGIN:VEVENT
DTSTART;TZID=America/Chicago:20180916T100000
DTEND;TZID=America/Chicago:20180916T160000
DTSTAMP:20260420T155520
CREATED:20180914T204859Z
LAST-MODIFIED:20180914T204859Z
UID:2611-1537092000-1537113600@statelinekids.com
SUMMARY:Dixon Scarecrow Fest
DESCRIPTION:There will be scarecrow decorating contests\, face painting\, sign painting\, pumpkin painting\, balloons\, food\, a petting zoo\, craft vendors and a pumpkin patch.
URL:https://statelinekids.com/event/dixon-scarecrow-fest/
LOCATION:Downtown Dixon\, 300 block of downtown\, Dixon\, IL\, United States
CATEGORIES:Dixon
END:VEVENT
BEGIN:VEVENT
DTSTART;TZID=America/Chicago:20181014T100000
DTEND;TZID=America/Chicago:20181014T150000
DTSTAMP:20260420T155520
CREATED:20181001T151349Z
LAST-MODIFIED:20181001T151349Z
UID:3018-1539511200-1539529200@statelinekids.com
SUMMARY:Autumn at the Arboretum
DESCRIPTION:Autumn at the Arboretum is one of Klehm’s most popular family events. There will be scarecrow building\, pumpkin decorating\, face painting\, horse-drawn wagon rides\, and more. Food and drink are available for purchase. \nEvents for Kids:\n\nScarecrow building\nPumpkin decorating\nFace painting\nHorse-drawn wagon rides\nPickles the Clown entertainment with balloon creations\nStorybook princesses and superheroes\nPetting zoo with farm animals
URL:https://statelinekids.com/event/autumn-at-the-arboretum/
LOCATION:Klehm Arboretum and Botanic Garden\, 2715 S Main St\,\, Rockford\, IL\, United States
CATEGORIES:Rockford
END:VEVENT
BEGIN:VEVENT
DTSTART;TZID=America/Chicago:20181215T160000
DTEND;TZID=America/Chicago:20181215T200000
DTSTAMP:20260420T155520
CREATED:20181211T042926Z
LAST-MODIFIED:20181211T042926Z
UID:4152-1544889600-1544904000@statelinekids.com
SUMMARY:Christmas Traditions 2018
DESCRIPTION:First Free Rockford hosts their third annual Christmas Traditions event Saturday\, December 15. Each activity is designed to help families create new holiday traditions and memories while weaving the Christmas story into it all. There will be a reindeer petting zoo\, indoor snowball fight\, live nativity with real animals\, free photos with Santa\, and more fun family activities.
URL:https://statelinekids.com/event/christmas-traditions-2018/
LOCATION:First Free Rockford\, 2223 N Mulford Rd\, Rockford\, IL\, United States
CATEGORIES:Rockford
END:VEVENT
BEGIN:VEVENT
DTSTART;TZID=America/Chicago:20190530T170000
DTEND;TZID=America/Chicago:20190530T220000
DTSTAMP:20260420T155520
CREATED:20190525T202649Z
LAST-MODIFIED:20190525T202649Z
UID:5777-1559235600-1559253600@statelinekids.com
SUMMARY:Rockford Speedway Fair
DESCRIPTION:Come play midway games\, ride on the rides\, and have food. There will be a petting zoo\, pig races\, and stage shows. This fair continues through June 2nd. Hours include Friday 5 pm – 10 pm\, Saturday 11 am – 11 pm and Sunday 11 am – 9 pm. Get tickets here. \nCost: $2 at the gate\, kids 5 and under are free; Parking: $5\nWristbands: $20/advance online and $28/onsite
URL:https://statelinekids.com/event/rockford-speedway-fair/
LOCATION:Rockford Speedway\, 9572 Forest Hills Dr\, Loves Park\, IL\, United States
CATEGORIES:Loves Park
END:VEVENT
BEGIN:VEVENT
DTSTART;TZID=America/Chicago:20190531T170000
DTEND;TZID=America/Chicago:20190531T220000
DTSTAMP:20260420T155520
CREATED:20190525T202757Z
LAST-MODIFIED:20190525T202757Z
UID:5780-1559322000-1559340000@statelinekids.com
SUMMARY:Rockford Speedway Fair
DESCRIPTION:Come play midway games\, ride on the rides\, and have food. There will be a petting zoo\, pig races\, and stage shows. This fair continues through June 2nd. Hours include Friday 5 pm – 10 pm\, Saturday 11 am – 11 pm and Sunday 11 am – 9 pm. Get tickets here. \nCost: $2 at the gate\, kids 5 and under are free; Parking: $5\nWristbands: $20/advance online and $28/onsite
URL:https://statelinekids.com/event/rockford-speedway-fair-2/
LOCATION:Rockford Speedway\, 9572 Forest Hills Dr\, Loves Park\, IL\, United States
CATEGORIES:Loves Park
END:VEVENT
BEGIN:VEVENT
DTSTART;TZID=America/Chicago:20190601T110000
DTEND;TZID=America/Chicago:20190601T230000
DTSTAMP:20260420T155520
CREATED:20190525T202852Z
LAST-MODIFIED:20190525T202852Z
UID:5782-1559386800-1559430000@statelinekids.com
SUMMARY:Rockford Speedway Fair
DESCRIPTION:Come play midway games\, ride on the rides\, and have food. There will be a petting zoo\, pig races\, and stage shows. This fair continues through June 2nd. Hours include Friday 5 pm – 10 pm\, Saturday 11 am – 11 pm and Sunday 11 am – 9 pm. Get tickets here. \nCost: $2 at the gate\, kids 5 and under are free; Parking: $5\nWristbands: $20/advance online and $28/onsite
URL:https://statelinekids.com/event/rockford-speedway-fair-3/
LOCATION:Rockford Speedway\, 9572 Forest Hills Dr\, Loves Park\, IL\, United States
CATEGORIES:Loves Park
END:VEVENT
BEGIN:VEVENT
DTSTART;TZID=America/Chicago:20190602T110000
DTEND;TZID=America/Chicago:20190602T210000
DTSTAMP:20260420T155520
CREATED:20190525T202950Z
LAST-MODIFIED:20190525T202950Z
UID:5784-1559473200-1559509200@statelinekids.com
SUMMARY:Rockford Speedway Fair
DESCRIPTION:Come play midway games\, ride on the rides\, and have food. There will be a petting zoo\, pig races\, and stage shows. This fair continues through June 2nd. Hours include Friday 5 pm – 10 pm\, Saturday 11 am – 11 pm and Sunday 11 am – 9 pm. Get tickets here. \nCost: $2 at the gate\, kids 5 and under are free; Parking: $5\nWristbands: $20/advance online and $28/onsite
URL:https://statelinekids.com/event/rockford-speedway-fair-4/
LOCATION:Rockford Speedway\, 9572 Forest Hills Dr\, Loves Park\, IL\, United States
CATEGORIES:Loves Park
END:VEVENT
BEGIN:VEVENT
DTSTART;TZID=America/Chicago:20190712T110000
DTEND;TZID=America/Chicago:20190712T153000
DTSTAMP:20260420T155520
CREATED:20190705T164405Z
LAST-MODIFIED:20190705T164405Z
UID:6394-1562929200-1562945400@statelinekids.com
SUMMARY:Animal Petting Zoo at Discovery Center
DESCRIPTION:Get ready for a rural romp Discovery Center Museum Meet and greet bunnies\, cows\, goats\, and ducks as we bring a barnyard of fun to Discovery Center! Pet a farm friend\, create a rural mural\, and find out how agriculture is everywhere everyday. Get artistic with loads of legumes\, and stuff your brain with farm facts! All activities included with admission: $9/Public; free to Members and all children ages one and younger.
URL:https://statelinekids.com/event/animal-petting-zoo-at-discovery-center/
LOCATION:Discovery Center\, 711 N Main St\, Rockford\, IL\, 61103\, United States
CATEGORIES:Rockford
END:VEVENT
BEGIN:VEVENT
DTSTART;TZID=America/Chicago:20190720T110000
DTEND;TZID=America/Chicago:20190720T140000
DTSTAMP:20260420T155520
CREATED:20190714T195610Z
LAST-MODIFIED:20190714T195610Z
UID:6598-1563620400-1563631200@statelinekids.com
SUMMARY:Kids’ Health and Safety Fair
DESCRIPTION:Safety fair for families with a petting zoo\, kids games\, balloon creations\, safety info\, prizes and more.
URL:https://statelinekids.com/event/kids-health-and-safety-fair-2/
LOCATION:Rockford Christian Schools\, 1401 N. Bell School Road\, Rockford\, IL\, United States
CATEGORIES:Rockford
END:VEVENT
BEGIN:VEVENT
DTSTART;TZID=America/Chicago:20191012T120000
DTEND;TZID=America/Chicago:20191012T150000
DTSTAMP:20260420T155520
CREATED:20191005T173645Z
LAST-MODIFIED:20191005T173645Z
UID:7830-1570881600-1570892400@statelinekids.com
SUMMARY:Great Pumpkin Giveaway
DESCRIPTION:Get a free pumpkin\, see the mini petting zoo\, and meet local Firefighters who will give safety tips.
URL:https://statelinekids.com/event/great-pumpkin-giveaway/
LOCATION:Weichert\, Realtors- Tovar Properties\, 5812 East Dr.\, Loves Park\, IL\, United States
CATEGORIES:Loves Park
END:VEVENT
BEGIN:VEVENT
DTSTART;TZID=America/Chicago:20191019T110000
DTEND;TZID=America/Chicago:20191019T140000
DTSTAMP:20260420T155520
CREATED:20191013T135016Z
LAST-MODIFIED:20191013T135016Z
UID:8037-1571482800-1571493600@statelinekids.com
SUMMARY:Fall Fest
DESCRIPTION:Come to the Family Worship Center for carnival games\, food\, face painting\, petting zoo\, prizes\, candy\, pumpkin patch and pumpkin decorating station.
URL:https://statelinekids.com/event/fall-fest/
LOCATION:Family Worship Center Beloit\, 1021 Cranston Rd.\, Beloit\, WI\, United States
CATEGORIES:Beloit
END:VEVENT
BEGIN:VEVENT
DTSTART;TZID=America/Chicago:20191026T100000
DTEND;TZID=America/Chicago:20191026T150000
DTSTAMP:20260420T155520
CREATED:20191020T195415Z
LAST-MODIFIED:20191020T195415Z
UID:8177-1572084000-1572102000@statelinekids.com
SUMMARY:Scarecrow Fest
DESCRIPTION:Dixon’s Fall favorites return on October 26th! This year we’ll have craft and food vendors\, pie eating contest\, petting zoo and train rides from Millers Petting Zoo\, line dancing classes and demonstrations\, pumpkin painting at Dixon Paint Co.\, face painters\, live music from Rock U – School of Music\, and Pumpkin Races!
URL:https://statelinekids.com/event/scarecrow-fest/
LOCATION:Downtown Dixon\, 300 block of downtown\, Dixon\, IL\, United States
CATEGORIES:Dixon
END:VEVENT
BEGIN:VEVENT
DTSTART;TZID=America/Chicago:20191214T160000
DTEND;TZID=America/Chicago:20191214T200000
DTSTAMP:20260420T155520
CREATED:20191208T182724Z
LAST-MODIFIED:20191208T182724Z
UID:8957-1576339200-1576353600@statelinekids.com
SUMMARY:Christmas Traditions at First Free Church
DESCRIPTION:Enjoy free photos with Santa\, live t-shirt printing by Rockford Art Deli\, kids stage show\, petting zoo with donkeys\, camels\, and sheep\, horse drawn wagon rides\, smores\, indoor snowball fight and more.
URL:https://statelinekids.com/event/christmas-traditions-at-first-free-church/
LOCATION:First Free Rockford\, 2223 N Mulford Rd\, Rockford\, IL\, United States
CATEGORIES:Rockford
END:VEVENT
BEGIN:VEVENT
DTSTART;TZID=America/Chicago:20200901T150000
DTEND;TZID=America/Chicago:20200901T180000
DTSTAMP:20260420T155520
CREATED:20200830T180312Z
LAST-MODIFIED:20200830T180312Z
UID:12773-1598972400-1598983200@statelinekids.com
SUMMARY:Petting Zoo at Wildflowers Grand Opening 
DESCRIPTION:Welcome Wildflowers HodgePodge to the area and say hi to Karl’s Kritters from 3 pm – 6 pm.
URL:https://statelinekids.com/event/petting-zoo-at-wildflowers-grand-opening/
LOCATION:Wildflowers HodgePodge\, 1930 Lafayette St.\, Janesville\, WI\, United States
CATEGORIES:Janesville
END:VEVENT
BEGIN:VEVENT
DTSTART;TZID=America/Chicago:20201003T100000
DTEND;TZID=America/Chicago:20201003T160000
DTSTAMP:20260420T155520
CREATED:20200927T174515Z
LAST-MODIFIED:20200927T174515Z
UID:13101-1601719200-1601740800@statelinekids.com
SUMMARY:Fall on the Farm
DESCRIPTION:Spend the day at the farm and do a variety of fall activities including picking a pumpkin\, taking a wagon ride\, riding a pony ride\, and visiting the petting zoo. This event continues throughout October. \nCost: $10 per person for the experience package
URL:https://statelinekids.com/event/fall-on-the-farm/2020-10-03/
LOCATION:Lockwood Park\, 5201 Safford Rd\, Rockford\, IL\, United States
CATEGORIES:Rockford
END:VEVENT
BEGIN:VEVENT
DTSTART;TZID=America/Chicago:20220904T120000
DTEND;TZID=America/Chicago:20220904T180000
DTSTAMP:20260420T155520
CREATED:20220828T201215Z
LAST-MODIFIED:20220828T201215Z
UID:23154-1662292800-1662314400@statelinekids.com
SUMMARY:The Park Fest
DESCRIPTION:This is the largest festival on the west side of Rockford. Kids can enjoy pony rides\, a petting zoo\, face painting\, free haircuts\, bounce houses\, dunk tanks\, food\, and lots more.
URL:https://statelinekids.com/event/the-park-fest/
LOCATION:The Park Church\, 801 Concord Ave.\, Rockford\, IL\, United States
CATEGORIES:Rockford
END:VEVENT
BEGIN:VEVENT
DTSTART;TZID=America/Chicago:20230603T130000
DTEND;TZID=America/Chicago:20230603T160000
DTSTAMP:20260420T155520
CREATED:20230527T184639Z
LAST-MODIFIED:20230527T184639Z
UID:28198-1685797200-1685808000@statelinekids.com
SUMMARY:Free Family Fun
DESCRIPTION:Families are invited to enjoy an afternoon of inflatables\, face painting\, balloon twisters\, a petting zoo\, and more.
URL:https://statelinekids.com/event/free-family-fun-2/
LOCATION:Stateline Church\, 601 N. Perryville Rd.\, Rockford\, IL\, United States
CATEGORIES:Rockford
END:VEVENT
BEGIN:VEVENT
DTSTART;TZID=America/Chicago:20231021T100000
DTEND;TZID=America/Chicago:20231021T100000
DTSTAMP:20260420T155520
CREATED:20231002T234018Z
LAST-MODIFIED:20231002T234018Z
UID:31085-1697882400-1697882400@statelinekids.com
SUMMARY:Fall on the Farm
DESCRIPTION:Lockwood Park will be having their Fall on the Farm for only one weekend this year! Admission wristbands will be $10 per person with kids 2 and under are free. Wristbands cover wagon rides\, the corn maze\, petting zoo\, inflatables\, photo opportunities and new games. There will be additional paid activities including a mechanical bull\, pick your own pumpkins\, face painting\, S’mores and more. There will also be live entertainment and food trucks.
URL:https://statelinekids.com/event/fall-on-the-farm-3/2023-10-21/
LOCATION:Lockwood Park\, 5201 Safford Rd\, Rockford\, IL\, United States
CATEGORIES:Rockford
ATTACH;FMTTYPE=image/jpeg:https://statelinekids.com/wp-content/uploads/2023/10/Fall-Farm.jpeg
END:VEVENT
END:VCALENDAR