BEGIN:VCALENDAR
VERSION:2.0
PRODID:-//Stateline Kids - ECPv6.5.1.3//NONSGML v1.0//EN
CALSCALE:GREGORIAN
METHOD:PUBLISH
X-ORIGINAL-URL:https://statelinekids.com
X-WR-CALDESC:Events for Stateline Kids
REFRESH-INTERVAL;VALUE=DURATION:PT1H
X-Robots-Tag:noindex
X-PUBLISHED-TTL:PT1H
BEGIN:VTIMEZONE
TZID:America/Chicago
BEGIN:DAYLIGHT
TZOFFSETFROM:-0600
TZOFFSETTO:-0500
TZNAME:CDT
DTSTART:20190310T080000
END:DAYLIGHT
BEGIN:STANDARD
TZOFFSETFROM:-0500
TZOFFSETTO:-0600
TZNAME:CST
DTSTART:20191103T070000
END:STANDARD
END:VTIMEZONE
BEGIN:VEVENT
DTSTART;TZID=America/Chicago:20190114T101500
DTEND;TZID=America/Chicago:20190114T104500
DTSTAMP:20260422T053256
CREATED:20190113T210602Z
LAST-MODIFIED:20190113T210602Z
UID:4506-1547460900-1547462700@statelinekids.com
SUMMARY:Toddler Time “Penguins”
DESCRIPTION:Toddlers are welcome to listen to a story and participate in an activity. This week’s theme is penguins.
URL:https://statelinekids.com/event/toddler-time-penguins/
LOCATION:Talcott Free Library\, 101 E Main St\, Rockton\, IL\, United States
CATEGORIES:Rockton
END:VEVENT
BEGIN:VEVENT
DTSTART;TZID=America/Chicago:20190212T153000
DTEND;TZID=America/Chicago:20190212T170000
DTSTAMP:20260422T053256
CREATED:20190210T215054Z
LAST-MODIFIED:20190210T215054Z
UID:4828-1549985400-1549990800@statelinekids.com
SUMMARY:Waddle into Winter - Emperor Penguins
DESCRIPTION:Learn about Emperor Penguins and their habitat. They will play penguins games and do a craft. All ages welcome. Register here. \nCost: $5 suggested donation
URL:https://statelinekids.com/event/waddle-into-winter-emperor-penguins/
LOCATION:Welty Environmental Center\, 1201 Big Hill Ct\, Beloit\, WI\, United States
CATEGORIES:Beloit
END:VEVENT
END:VCALENDAR