BEGIN:VCALENDAR
VERSION:2.0
PRODID:-//Stateline Kids - ECPv6.5.1.3//NONSGML v1.0//EN
CALSCALE:GREGORIAN
METHOD:PUBLISH
X-ORIGINAL-URL:https://statelinekids.com
X-WR-CALDESC:Events for Stateline Kids
REFRESH-INTERVAL;VALUE=DURATION:PT1H
X-Robots-Tag:noindex
X-PUBLISHED-TTL:PT1H
BEGIN:VTIMEZONE
TZID:America/Chicago
BEGIN:DAYLIGHT
TZOFFSETFROM:-0600
TZOFFSETTO:-0500
TZNAME:CDT
DTSTART:20220313T080000
END:DAYLIGHT
BEGIN:STANDARD
TZOFFSETFROM:-0500
TZOFFSETTO:-0600
TZNAME:CST
DTSTART:20221106T070000
END:STANDARD
BEGIN:DAYLIGHT
TZOFFSETFROM:-0600
TZOFFSETTO:-0500
TZNAME:CDT
DTSTART:20230312T080000
END:DAYLIGHT
BEGIN:STANDARD
TZOFFSETFROM:-0500
TZOFFSETTO:-0600
TZNAME:CST
DTSTART:20231105T070000
END:STANDARD
BEGIN:DAYLIGHT
TZOFFSETFROM:-0600
TZOFFSETTO:-0500
TZNAME:CDT
DTSTART:20240310T080000
END:DAYLIGHT
BEGIN:STANDARD
TZOFFSETFROM:-0500
TZOFFSETTO:-0600
TZNAME:CST
DTSTART:20241103T070000
END:STANDARD
END:VTIMEZONE
BEGIN:VEVENT
DTSTART;TZID=America/Chicago:20220521T100000
DTEND;TZID=America/Chicago:20220521T150000
DTSTAMP:20260424T023524
CREATED:20220508T172555Z
LAST-MODIFIED:20220508T172555Z
UID:20364-1653127200-1653145200@statelinekids.com
SUMMARY:Rockton Pelican Fest
DESCRIPTION:Celebrate the return of the American White Pelican to our region with activities and events in downtown Rockton. There will be a free shuttle to the Nygren Wetland Persereve Overlook to look for birds and things happening throughout downtonwn.
URL:https://statelinekids.com/event/rockton-pelican-fest/
LOCATION:Downtown Rockton\, 120 W. Main Street\, Rockton\, IL\, United States
CATEGORIES:Rockton
END:VEVENT
BEGIN:VEVENT
DTSTART;TZID=America/Chicago:20240518T100000
DTEND;TZID=America/Chicago:20240518T160000
DTSTAMP:20260424T023524
CREATED:20240512T151434Z
LAST-MODIFIED:20240512T151434Z
UID:34908-1716026400-1716048000@statelinekids.com
SUMMARY:Rockton Pelican Fest
DESCRIPTION:Celebrate the return of American White Pelicans to Nygren Wetland Forest Preserve (3714 W. Rockton Rd) then go shopping through Rockton and listen to presentations at Talcott Library. See a list of events here.
URL:https://statelinekids.com/event/rockton-pelican-fest-3/
LOCATION:Downtown Rockton\, 120 W. Main Street\, Rockton\, IL\, United States
CATEGORIES:Rockton
END:VEVENT
END:VCALENDAR