BEGIN:VCALENDAR
VERSION:2.0
PRODID:-//Stateline Kids - ECPv6.5.1.3//NONSGML v1.0//EN
CALSCALE:GREGORIAN
METHOD:PUBLISH
X-ORIGINAL-URL:https://statelinekids.com
X-WR-CALDESC:Events for Stateline Kids
REFRESH-INTERVAL;VALUE=DURATION:PT1H
X-Robots-Tag:noindex
X-PUBLISHED-TTL:PT1H
BEGIN:VTIMEZONE
TZID:America/Chicago
BEGIN:DAYLIGHT
TZOFFSETFROM:-0600
TZOFFSETTO:-0500
TZNAME:CDT
DTSTART:20180311T080000
END:DAYLIGHT
BEGIN:STANDARD
TZOFFSETFROM:-0500
TZOFFSETTO:-0600
TZNAME:CST
DTSTART:20181104T070000
END:STANDARD
BEGIN:DAYLIGHT
TZOFFSETFROM:-0600
TZOFFSETTO:-0500
TZNAME:CDT
DTSTART:20190310T080000
END:DAYLIGHT
BEGIN:STANDARD
TZOFFSETFROM:-0500
TZOFFSETTO:-0600
TZNAME:CST
DTSTART:20191103T070000
END:STANDARD
BEGIN:DAYLIGHT
TZOFFSETFROM:-0600
TZOFFSETTO:-0500
TZNAME:CDT
DTSTART:20200308T080000
END:DAYLIGHT
BEGIN:STANDARD
TZOFFSETFROM:-0500
TZOFFSETTO:-0600
TZNAME:CST
DTSTART:20201101T070000
END:STANDARD
BEGIN:DAYLIGHT
TZOFFSETFROM:-0600
TZOFFSETTO:-0500
TZNAME:CDT
DTSTART:20210314T080000
END:DAYLIGHT
BEGIN:STANDARD
TZOFFSETFROM:-0500
TZOFFSETTO:-0600
TZNAME:CST
DTSTART:20211107T070000
END:STANDARD
BEGIN:DAYLIGHT
TZOFFSETFROM:-0600
TZOFFSETTO:-0500
TZNAME:CDT
DTSTART:20220313T080000
END:DAYLIGHT
BEGIN:STANDARD
TZOFFSETFROM:-0500
TZOFFSETTO:-0600
TZNAME:CST
DTSTART:20221106T070000
END:STANDARD
BEGIN:DAYLIGHT
TZOFFSETFROM:-0600
TZOFFSETTO:-0500
TZNAME:CDT
DTSTART:20230312T080000
END:DAYLIGHT
BEGIN:STANDARD
TZOFFSETFROM:-0500
TZOFFSETTO:-0600
TZNAME:CST
DTSTART:20231105T070000
END:STANDARD
BEGIN:DAYLIGHT
TZOFFSETFROM:-0600
TZOFFSETTO:-0500
TZNAME:CDT
DTSTART:20240310T080000
END:DAYLIGHT
BEGIN:STANDARD
TZOFFSETFROM:-0500
TZOFFSETTO:-0600
TZNAME:CST
DTSTART:20241103T070000
END:STANDARD
END:VTIMEZONE
BEGIN:VEVENT
DTSTART;TZID=America/Chicago:20180713T190000
DTEND;TZID=America/Chicago:20180713T220000
DTSTAMP:20260420T220857
CREATED:20180706T134519Z
LAST-MODIFIED:20180706T134519Z
UID:669-1531508400-1531519200@statelinekids.com
SUMMARY:Kid Night at the Big Hill Center
DESCRIPTION:Parents\, do you need a night out without the kids? If so\, the Park and Rec and Welty Environmental Center can help. Drop your kids off at the Big Hill Center for an exciting night of nature activities\, outdoor games\, night hike and roasting marshmallows around a campfire. Please send your child with a snack and dress them for exploring Big Hill Park. Registrations is limited to 25\, so please sign up at the Park and Rec offic at 2351 Springbrook Ct or by calling 364-2893 . \nDates: July 13\, August 3\nTime: 7-10pm\nPrice: $15\nAges: 5-11
URL:https://statelinekids.com/event/kid-night-at-the-big-hill-center/
LOCATION:Welty Environmental Center\, 1201 Big Hill Ct\, Beloit\, WI\, United States
CATEGORIES:Beloit
END:VEVENT
BEGIN:VEVENT
DTSTART;TZID=America/Chicago:20180803T190000
DTEND;TZID=America/Chicago:20180803T220000
DTSTAMP:20260420T220857
CREATED:20180706T134637Z
LAST-MODIFIED:20180802T182705Z
UID:670-1533322800-1533333600@statelinekids.com
SUMMARY:CANCELED: Kid Night at the Big Hill Center
DESCRIPTION:Parents\, do you need a night out without the kids? If so\, the Park and Rec and Welty Environmental Center can help. Drop your kids off at the Big Hill Center for an exciting night of nature activities\, outdoor games\, night hike and roasting marshmallows around a campfire. Please send your child with a snack and dress them for exploring Big Hill Park. Registrations is limited to 25\, so please sign up at the Park and Rec offic at 2351 Springbrook Ct or by calling 364-2893 . \nDates: July 13\, August 3\nTime: 7-10pm\nPrice: $15\nAges: 5-1
URL:https://statelinekids.com/event/kid-night-at-the-big-hill-center-2/
LOCATION:Welty Environmental Center\, 1201 Big Hill Ct\, Beloit\, WI\, United States
CATEGORIES:Beloit
END:VEVENT
BEGIN:VEVENT
DTSTART;TZID=America/Chicago:20190320T183000
DTEND;TZID=America/Chicago:20190320T200000
DTSTAMP:20260420T220857
CREATED:20190317T195323Z
LAST-MODIFIED:20190317T195335Z
UID:5151-1553106600-1553112000@statelinekids.com
SUMMARY:By the Light of the Silvery Moon Full Moon Hike
DESCRIPTION:Take a stroll through the woods with nothing to light your way except moonbeams. Listen to owls and gaze at the stars. RSVP by calling 815-335-2915 or register online.
URL:https://statelinekids.com/event/by-the-light-of-the-silvery-moon-full-moon-hike/
LOCATION:Severson Dells Nature Center\, 8786 Montague Rd\, Rockford\, IL\, United States
CATEGORIES:Rockford
END:VEVENT
BEGIN:VEVENT
DTSTART;TZID=America/Chicago:20190716T200000
DTEND;TZID=America/Chicago:20190716T210000
DTSTAMP:20260420T220857
CREATED:20190714T195902Z
LAST-MODIFIED:20190714T195902Z
UID:6600-1563307200-1563310800@statelinekids.com
SUMMARY:By the Light of the Silvery Moon Hike
DESCRIPTION:Stroll through the outdoors on a moonlit night. All ages welcome. Register here.
URL:https://statelinekids.com/event/by-the-light-of-the-silvery-moon-hike/
LOCATION:Severson Dells Nature Center\, 8786 Montague Rd\, Rockford\, IL\, United States
CATEGORIES:Rockford
END:VEVENT
BEGIN:VEVENT
DTSTART;TZID=America/Chicago:20190814T193000
DTEND;TZID=America/Chicago:20190814T220000
DTSTAMP:20260420T220857
CREATED:20190810T182302Z
LAST-MODIFIED:20190810T182302Z
UID:6933-1565811000-1565820000@statelinekids.com
SUMMARY:Bat Nights in the Garden
DESCRIPTION:Walk around the gardens looking for bats and listening to their calls using a bat detector. Register here. \nCost: $12 per person \n 
URL:https://statelinekids.com/event/bat-nights-in-the-garden-4/
LOCATION:Anderson Japanese Gardens\, 318 Spring Creek Rd\, Rockford\, IL\, United States
CATEGORIES:Rockford
END:VEVENT
BEGIN:VEVENT
DTSTART;TZID=America/Chicago:20210205T183000
DTEND;TZID=America/Chicago:20210205T194500
DTSTAMP:20260420T220857
CREATED:20210204T223626Z
LAST-MODIFIED:20210204T223626Z
UID:14724-1612549800-1612554300@statelinekids.com
SUMMARY:Night Hike
DESCRIPTION:Join the Taft staff in exploring what types of animals wander around the woods at night!  We will explore our senses and see which ones help us in the dark.  This program includes a hike\, with stairs\, in the dark.  All ages welcome!  This program is $5/person and completely outdoors\, please dress warm!  Contact Alyssa Parker at aparker4@niu.edu to register.
URL:https://statelinekids.com/event/night-hike-3/
LOCATION:Lorado Taft Field Campus\, 1414 N River Rd\, Oregon\, IL\, United States
CATEGORIES:Oregon
END:VEVENT
BEGIN:VEVENT
DTSTART;TZID=America/Chicago:20210519T190000
DTEND;TZID=America/Chicago:20210519T213000
DTSTAMP:20260420T220857
CREATED:20210516T174927Z
LAST-MODIFIED:20210516T174927Z
UID:15643-1621450800-1621459800@statelinekids.com
SUMMARY:Starry\, Starry Nights Guided Hike
DESCRIPTION:Take a night hike and enjoy S’mores by the fire. Bring a flashlight or headlamp for each person. No registration required.
URL:https://statelinekids.com/event/starry-starry-nights-guided-hike/2021-05-19/
LOCATION:Nature At the Confluence\, 306 Dickop St\, South Beloit\, IL\, United States
CATEGORIES:South Beloit
END:VEVENT
BEGIN:VEVENT
DTSTART;TZID=America/Chicago:20220612T210000
DTEND;TZID=America/Chicago:20220612T230000
DTSTAMP:20260420T220857
CREATED:20220605T163302Z
LAST-MODIFIED:20220605T163302Z
UID:20846-1655067600-1655074800@statelinekids.com
SUMMARY:Sights\, Smells\, and Sounds of the Night
DESCRIPTION:Hike through the park for two miles to look for bats\, night blooming flowers\, glow worms\, and more. Register here.
URL:https://statelinekids.com/event/sights-smells-and-sounds-of-the-night-2/
LOCATION:Welty Environmental Center\, 1201 Big Hill Ct\, Beloit\, WI\, United States
CATEGORIES:Beloit
END:VEVENT
BEGIN:VEVENT
DTSTART;TZID=America/Chicago:20220612T210000
DTEND;TZID=America/Chicago:20220612T230000
DTSTAMP:20260420T220857
CREATED:20220318T163459Z
LAST-MODIFIED:20220318T163459Z
UID:19476-1655067600-1655074800@statelinekids.com
SUMMARY:Sights\, Smells\, and Sounds of the Night
DESCRIPTION:Join Welty and the Rock County Conservationists on a sensory night hike!\n\nDave Bendlin\, local naturalist and retired Milton biology and environmental studies teacher\, will lead a hike in Big Hill Park to smell night-blooming flowers; look for bats\, bioluminescent fungi\, glow worms\, and fireflies; and listen for crickets\, frogs and owls.\n\nThe hike will cover roughly 2 miles around the park with frequent stops to use our senses on a warm summer night. Wear light colored clothing and some type of mosquito repellent\, but please leave your flashlights at home.\n\nThis event is free to the public for all ages. Donations are accepted and appreciated. Register here.
URL:https://statelinekids.com/event/sights-smells-and-sounds-of-the-night/
LOCATION:Welty Environmental Center\, 1201 Big Hill Ct\, Beloit\, WI\, United States
CATEGORIES:Beloit
END:VEVENT
BEGIN:VEVENT
DTSTART;TZID=America/Chicago:20220727T200000
DTEND;TZID=America/Chicago:20220727T210000
DTSTAMP:20260420T220857
CREATED:20220724T161935Z
LAST-MODIFIED:20220724T161935Z
UID:22746-1658952000-1658955600@statelinekids.com
SUMMARY:Bat Night
DESCRIPTION:People of all ages are invited to learn about bats\, take a hike and listen for bat sounds. Register here.
URL:https://statelinekids.com/event/bat-night/
LOCATION:Nature At the Confluence\, 306 Dickop St\, South Beloit\, IL\, United States
CATEGORIES:South Beloit
END:VEVENT
BEGIN:VEVENT
DTSTART;TZID=America/Chicago:20220811T200000
DTEND;TZID=America/Chicago:20220811T213000
DTSTAMP:20260420T220857
CREATED:20220807T173320Z
LAST-MODIFIED:20220807T173320Z
UID:22863-1660248000-1660253400@statelinekids.com
SUMMARY:Full Moon Hike
DESCRIPTION:Enjoy a moonlit hike through the park. Register here.
URL:https://statelinekids.com/event/full-moon-hike-10/
LOCATION:Severson Dells Nature Center\, 8786 Montague Rd\, Rockford\, IL\, United States
CATEGORIES:Rockford
ATTACH;FMTTYPE=image/jpeg:https://statelinekids.com/wp-content/uploads/2022/08/Hike.jpeg
END:VEVENT
BEGIN:VEVENT
DTSTART;TZID=America/Chicago:20230311T180000
DTEND;TZID=America/Chicago:20230311T193000
DTSTAMP:20260420T220857
CREATED:20230304T194911Z
LAST-MODIFIED:20230304T194923Z
UID:26728-1678557600-1678563000@statelinekids.com
SUMMARY:Night Hike
DESCRIPTION:Take a night hike to identify winter constellations then enjoy some hot cocoa. Call 815-234-8535 to register before March 10th.
URL:https://statelinekids.com/event/night-hike-4/
LOCATION:Byron Forest Preserve\, 7993 N River Rd\, Byron\, IL\, United States
CATEGORIES:Byron
END:VEVENT
BEGIN:VEVENT
DTSTART;TZID=America/Chicago:20230624T210000
DTEND;TZID=America/Chicago:20230624T230000
DTSTAMP:20260420T220857
CREATED:20230617T010535Z
LAST-MODIFIED:20230617T010536Z
UID:28835-1687640400-1687647600@statelinekids.com
SUMMARY:Sight\, Smells\, and Sounds of the Night
DESCRIPTION:Join Welty and on a sensory night hike! \nDave Bendlin\, local naturalist and retired Milton biology and environmental studies teacher\, will lead a hike in Big Hill Park to smell night-blooming flowers\, look for bats\, bioluminescent fungi\, glow worms\, and fireflies and listen for crickets\, frogs and owls. The hike will cover roughly 2 miles around the park with frequent stops to use our senses on a warm summer night. Wear light colored clothing and some type of mosquito repellent\, but please leave your flashlights at home. \nRegister here.
URL:https://statelinekids.com/event/sight-smells-and-sounds-of-the-night/
LOCATION:Welty Environmental Center\, 1201 Big Hill Ct\, Beloit\, WI\, United States
CATEGORIES:Beloit
ATTACH;FMTTYPE=image/jpeg:https://statelinekids.com/wp-content/uploads/2023/06/Sights.jpeg
END:VEVENT
BEGIN:VEVENT
DTSTART;TZID=America/Chicago:20230810T203000
DTEND;TZID=America/Chicago:20230810T223000
DTSTAMP:20260420T220857
CREATED:20230805T164259Z
LAST-MODIFIED:20230805T164259Z
UID:29798-1691699400-1691706600@statelinekids.com
SUMMARY:Skyfishing for Moths
DESCRIPTION:Observe and identify moths and insects that are attracted to light at night. \nCost: $5 per person (suggested donation)
URL:https://statelinekids.com/event/skyfishing-for-moths/
LOCATION:Nature At the Confluence\, 306 Dickop St\, South Beloit\, IL\, United States
CATEGORIES:South Beloit
END:VEVENT
BEGIN:VEVENT
DTSTART;TZID=America/Chicago:20240523T183000
DTEND;TZID=America/Chicago:20240523T200000
DTSTAMP:20260420T220857
CREATED:20240518T195409Z
LAST-MODIFIED:20240518T195409Z
UID:35007-1716489000-1716494400@statelinekids.com
SUMMARY:Crepuscular Prowl
DESCRIPTION:Take a hike through Severson Dells woodlands to look for animals like owls\, frogs\, coyotes\, and more. This hike is appropriate for ages 8 and up. Register here.
URL:https://statelinekids.com/event/crepuscular-prowl/
LOCATION:Severson Dells Nature Center\, 8786 Montague Rd\, Rockford\, IL\, United States
CATEGORIES:Rockford
END:VEVENT
END:VCALENDAR