BEGIN:VCALENDAR
VERSION:2.0
PRODID:-//Stateline Kids - ECPv6.5.1.3//NONSGML v1.0//EN
CALSCALE:GREGORIAN
METHOD:PUBLISH
X-WR-CALNAME:Stateline Kids
X-ORIGINAL-URL:https://statelinekids.com
X-WR-CALDESC:Events for Stateline Kids
REFRESH-INTERVAL;VALUE=DURATION:PT1H
X-Robots-Tag:noindex
X-PUBLISHED-TTL:PT1H
BEGIN:VTIMEZONE
TZID:America/Chicago
BEGIN:DAYLIGHT
TZOFFSETFROM:-0600
TZOFFSETTO:-0500
TZNAME:CDT
DTSTART:20230312T080000
END:DAYLIGHT
BEGIN:STANDARD
TZOFFSETFROM:-0500
TZOFFSETTO:-0600
TZNAME:CST
DTSTART:20231105T070000
END:STANDARD
BEGIN:DAYLIGHT
TZOFFSETFROM:-0600
TZOFFSETTO:-0500
TZNAME:CDT
DTSTART:20240310T080000
END:DAYLIGHT
BEGIN:STANDARD
TZOFFSETFROM:-0500
TZOFFSETTO:-0600
TZNAME:CST
DTSTART:20241103T070000
END:STANDARD
END:VTIMEZONE
BEGIN:VEVENT
DTSTART;TZID=America/Chicago:20230916T120000
DTEND;TZID=America/Chicago:20230916T220000
DTSTAMP:20260421T220331
CREATED:20230909T212118Z
LAST-MODIFIED:20230909T212118Z
UID:30309-1694865600-1694901600@statelinekids.com
SUMMARY:11th Ward Parade and Festival Celebrating Mexican Independence Day
DESCRIPTION:Listen to live music and celebrate Mexican Independence Day!
URL:https://statelinekids.com/event/11th-ward-parade-and-festival-celebrating-mexican-independence-day/
LOCATION:Keye Mallquist Park\, 1702 11th St.\, Rockford\, IL\, United States
CATEGORIES:Rockford
END:VEVENT
BEGIN:VEVENT
DTSTART;TZID=America/Chicago:20240915T110000
DTEND;TZID=America/Chicago:20240915T190000
DTSTAMP:20260421T220331
CREATED:20240907T183932Z
LAST-MODIFIED:20240907T183932Z
UID:37518-1726398000-1726426800@statelinekids.com
SUMMARY:Mexican Independence Day Celebration
DESCRIPTION:Enjoy a day of family-fun to celebrate Mexican Independence Day. There will be children’s activities\, bounce houses\, mechanical bull riding\, live music\, and more.
URL:https://statelinekids.com/event/mexican-independence-day-celebration/
LOCATION:Woodstock Square Historic District\, 121 W Van Buren St\, Woodstock\, IL\, United States
CATEGORIES:Woodstock
END:VEVENT
END:VCALENDAR