BEGIN:VCALENDAR
VERSION:2.0
PRODID:-//Stateline Kids - ECPv6.5.1.3//NONSGML v1.0//EN
CALSCALE:GREGORIAN
METHOD:PUBLISH
X-WR-CALNAME:Stateline Kids
X-ORIGINAL-URL:https://statelinekids.com
X-WR-CALDESC:Events for Stateline Kids
REFRESH-INTERVAL;VALUE=DURATION:PT1H
X-Robots-Tag:noindex
X-PUBLISHED-TTL:PT1H
BEGIN:VTIMEZONE
TZID:America/Chicago
BEGIN:DAYLIGHT
TZOFFSETFROM:-0600
TZOFFSETTO:-0500
TZNAME:CDT
DTSTART:20180311T080000
END:DAYLIGHT
BEGIN:STANDARD
TZOFFSETFROM:-0500
TZOFFSETTO:-0600
TZNAME:CST
DTSTART:20181104T070000
END:STANDARD
BEGIN:DAYLIGHT
TZOFFSETFROM:-0600
TZOFFSETTO:-0500
TZNAME:CDT
DTSTART:20190310T080000
END:DAYLIGHT
BEGIN:STANDARD
TZOFFSETFROM:-0500
TZOFFSETTO:-0600
TZNAME:CST
DTSTART:20191103T070000
END:STANDARD
BEGIN:DAYLIGHT
TZOFFSETFROM:-0600
TZOFFSETTO:-0500
TZNAME:CDT
DTSTART:20200308T080000
END:DAYLIGHT
BEGIN:STANDARD
TZOFFSETFROM:-0500
TZOFFSETTO:-0600
TZNAME:CST
DTSTART:20201101T070000
END:STANDARD
BEGIN:DAYLIGHT
TZOFFSETFROM:-0600
TZOFFSETTO:-0500
TZNAME:CDT
DTSTART:20210314T080000
END:DAYLIGHT
BEGIN:STANDARD
TZOFFSETFROM:-0500
TZOFFSETTO:-0600
TZNAME:CST
DTSTART:20211107T070000
END:STANDARD
BEGIN:DAYLIGHT
TZOFFSETFROM:-0600
TZOFFSETTO:-0500
TZNAME:CDT
DTSTART:20220313T080000
END:DAYLIGHT
BEGIN:STANDARD
TZOFFSETFROM:-0500
TZOFFSETTO:-0600
TZNAME:CST
DTSTART:20221106T070000
END:STANDARD
BEGIN:DAYLIGHT
TZOFFSETFROM:-0600
TZOFFSETTO:-0500
TZNAME:CDT
DTSTART:20230312T080000
END:DAYLIGHT
BEGIN:STANDARD
TZOFFSETFROM:-0500
TZOFFSETTO:-0600
TZNAME:CST
DTSTART:20231105T070000
END:STANDARD
BEGIN:DAYLIGHT
TZOFFSETFROM:-0600
TZOFFSETTO:-0500
TZNAME:CDT
DTSTART:20240310T080000
END:DAYLIGHT
BEGIN:STANDARD
TZOFFSETFROM:-0500
TZOFFSETTO:-0600
TZNAME:CST
DTSTART:20241103T070000
END:STANDARD
BEGIN:DAYLIGHT
TZOFFSETFROM:-0600
TZOFFSETTO:-0500
TZNAME:CDT
DTSTART:20250309T080000
END:DAYLIGHT
BEGIN:STANDARD
TZOFFSETFROM:-0500
TZOFFSETTO:-0600
TZNAME:CST
DTSTART:20251102T070000
END:STANDARD
END:VTIMEZONE
BEGIN:VEVENT
DTSTART;TZID=America/Chicago:20181108T140000
DTEND;TZID=America/Chicago:20181108T160000
DTSTAMP:20260424T132541
CREATED:20181104T175133Z
LAST-MODIFIED:20181104T175145Z
UID:3687-1541685600-1541692800@statelinekids.com
SUMMARY:Meet Michael Winslow at Insurance King
DESCRIPTION:Meet movie star Michael Winslow\, famous for his ability to make 10\,000 noises. He’s been featured in Police Academy\, Spaceballs\, Gremlins. He will be signing autographs and taking free pictures.
URL:https://statelinekids.com/event/meet-michael-winslow/
LOCATION:Insurance King\, 127 N. Alpine Rd\, Rockford\, IL\, United States
CATEGORIES:Rockford
END:VEVENT
BEGIN:VEVENT
DTSTART;TZID=America/Chicago:20190829T170000
DTEND;TZID=America/Chicago:20190829T180000
DTSTAMP:20260424T132541
CREATED:20190825T153209Z
LAST-MODIFIED:20190825T153209Z
UID:7115-1567098000-1567101600@statelinekids.com
SUMMARY:Cookie with a Cop
DESCRIPTION:Enjoy a free cookie served by a local police officer.
URL:https://statelinekids.com/event/cookie-with-a-cop/
LOCATION:McDonald’s on Kishwaukee\, 1441 Kishwaukee St.\, Rockford\, IL\, United States
CATEGORIES:Rockford
END:VEVENT
BEGIN:VEVENT
DTSTART;TZID=America/Chicago:20191208T130000
DTEND;TZID=America/Chicago:20191208T150000
DTSTAMP:20260424T132541
CREATED:20191201T220606Z
LAST-MODIFIED:20191201T220606Z
UID:8817-1575810000-1575817200@statelinekids.com
SUMMARY:Snow Princesses and Olaf Meet and Greet
DESCRIPTION:Stop by and get your photo taken with the Snow Queen and Princess. This event is during Rockton Christmas Walk.
URL:https://statelinekids.com/event/snow-princesses-and-olaf-meet-and-greet/
LOCATION:Gem Shop and Diamond Source\, 110 W. Main St.\, Rockton\, IL\, United States
CATEGORIES:Rockton
END:VEVENT
BEGIN:VEVENT
DTSTART;TZID=America/Chicago:20200111T130000
DTEND;TZID=America/Chicago:20200111T173000
DTSTAMP:20260424T132541
CREATED:20200104T195624Z
LAST-MODIFIED:20200111T162655Z
UID:9345-1578747600-1578763800@statelinekids.com
SUMMARY:CANCELED: Queen Elsa Meet and Greet at 3rd Annual Female Energy Show
DESCRIPTION:Meet Queen Elsa and Olaf (cardboard cut-out) and take a picture. \nCost is $1 per person at the door
URL:https://statelinekids.com/event/queen-elsa-meet-and-greet-at-3rd-annual-female-energy-show/
LOCATION:YouthBuild Rockford\, 917 S. Main St.\, Rockford\, IL\, United States
CATEGORIES:Rockford
END:VEVENT
BEGIN:VEVENT
DTSTART;TZID=America/Chicago:20210327T140000
DTEND;TZID=America/Chicago:20210327T170000
DTSTAMP:20260424T132541
CREATED:20210307T205933Z
LAST-MODIFIED:20210321T173219Z
UID:15008-1616853600-1616864400@statelinekids.com
SUMMARY:Bunny Bash
DESCRIPTION:Join the Easter Bunny\, Cinderella\, Snow White and Chris That Twists for an Easter Celebration with live performances\, and meet and greets. \n$10 per child\, $12 at the door. Get tickets here.
URL:https://statelinekids.com/event/bunny-bash/
LOCATION:Characters 2 Life\, 204 N. Church St.\, Rockford\, IL\, United States
CATEGORIES:Rockford
ATTACH;FMTTYPE=image/jpeg:https://statelinekids.com/wp-content/uploads/2021/03/Bunny-Bash-Poster.jpg
END:VEVENT
BEGIN:VEVENT
DTSTART;TZID=America/Chicago:20210402T160000
DTEND;TZID=America/Chicago:20210402T180000
DTSTAMP:20260424T132541
CREATED:20210328T171802Z
LAST-MODIFIED:20210328T171802Z
UID:15166-1617379200-1617386400@statelinekids.com
SUMMARY:Easter Bunny Meet and Greet
DESCRIPTION:Take a photo with the Easter Bunny and pick up a treat bag while supplies last.
URL:https://statelinekids.com/event/easter-bunny-meet-and-greet/
LOCATION:Nick Oldenburg State Farm\, 1406 Willowbrook Rd.\, Suite 130\, Beloit\, WI\, United States
CATEGORIES:Beloit
END:VEVENT
BEGIN:VEVENT
DTSTART;TZID=America/Chicago:20220702T100000
DTEND;TZID=America/Chicago:20220702T113000
DTSTAMP:20260424T132541
CREATED:20220626T160727Z
LAST-MODIFIED:20220626T160727Z
UID:22224-1656756000-1656761400@statelinekids.com
SUMMARY:IWBC Meet and Greet
DESCRIPTION:Meet Megan Cavanagh and see where the future Rockford Peaches museum will be built.
URL:https://statelinekids.com/event/iwbc-meet-and-greet/
LOCATION:Beyer Stadium\, 245 15th Ave.\, Rockford\, IL\, United States
CATEGORIES:Rockford
END:VEVENT
BEGIN:VEVENT
DTSTART;TZID=America/Chicago:20250726T120000
DTEND;TZID=America/Chicago:20250726T140000
DTSTAMP:20260424T132541
CREATED:20250717T173528Z
LAST-MODIFIED:20250717T173528Z
UID:41553-1753531200-1753538400@statelinekids.com
SUMMARY:Rockford Rivets Meet and Greet
DESCRIPTION:Meet some of your favorite Rivets players\, get autographs and take photos.
URL:https://statelinekids.com/event/rockford-rivets-meet-and-greet/
LOCATION:Portillo’s\, 6090 E. State Street\, Rockford\, IL\, United States
CATEGORIES:Rockford
END:VEVENT
END:VCALENDAR