BEGIN:VCALENDAR
VERSION:2.0
PRODID:-//Stateline Kids - ECPv6.5.1.3//NONSGML v1.0//EN
CALSCALE:GREGORIAN
METHOD:PUBLISH
X-ORIGINAL-URL:https://statelinekids.com
X-WR-CALDESC:Events for Stateline Kids
REFRESH-INTERVAL;VALUE=DURATION:PT1H
X-Robots-Tag:noindex
X-PUBLISHED-TTL:PT1H
BEGIN:VTIMEZONE
TZID:America/Chicago
BEGIN:DAYLIGHT
TZOFFSETFROM:-0600
TZOFFSETTO:-0500
TZNAME:CDT
DTSTART:20180311T080000
END:DAYLIGHT
BEGIN:STANDARD
TZOFFSETFROM:-0500
TZOFFSETTO:-0600
TZNAME:CST
DTSTART:20181104T070000
END:STANDARD
BEGIN:DAYLIGHT
TZOFFSETFROM:-0600
TZOFFSETTO:-0500
TZNAME:CDT
DTSTART:20190310T080000
END:DAYLIGHT
BEGIN:STANDARD
TZOFFSETFROM:-0500
TZOFFSETTO:-0600
TZNAME:CST
DTSTART:20191103T070000
END:STANDARD
BEGIN:DAYLIGHT
TZOFFSETFROM:-0600
TZOFFSETTO:-0500
TZNAME:CDT
DTSTART:20200308T080000
END:DAYLIGHT
BEGIN:STANDARD
TZOFFSETFROM:-0500
TZOFFSETTO:-0600
TZNAME:CST
DTSTART:20201101T070000
END:STANDARD
BEGIN:DAYLIGHT
TZOFFSETFROM:-0600
TZOFFSETTO:-0500
TZNAME:CDT
DTSTART:20210314T080000
END:DAYLIGHT
BEGIN:STANDARD
TZOFFSETFROM:-0500
TZOFFSETTO:-0600
TZNAME:CST
DTSTART:20211107T070000
END:STANDARD
BEGIN:DAYLIGHT
TZOFFSETFROM:-0600
TZOFFSETTO:-0500
TZNAME:CDT
DTSTART:20220313T080000
END:DAYLIGHT
BEGIN:STANDARD
TZOFFSETFROM:-0500
TZOFFSETTO:-0600
TZNAME:CST
DTSTART:20221106T070000
END:STANDARD
BEGIN:DAYLIGHT
TZOFFSETFROM:-0600
TZOFFSETTO:-0500
TZNAME:CDT
DTSTART:20230312T080000
END:DAYLIGHT
BEGIN:STANDARD
TZOFFSETFROM:-0500
TZOFFSETTO:-0600
TZNAME:CST
DTSTART:20231105T070000
END:STANDARD
BEGIN:DAYLIGHT
TZOFFSETFROM:-0600
TZOFFSETTO:-0500
TZNAME:CDT
DTSTART:20240310T080000
END:DAYLIGHT
BEGIN:STANDARD
TZOFFSETFROM:-0500
TZOFFSETTO:-0600
TZNAME:CST
DTSTART:20241103T070000
END:STANDARD
BEGIN:DAYLIGHT
TZOFFSETFROM:-0600
TZOFFSETTO:-0500
TZNAME:CDT
DTSTART:20250309T080000
END:DAYLIGHT
BEGIN:STANDARD
TZOFFSETFROM:-0500
TZOFFSETTO:-0600
TZNAME:CST
DTSTART:20251102T070000
END:STANDARD
END:VTIMEZONE
BEGIN:VEVENT
DTSTART;TZID=America/Chicago:20181211T180000
DTEND;TZID=America/Chicago:20181211T190000
DTSTAMP:20260421T033631
CREATED:20181211T035952Z
LAST-MODIFIED:20181211T035952Z
UID:4116-1544551200-1544554800@statelinekids.com
SUMMARY:IceHogs Outdoor Practice and Autograph Signing
DESCRIPTION:Watch the IceHogs practice outdoors then meet the players and get their autographs.
URL:https://statelinekids.com/event/icehogs-outdoor-practice-and-autograph-signing/
LOCATION:Riverside Ice Arena\, 365 Locust St\, Belvidere\, IL\, United States
CATEGORIES:Belvidere
END:VEVENT
BEGIN:VEVENT
DTSTART;TZID=America/Chicago:20190106T160000
DTEND;TZID=America/Chicago:20190106T180000
DTSTAMP:20260421T033631
CREATED:20181230T214425Z
LAST-MODIFIED:20181230T214425Z
UID:4407-1546790400-1546797600@statelinekids.com
SUMMARY:Rockford IceHogs vs. Iowa Wild
DESCRIPTION:Watch the IceHogs take on the Iowa Wild. Get tickets here. \nCost: $8-30
URL:https://statelinekids.com/event/rockford-icehogs-vs-iowa-wild/
LOCATION:BMO Center\, 300 Elm St\, Rockford\, IL\, United States
CATEGORIES:Rockford
END:VEVENT
BEGIN:VEVENT
DTSTART;TZID=America/Chicago:20191130T170000
DTEND;TZID=America/Chicago:20191130T200000
DTSTAMP:20260421T033631
CREATED:20191124T182143Z
LAST-MODIFIED:20191124T182143Z
UID:8730-1575133200-1575144000@statelinekids.com
SUMMARY:IceHogs vs. Griffins Game
DESCRIPTION:Warm up during Stroll on State with an IceHogs game. Get tickets here. \nCost is $11 per ticket \n 
URL:https://statelinekids.com/event/icehogs-vs-griffins-game/
LOCATION:BMO Center\, 300 Elm St\, Rockford\, IL\, United States
CATEGORIES:Rockford
END:VEVENT
BEGIN:VEVENT
DTSTART;TZID=America/Chicago:20200120T130000
DTEND;TZID=America/Chicago:20200120T160000
DTSTAMP:20260421T033631
CREATED:20200119T173011Z
LAST-MODIFIED:20200119T173011Z
UID:9480-1579525200-1579536000@statelinekids.com
SUMMARY:IceHogs Game
DESCRIPTION:Watch an IceHogs game on the day off school! The first 1\,500 fans will get a poster. Get tickets here. \nCost is $5 per kids ticket\, $12+ per adult ticket
URL:https://statelinekids.com/event/icehogs-game/
LOCATION:BMO Center\, 300 Elm St\, Rockford\, IL\, United States
CATEGORIES:Rockford
END:VEVENT
BEGIN:VEVENT
DTSTART;TZID=America/Chicago:20211208T190000
DTEND;TZID=America/Chicago:20211208T210000
DTSTAMP:20260421T033631
CREATED:20211205T224431Z
LAST-MODIFIED:20211205T224431Z
UID:18550-1638990000-1638997200@statelinekids.com
SUMMARY:Rockford IceHogs vs. Iowa Wild
DESCRIPTION:Watch the IceHogs take on another team. Get tickets here. \nCost: $11+
URL:https://statelinekids.com/event/rockford-icehogs-vs-iowa-wild-3/
LOCATION:BMO Center\, 300 Elm St\, Rockford\, IL\, United States
CATEGORIES:Rockford
END:VEVENT
BEGIN:VEVENT
DTSTART;TZID=America/Chicago:20211210T190000
DTEND;TZID=America/Chicago:20211210T210000
DTSTAMP:20260421T033631
CREATED:20211205T224240Z
LAST-MODIFIED:20211205T224240Z
UID:18548-1639162800-1639170000@statelinekids.com
SUMMARY:Rockford IceHogs vs. Henderson Silver Knights
DESCRIPTION:Watch the IceHogs take on another team. Get tickets here. \nCost: $11+ \n 
URL:https://statelinekids.com/event/rockford-icehogs-vs-henderson-silver-knights-2/
LOCATION:BMO Center\, 300 Elm St\, Rockford\, IL\, United States
CATEGORIES:Rockford
END:VEVENT
BEGIN:VEVENT
DTSTART;TZID=America/Chicago:20211211T180000
DTEND;TZID=America/Chicago:20211211T200000
DTSTAMP:20260421T033631
CREATED:20211205T224109Z
LAST-MODIFIED:20211205T224109Z
UID:18546-1639245600-1639252800@statelinekids.com
SUMMARY:Rockford IceHogs vs. Henderson Silver Knights
DESCRIPTION:Watch the IceHogs take on another team. Get tickets here. \nCost: $11+
URL:https://statelinekids.com/event/rockford-icehogs-vs-henderson-silver-knights/
LOCATION:BMO Center\, 300 Elm St\, Rockford\, IL\, United States
CATEGORIES:Rockford
END:VEVENT
BEGIN:VEVENT
DTSTART;TZID=America/Chicago:20220115T180000
DTEND;TZID=America/Chicago:20220115T200000
DTSTAMP:20260421T033631
CREATED:20220109T190513Z
LAST-MODIFIED:20220109T190513Z
UID:18880-1642269600-1642276800@statelinekids.com
SUMMARY:Rockford IceHogs vs. Cleveland Monsters
DESCRIPTION:Watch the IceHogs take on a rival on the ice. Get tickets here.
URL:https://statelinekids.com/event/rockford-icehogs-vs-cleveland-monsters/
LOCATION:BMO Center\, 300 Elm St\, Rockford\, IL\, United States
CATEGORIES:Rockford
END:VEVENT
BEGIN:VEVENT
DTSTART;TZID=America/Chicago:20220226T180000
DTEND;TZID=America/Chicago:20220226T200000
DTSTAMP:20260421T033631
CREATED:20220219T223056Z
LAST-MODIFIED:20220219T223056Z
UID:19235-1645898400-1645905600@statelinekids.com
SUMMARY:Rockford IceHogs vs. Texas Stars
DESCRIPTION:Watch the IceHogs take on a rival on the ice. Get tickets here.
URL:https://statelinekids.com/event/rockford-icehogs-vs-texas-stars-3/
LOCATION:BMO Center\, 300 Elm St\, Rockford\, IL\, United States
CATEGORIES:Rockford
END:VEVENT
BEGIN:VEVENT
DTSTART;TZID=America/Chicago:20220319T180000
DTEND;TZID=America/Chicago:20220319T200000
DTSTAMP:20260421T033631
CREATED:20220313T192851Z
LAST-MODIFIED:20220313T192851Z
UID:19376-1647712800-1647720000@statelinekids.com
SUMMARY:Rockford IceHogs vs. Grand Rapids Griffins
DESCRIPTION:Watch the IceHogs play a rival. Get tickets here.
URL:https://statelinekids.com/event/rockford-icehogs-vs-grand-rapids-griffins-3/
LOCATION:BMO Center\, 300 Elm St\, Rockford\, IL\, United States
CATEGORIES:Rockford
END:VEVENT
BEGIN:VEVENT
DTSTART;TZID=America/Chicago:20220430T180000
DTEND;TZID=America/Chicago:20220430T200000
DTSTAMP:20260421T033631
CREATED:20220424T013155Z
LAST-MODIFIED:20220424T013155Z
UID:19915-1651341600-1651348800@statelinekids.com
SUMMARY:Rockford Ice Hogs vs. Chicago Wolves
DESCRIPTION:It’s Fan Appreciation Night and WWE Night at the IceHogs! The first 2\,500 fans get a scratch off ticket for prizes. Get tickets here.
URL:https://statelinekids.com/event/rockford-ice-hogs-vs-chicago-wolves/
LOCATION:BMO Center\, 300 Elm St\, Rockford\, IL\, United States
CATEGORIES:Rockford
END:VEVENT
BEGIN:VEVENT
DTSTART;TZID=America/Chicago:20220517T190000
DTEND;TZID=America/Chicago:20220517T210000
DTSTAMP:20260421T033631
CREATED:20220508T014136Z
LAST-MODIFIED:20220508T014136Z
UID:20317-1652814000-1652821200@statelinekids.com
SUMMARY:Rockford IceHogs Division Semifinals
DESCRIPTION:Watch the IceHogs play in the division semifinals. Get tickets here.
URL:https://statelinekids.com/event/rockford-icehogs-division-semifinals/
LOCATION:BMO Center\, 300 Elm St\, Rockford\, IL\, United States
CATEGORIES:Rockford
END:VEVENT
BEGIN:VEVENT
DTSTART;TZID=America/Chicago:20221022T190000
DTEND;TZID=America/Chicago:20221022T210000
DTSTAMP:20260421T033631
CREATED:20221016T205725Z
LAST-MODIFIED:20221016T205725Z
UID:24344-1666465200-1666472400@statelinekids.com
SUMMARY:Rockford IceHogs vs. Chicago Wolves
DESCRIPTION:Enjoy watching the first home game of the IceHogs season! Get tickets here.
URL:https://statelinekids.com/event/rockford-icehogs-vs-chicago-wolves-7/
LOCATION:BMO Center\, 300 Elm St\, Rockford\, IL\, United States
CATEGORIES:Rockford
END:VEVENT
BEGIN:VEVENT
DTSTART;TZID=America/Chicago:20230118T190000
DTEND;TZID=America/Chicago:20230118T210000
DTSTAMP:20260421T033631
CREATED:20230114T235402Z
LAST-MODIFIED:20230114T235402Z
UID:25956-1674068400-1674075600@statelinekids.com
SUMMARY:Rockford IceHogs vs. Grand Rapids Griffins
DESCRIPTION:Watch the Rockford IceHogs take on a rival. Get tickets here.
URL:https://statelinekids.com/event/rockford-icehogs-vs-grand-rapids-griffins-5/
LOCATION:BMO Center\, 300 Elm St\, Rockford\, IL\, United States
CATEGORIES:Rockford
END:VEVENT
BEGIN:VEVENT
DTSTART;TZID=America/Chicago:20231027T190000
DTEND;TZID=America/Chicago:20231027T210000
DTSTAMP:20260421T033631
CREATED:20231020T005547Z
LAST-MODIFIED:20231020T005547Z
UID:31523-1698433200-1698440400@statelinekids.com
SUMMARY:Rockford IceHogs vs. Iowa Wild
DESCRIPTION:Watch the IceHogs play against the Iowa Wild. Get tickets here.
URL:https://statelinekids.com/event/rockford-icehogs-vs-iowa-wild-10/
LOCATION:BMO Center\, 300 Elm St\, Rockford\, IL\, United States
CATEGORIES:Rockford
END:VEVENT
BEGIN:VEVENT
DTSTART;TZID=America/Chicago:20231028T190000
DTEND;TZID=America/Chicago:20231028T210000
DTSTAMP:20260421T033631
CREATED:20231020T005719Z
LAST-MODIFIED:20231020T005719Z
UID:31526-1698519600-1698526800@statelinekids.com
SUMMARY:Rockford IceHogs vs. Grand Rapid Griffins
DESCRIPTION:Watch the IceHogs play against a rival. Get tickets here.
URL:https://statelinekids.com/event/rockford-icehogs-vs-grand-rapid-griffins/
LOCATION:BMO Center\, 300 Elm St\, Rockford\, IL\, United States
CATEGORIES:Rockford
END:VEVENT
BEGIN:VEVENT
DTSTART;TZID=America/Chicago:20231110T190000
DTEND;TZID=America/Chicago:20231110T210000
DTSTAMP:20260421T033631
CREATED:20231104T172845Z
LAST-MODIFIED:20231104T172845Z
UID:31841-1699642800-1699650000@statelinekids.com
SUMMARY:Rockford IceHogs vs. Iowa Wild
DESCRIPTION:Watch the IceHogs take on a rival. Get tickets here.
URL:https://statelinekids.com/event/rockford-icehogs-vs-iowa-wild-11/
LOCATION:BMO Center\, 300 Elm St\, Rockford\, IL\, United States
CATEGORIES:Rockford
END:VEVENT
BEGIN:VEVENT
DTSTART;TZID=America/Chicago:20231208T190000
DTEND;TZID=America/Chicago:20231208T210000
DTSTAMP:20260421T033631
CREATED:20231203T213553Z
LAST-MODIFIED:20231203T213553Z
UID:32426-1702062000-1702069200@statelinekids.com
SUMMARY:Rockford IceHogs vs. San Diego Gulls
DESCRIPTION:Watch the IceHogs take on a rival. Get tickets here.
URL:https://statelinekids.com/event/rockford-icehogs-vs-san-diego-gulls/2023-12-08/
LOCATION:BMO Center\, 300 Elm St\, Rockford\, IL\, United States
CATEGORIES:Rockford
END:VEVENT
BEGIN:VEVENT
DTSTART;TZID=America/Chicago:20231212T180000
DTEND;TZID=America/Chicago:20231212T193000
DTSTAMP:20260421T033631
CREATED:20231210T191052Z
LAST-MODIFIED:20231210T191052Z
UID:32521-1702404000-1702409400@statelinekids.com
SUMMARY:IceHogs Live Practice and Meet and Greet
DESCRIPTION:Watch the Rockford IceHogs practice and then meet and greet with the players and Hammy.
URL:https://statelinekids.com/event/icehogs-live-practice-and-meet-and-greet/
LOCATION:Riverside Ice Arena\, 365 Locust St\, Belvidere\, IL\, United States
CATEGORIES:Belvidere
END:VEVENT
BEGIN:VEVENT
DTSTART;TZID=America/Chicago:20240119T190000
DTEND;TZID=America/Chicago:20240119T210000
DTSTAMP:20260421T033631
CREATED:20240115T000730Z
LAST-MODIFIED:20240115T000730Z
UID:33024-1705690800-1705698000@statelinekids.com
SUMMARY:Rockford IceHogs vs. Chicago Wolves
DESCRIPTION:Watch the IceHogs take on a rival. Get tickets here.
URL:https://statelinekids.com/event/rockford-icehogs-vs-chicago-wolves-12/
LOCATION:BMO Center\, 300 Elm St\, Rockford\, IL\, United States
CATEGORIES:Rockford
END:VEVENT
BEGIN:VEVENT
DTSTART;TZID=America/Chicago:20241012T190000
DTEND;TZID=America/Chicago:20241012T210000
DTSTAMP:20260421T033631
CREATED:20241007T005058Z
LAST-MODIFIED:20241007T005058Z
UID:38027-1728759600-1728766800@statelinekids.com
SUMMARY:Rockford IceHogs vs. Grand Rapids Griffins
DESCRIPTION:Watch the Ice Hogs play a game. Get tickets here.
URL:https://statelinekids.com/event/rockford-icehogs-vs-grand-rapids-griffins-7/
LOCATION:BMO Center\, 300 Elm St\, Rockford\, IL\, United States
CATEGORIES:Rockford
END:VEVENT
BEGIN:VEVENT
DTSTART;TZID=America/Chicago:20241214T190000
DTEND;TZID=America/Chicago:20241214T210000
DTSTAMP:20260421T033631
CREATED:20241208T215152Z
LAST-MODIFIED:20241208T215152Z
UID:38990-1734202800-1734210000@statelinekids.com
SUMMARY:Rockford IceHogs Game
DESCRIPTION:Enjoy a Rockford IceHogs game. Get tickets here.
URL:https://statelinekids.com/event/rockford-icehogs-game/2024-12-14/
LOCATION:BMO Center\, 300 Elm St\, Rockford\, IL\, United States
CATEGORIES:Rockford
END:VEVENT
BEGIN:VEVENT
DTSTART;TZID=America/Chicago:20241215T160000
DTEND;TZID=America/Chicago:20241215T180000
DTSTAMP:20260421T033631
CREATED:20241208T215152Z
LAST-MODIFIED:20241208T215152Z
UID:38992-1734278400-1734285600@statelinekids.com
SUMMARY:Rockford IceHogs Game
DESCRIPTION:Enjoy a Rockford IceHogs game. Get tickets here.
URL:https://statelinekids.com/event/rockford-icehogs-game/2024-12-15/
LOCATION:BMO Center\, 300 Elm St\, Rockford\, IL\, United States
CATEGORIES:Rockford
END:VEVENT
BEGIN:VEVENT
DTSTART;TZID=America/Chicago:20250114T180000
DTEND;TZID=America/Chicago:20250114T190000
DTSTAMP:20260421T033631
CREATED:20250112T183225Z
LAST-MODIFIED:20250112T183225Z
UID:39282-1736877600-1736881200@statelinekids.com
SUMMARY:Rockford IceHogs Live Practice
DESCRIPTION:Watch the IceHogs practice and participate in a meet and greet.
URL:https://statelinekids.com/event/rockford-icehogs-live-practice/
LOCATION:Riverside Ice Arena\, 365 Locust St\, Belvidere\, IL\, United States
CATEGORIES:Belvidere
END:VEVENT
BEGIN:VEVENT
DTSTART;TZID=America/Chicago:20250125T190000
DTEND;TZID=America/Chicago:20250125T210000
DTSTAMP:20260421T033631
CREATED:20250118T012640Z
LAST-MODIFIED:20250118T012640Z
UID:39340-1737831600-1737838800@statelinekids.com
SUMMARY:Rockford IceHogs game
DESCRIPTION:Watch the IceHogs take on a rival. It’s Autism Awareness night. Get tickets here.
URL:https://statelinekids.com/event/rockford-icehogs-game-3/
LOCATION:BMO Center\, 300 Elm St\, Rockford\, IL\, United States
CATEGORIES:Rockford
END:VEVENT
END:VCALENDAR