BEGIN:VCALENDAR
VERSION:2.0
PRODID:-//Stateline Kids - ECPv6.5.1.3//NONSGML v1.0//EN
CALSCALE:GREGORIAN
METHOD:PUBLISH
X-ORIGINAL-URL:https://statelinekids.com
X-WR-CALDESC:Events for Stateline Kids
REFRESH-INTERVAL;VALUE=DURATION:PT1H
X-Robots-Tag:noindex
X-PUBLISHED-TTL:PT1H
BEGIN:VTIMEZONE
TZID:America/Chicago
BEGIN:DAYLIGHT
TZOFFSETFROM:-0600
TZOFFSETTO:-0500
TZNAME:CDT
DTSTART:20180311T080000
END:DAYLIGHT
BEGIN:STANDARD
TZOFFSETFROM:-0500
TZOFFSETTO:-0600
TZNAME:CST
DTSTART:20181104T070000
END:STANDARD
BEGIN:DAYLIGHT
TZOFFSETFROM:-0600
TZOFFSETTO:-0500
TZNAME:CDT
DTSTART:20190310T080000
END:DAYLIGHT
BEGIN:STANDARD
TZOFFSETFROM:-0500
TZOFFSETTO:-0600
TZNAME:CST
DTSTART:20191103T070000
END:STANDARD
BEGIN:DAYLIGHT
TZOFFSETFROM:-0600
TZOFFSETTO:-0500
TZNAME:CDT
DTSTART:20200308T080000
END:DAYLIGHT
BEGIN:STANDARD
TZOFFSETFROM:-0500
TZOFFSETTO:-0600
TZNAME:CST
DTSTART:20201101T070000
END:STANDARD
BEGIN:DAYLIGHT
TZOFFSETFROM:-0600
TZOFFSETTO:-0500
TZNAME:CDT
DTSTART:20210314T080000
END:DAYLIGHT
BEGIN:STANDARD
TZOFFSETFROM:-0500
TZOFFSETTO:-0600
TZNAME:CST
DTSTART:20211107T070000
END:STANDARD
BEGIN:DAYLIGHT
TZOFFSETFROM:-0600
TZOFFSETTO:-0500
TZNAME:CDT
DTSTART:20220313T080000
END:DAYLIGHT
BEGIN:STANDARD
TZOFFSETFROM:-0500
TZOFFSETTO:-0600
TZNAME:CST
DTSTART:20221106T070000
END:STANDARD
BEGIN:DAYLIGHT
TZOFFSETFROM:-0600
TZOFFSETTO:-0500
TZNAME:CDT
DTSTART:20230312T080000
END:DAYLIGHT
BEGIN:STANDARD
TZOFFSETFROM:-0500
TZOFFSETTO:-0600
TZNAME:CST
DTSTART:20231105T070000
END:STANDARD
BEGIN:DAYLIGHT
TZOFFSETFROM:-0600
TZOFFSETTO:-0500
TZNAME:CDT
DTSTART:20240310T080000
END:DAYLIGHT
BEGIN:STANDARD
TZOFFSETFROM:-0500
TZOFFSETTO:-0600
TZNAME:CST
DTSTART:20241103T070000
END:STANDARD
BEGIN:DAYLIGHT
TZOFFSETFROM:-0600
TZOFFSETTO:-0500
TZNAME:CDT
DTSTART:20250309T080000
END:DAYLIGHT
BEGIN:STANDARD
TZOFFSETFROM:-0500
TZOFFSETTO:-0600
TZNAME:CST
DTSTART:20251102T070000
END:STANDARD
END:VTIMEZONE
BEGIN:VEVENT
DTSTART;TZID=America/Chicago:20181114T173000
DTEND;TZID=America/Chicago:20181114T193000
DTSTAMP:20260421T005702
CREATED:20181111T212038Z
LAST-MODIFIED:20181111T212038Z
UID:3806-1542216600-1542223800@statelinekids.com
SUMMARY:Night Hike
DESCRIPTION:Explore the trails of Severson Dells after dark\, guided by a staff naturalist. Open your senses to experience nature under cover of darkness. Exercise your night vision\, adjusting to the darkness and reawakening other sense perceptions. To that end\, we discourage the use of flashlights on the trail (although\, of course\, you may bring one along in case of need). Free program; all ages are welcome. Register in advance here.
URL:https://statelinekids.com/event/night-hike/
LOCATION:Severson Dells Nature Center\, 8786 Montague Rd\, Rockford\, IL\, United States
CATEGORIES:Rockford
END:VEVENT
BEGIN:VEVENT
DTSTART;TZID=America/Chicago:20190216T130000
DTEND;TZID=America/Chicago:20190216T143000
DTSTAMP:20260421T005702
CREATED:20190210T224839Z
LAST-MODIFIED:20190210T224839Z
UID:4860-1550322000-1550327400@statelinekids.com
SUMMARY:Winter Hike
DESCRIPTION:Enjoy a hike outdoors and some hot cocoa afterward. Must be able to hike 1+ miles over rough terrain. Register online or call 815-335-2915.
URL:https://statelinekids.com/event/winter-hike-2/
LOCATION:Severson Dells Nature Center\, 8786 Montague Rd\, Rockford\, IL\, United States
CATEGORIES:Rockford
END:VEVENT
BEGIN:VEVENT
DTSTART;TZID=America/Chicago:20190223T080000
DTEND;TZID=America/Chicago:20190223T120000
DTSTAMP:20260421T005702
CREATED:20190217T214154Z
LAST-MODIFIED:20190217T214154Z
UID:4914-1550908800-1550923200@statelinekids.com
SUMMARY:Maple Sugar Fest
DESCRIPTION:Come out to Big Hill Center for a morning of maple sugar fun including tree tapping\, sap boiling demos\, crafts\, guided hikes\, basket weaving\, making maple sugar candy\, and a pancake breakfast with maple syrup\, sausage\, fruit and hot drinks. \nCost: $8 per adult\, $3 for kids ages 2-12
URL:https://statelinekids.com/event/maple-sugar-fest/
LOCATION:Welty Environmental Center\, 1201 Big Hill Ct\, Beloit\, WI\, United States
CATEGORIES:Beloit
END:VEVENT
BEGIN:VEVENT
DTSTART;TZID=America/Chicago:20190817T190000
DTEND;TZID=America/Chicago:20190817T210000
DTSTAMP:20260421T005702
CREATED:20190810T234624Z
LAST-MODIFIED:20190810T234624Z
UID:6979-1566068400-1566075600@statelinekids.com
SUMMARY:In The Outdoors: Hike-In Theater
DESCRIPTION:Go for a hike and then watch a family-friendly performance by Atwood Center staff and enjoy some popcorn.
URL:https://statelinekids.com/event/in-the-outdoors-hike-in-theater/
LOCATION:Atwood Center\, 2685 New Milford School Rd\, Rockford\, IL\, United States
CATEGORIES:Rockford
END:VEVENT
BEGIN:VEVENT
DTSTART;TZID=America/Chicago:20190910T093000
DTEND;TZID=America/Chicago:20190910T113000
DTSTAMP:20260421T005702
CREATED:20190907T211104Z
LAST-MODIFIED:20190907T211104Z
UID:7319-1568107800-1568115000@statelinekids.com
SUMMARY:Nature Sprouts: Treerific Trees
DESCRIPTION:Enjoy a fun morning of learning about trees\, making crafts\, and hiking. This program is intended for kids 3-6 years old. Register here. \nCost: $15 for one parent and one child\, $10 for one parent and one child members
URL:https://statelinekids.com/event/nature-sprouts-treerific-trees/
LOCATION:Severson Dells Nature Center\, 8786 Montague Rd\, Rockford\, IL\, United States
CATEGORIES:Rockford
END:VEVENT
BEGIN:VEVENT
DTSTART;TZID=America/Chicago:20191013T193000
DTEND;TZID=America/Chicago:20191013T210000
DTSTAMP:20260421T005702
CREATED:20191005T200302Z
LAST-MODIFIED:20191005T200302Z
UID:7847-1570995000-1571000400@statelinekids.com
SUMMARY:Full Moon Hike
DESCRIPTION:Walk in a spooky moonlit forest. A flashlight is recommended. Register here. \nCost: $5 members / $7 for nonmbers
URL:https://statelinekids.com/event/full-moon-hike/
LOCATION:Welty Environmental Center\, 1201 Big Hill Ct\, Beloit\, WI\, United States
CATEGORIES:Beloit
END:VEVENT
BEGIN:VEVENT
DTSTART;TZID=America/Chicago:20191026T140000
DTEND;TZID=America/Chicago:20191026T203000
DTSTAMP:20260421T005702
CREATED:20190901T141048Z
LAST-MODIFIED:20191026T155056Z
UID:7224-1572098400-1572121800@statelinekids.com
SUMMARY:CANCELED: Family Fun Trail
DESCRIPTION:This event has been canceled. \nEnjoy a hayride\, s’more roasting\, tunnel\, corn sandbox\, and a walk through the woods following a pumpkin trail. Event continues October 26. \nCost: $5 per person\, $20 per family maximum
URL:https://statelinekids.com/event/family-fun-trail-11/
LOCATION:4E Family Fun Trail\, 6688 E Rockton Rd.\, Roscoe\, IL\, United States
CATEGORIES:Roscoe
END:VEVENT
BEGIN:VEVENT
DTSTART;TZID=America/Chicago:20200119T130000
DTEND;TZID=America/Chicago:20200119T150000
DTSTAMP:20260421T005702
CREATED:20200111T182856Z
LAST-MODIFIED:20200111T182856Z
UID:9411-1579438800-1579446000@statelinekids.com
SUMMARY:Snowshoe Hike
DESCRIPTION:Take a snowshoe hike around Hononegah Forest Preserve. If there’s no show\, this will be a free hike. Register here. \nCost is $25 per adult\, $12.50 per child includes snowshoe rental
URL:https://statelinekids.com/event/snowshoe-hike/
LOCATION:Hononegah Forest Preserve\, #80 Hononegah Rd.\, Rockton\, IL\, United States
CATEGORIES:Rockton
END:VEVENT
BEGIN:VEVENT
DTSTART;TZID=America/Chicago:20200216T140000
DTEND;TZID=America/Chicago:20200216T153000
DTSTAMP:20260421T005702
CREATED:20200208T225835Z
LAST-MODIFIED:20200208T225835Z
UID:9745-1581861600-1581867000@statelinekids.com
SUMMARY:Watch Your Step at Welty Environmental Center
DESCRIPTION:Identify animal tracks and become wildlife detectives. Dress for the weather. Register here. \nCost is $5 donation at the door
URL:https://statelinekids.com/event/watch-your-step-at-welty-environmental-center/
LOCATION:Welty Environmental Center\, 1201 Big Hill Ct\, Beloit\, WI\, United States
CATEGORIES:Beloit
END:VEVENT
BEGIN:VEVENT
DTSTART;TZID=America/Chicago:20200222T093000
DTEND;TZID=America/Chicago:20200222T110000
DTSTAMP:20260421T005702
CREATED:20200212T144144Z
LAST-MODIFIED:20200212T144151Z
UID:9789-1582363800-1582369200@statelinekids.com
SUMMARY:Honeysuckle Hiking Sticks at Severson Dells Nature Center
DESCRIPTION:Honeysuckle is an invasive shrub that is wreaking havoc on our local ecosystems. While it doesn’t belong in our woods\, it could have a wonderful new life as your next walking stick! This workshop will provide all the tools and training you need to whittle\, paint\, sand\, string\, or even bedazzle your honeysuckle walking sticks. Cost: $10 members/ $15 non-members. Register by 02/17.
URL:https://statelinekids.com/event/honeysuckle-hiking-sticks-at-severson-dells-nature-center/
LOCATION:Severson Dells Nature Center\, 8786 Montague Rd\, Rockford\, IL\, United States
CATEGORIES:Rockford
END:VEVENT
BEGIN:VEVENT
DTSTART;TZID=America/Chicago:20200620T130000
DTEND;TZID=America/Chicago:20200620T150000
DTSTAMP:20260421T005702
CREATED:20200618T152000Z
LAST-MODIFIED:20200618T152000Z
UID:11659-1592658000-1592665200@statelinekids.com
SUMMARY:Nature for All
DESCRIPTION:Nature is for all. Everyone can enjoy nature and all that it has to offer! Nature is for All is a new program that is available for individuals with disabilities and their caretakers. AmeriCorps Educator Holly will take you on a hike on the paved loop. We will then make a craft out of recycled materials as we discuss how each of us can play an instrumental role in taking care of this planet. This program is best suited for individuals that are 12 years old and up. Register here. 
URL:https://statelinekids.com/event/nature-for-all/
LOCATION:Severson Dells Nature Center\, 8786 Montague Rd\, Rockford\, IL\, United States
CATEGORIES:Rockford
END:VEVENT
BEGIN:VEVENT
DTSTART;TZID=America/Chicago:20200623T090000
DTEND;TZID=America/Chicago:20200623T103000
DTSTAMP:20260421T005702
CREATED:20200619T144518Z
LAST-MODIFIED:20200619T144518Z
UID:11690-1592902800-1592908200@statelinekids.com
SUMMARY:Summer Hike Series
DESCRIPTION:In this FREE Summer Hike Series\, you will be able to explore the beautiful landscapes of Fuller Memorial Forest Preserve and find out more about the natural areas where you live. With AmeriCorps Educator Ben\, we will discover the incredible birds that surround us every day. This would be a great hike for anyone with an interest in birds and birding. Bring your curiosity and get ready to explore the amazing world around you! Register here.
URL:https://statelinekids.com/event/summer-hike-series-2/
LOCATION:Fuller Memorial Forest Preserve\, 6700 Fitzgerald Rd\, Rockford\, IL\, United States
CATEGORIES:Rockford
END:VEVENT
BEGIN:VEVENT
DTSTART;TZID=America/Chicago:20200718T200000
DTEND;TZID=America/Chicago:20200718T210000
DTSTAMP:20260421T005702
CREATED:20200712T191901Z
LAST-MODIFIED:20200712T191901Z
UID:12141-1595102400-1595106000@statelinekids.com
SUMMARY:Owl Walks @ Severson Dells Nature Center
DESCRIPTION:Take a hike through the woodland areas of Severson Dells and look for owls. For anyone ages 5 and up. Registration required\, register here.
URL:https://statelinekids.com/event/owl-walks-severson-dells-nature-center/2020-07-18/
LOCATION:Severson Dells Nature Center\, 8786 Montague Rd\, Rockford\, IL\, United States
CATEGORIES:Rockford
END:VEVENT
BEGIN:VEVENT
DTSTART;TZID=America/Chicago:20201120T180000
DTEND;TZID=America/Chicago:20201120T220000
DTSTAMP:20260421T005702
CREATED:20201115T184056Z
LAST-MODIFIED:20201115T184056Z
UID:13748-1605895200-1605909600@statelinekids.com
SUMMARY:Parents Night Out
DESCRIPTION:Kids ages 5 and up will have a fun night of hiking\, games\, and movie while parents enjoy time alone. Register by emailing aparker4@niu.edu. \nCost: $15 per kid\, $7 per additional kid
URL:https://statelinekids.com/event/parents-night-out-5/
LOCATION:Lorado Taft Field Campus\, 1414 N River Rd\, Oregon\, IL\, United States
CATEGORIES:Oregon
END:VEVENT
BEGIN:VEVENT
DTSTART;TZID=America/Chicago:20201218T190000
DTEND;TZID=America/Chicago:20201218T201500
DTSTAMP:20260421T005702
CREATED:20201213T200440Z
LAST-MODIFIED:20201213T200440Z
UID:14216-1608318000-1608322500@statelinekids.com
SUMMARY:Night Hike
DESCRIPTION:Join the Taft staff in exploring what types of animals wander around the woods at night!  We will explore our senses and see which ones help us in the dark.  This program includes a hike\, with stairs\, in the dark.  All ages welcome!  This program is $5/person and completely outdoors\, please dress warm!  Contact Alyssa Parker at aparker4@niu.edu to register.
URL:https://statelinekids.com/event/night-hike-2/
LOCATION:Lorado Taft Field Campus\, 1414 N River Rd\, Oregon\, IL\, United States
CATEGORIES:Oregon
END:VEVENT
BEGIN:VEVENT
DTSTART;TZID=America/Chicago:20201219T150000
DTEND;TZID=America/Chicago:20201219T160000
DTSTAMP:20260421T005702
CREATED:20201213T201334Z
LAST-MODIFIED:20201213T201334Z
UID:14221-1608390000-1608393600@statelinekids.com
SUMMARY:Walking in a Winter Wonderland
DESCRIPTION:Take a beautiful hike through the woods to see winter at its finest and look for animal tracks. Contact Alyssa Parker at aparker4@niu.edu to register. \nCost: $5 per person
URL:https://statelinekids.com/event/walking-in-a-winter-wonderland/
LOCATION:Lorado Taft Field Campus\, 1414 N River Rd\, Oregon\, IL\, United States
CATEGORIES:Oregon
END:VEVENT
BEGIN:VEVENT
DTSTART;TZID=America/Chicago:20210223T160000
DTEND;TZID=America/Chicago:20210223T170000
DTSTAMP:20260421T005702
CREATED:20210221T180615Z
LAST-MODIFIED:20210221T180715Z
UID:14821-1614096000-1614099600@statelinekids.com
SUMMARY:Walk and Thaw
DESCRIPTION:Walk a one-mile loop on a paved path. Register in advance.
URL:https://statelinekids.com/event/walk-and-thaw/
LOCATION:Forest Preserve Headquarters\, 5500 Northrock Drive\, Rockford\, IL\, United States
CATEGORIES:Rockford
END:VEVENT
BEGIN:VEVENT
DTSTART;TZID=America/Chicago:20210314T080000
DTEND;TZID=America/Chicago:20210314T210000
DTSTAMP:20260421T005702
CREATED:20210307T175805Z
LAST-MODIFIED:20210307T175805Z
UID:14957-1615708800-1615755600@statelinekids.com
SUMMARY:Big Hill Sugar Bush Self-Guided Hike
DESCRIPTION:Take a self-guided hike through Big Hill Park’s sugar bush to learn about maple sugar. There are 10 educational signs posted throughout the sugar bush. Start your hike northeast of the Big Hill Cabin and look for blue bags on the trees. This event continues through March 28th.
URL:https://statelinekids.com/event/big-hill-sugar-bush-self-guided-hike/2021-03-14/
LOCATION:Big Hill Park\, 1201 Big Hill Road\, Beloit\, WI\, United States
CATEGORIES:Beloit
END:VEVENT
BEGIN:VEVENT
DTSTART;TZID=America/Chicago:20220830T150000
DTEND;TZID=America/Chicago:20220830T173000
DTSTAMP:20260421T005702
CREATED:20220828T190907Z
LAST-MODIFIED:20220828T190907Z
UID:23132-1661871600-1661880600@statelinekids.com
SUMMARY:Tuesday Treks
DESCRIPTION:Take a guided hike with staff. Snacks and water provided.
URL:https://statelinekids.com/event/tuesday-treks/2022-08-30/
LOCATION:Nature At the Confluence\, 306 Dickop St\, South Beloit\, IL\, United States
END:VEVENT
BEGIN:VEVENT
DTSTART;TZID=America/Chicago:20240420T090000
DTEND;TZID=America/Chicago:20240420T120000
DTSTAMP:20260421T005702
CREATED:20240413T163302Z
LAST-MODIFIED:20240413T163302Z
UID:34382-1713603600-1713614400@statelinekids.com
SUMMARY:Healthy Kids Day
DESCRIPTION:Enjoy the outdoors and hiking. Each attendee will receive a ticket for a raffle.
URL:https://statelinekids.com/event/healthy-kids-day-4/
LOCATION:Camp Winnebago\, 5804 N. Main St.\, Rockford\, IL\, United States
CATEGORIES:Rockford
END:VEVENT
BEGIN:VEVENT
DTSTART;TZID=America/Chicago:20250419T140000
DTEND;TZID=America/Chicago:20250419T150000
DTSTAMP:20260421T005702
CREATED:20250406T173944Z
LAST-MODIFIED:20250406T173945Z
UID:40155-1745071200-1745074800@statelinekids.com
SUMMARY:In the Outdoors: Earth Day Every Day
DESCRIPTION:Earth Day is near – April 22nd! Join Atwood staff as we honor the planet and explore simple ways to keep Earth healthy and happy. We’ll dive into topics like reducing\, reusing\, recycling\, and composting\, and discuss what happens to our trash once it’s thrown away. You’ll also learn about local sustainability initiatives and resources to get involved. Plus\, enjoy the chance to take a brief guided hike on Atwood’s beautiful trails and take a moment to appreciate the natural world around us. \nPlease meet at Atwood Center (2685 New Milford School Road) and bring comfortable closed-toe or closed-heel shoes\, appropriate weather clothing\, and a drive to help the earth! \nIn the Outdoors events are supported by Rock River Disposal. This event is FREE. Pre-registration is highly recommended and appreciated at the more info link below.
URL:https://statelinekids.com/event/in-the-outdoors-earth-day-every-day/
LOCATION:Atwood Center\, 2685 New Milford School Rd\, Rockford\, IL\, United States
CATEGORIES:Rockford
ATTACH;FMTTYPE=image/jpeg:https://statelinekids.com/wp-content/uploads/2025/04/Earth-Day.jpg
END:VEVENT
BEGIN:VEVENT
DTSTART;TZID=America/Chicago:20250426T100000
DTEND;TZID=America/Chicago:20250426T120000
DTSTAMP:20260421T005702
CREATED:20250406T174055Z
LAST-MODIFIED:20250406T174055Z
UID:40159-1745661600-1745668800@statelinekids.com
SUMMARY:Dog Hike
DESCRIPTION:Enjoy the woods while walking with your furry best friend! Join Atwood staff and explore the woods\, learn about the wildlife\, and learn about some of the history of the park. Dogs are welcome to join this hike\, but it must be people- and dog-friendly. \nThe hike will be held rain or shine. Participants should dress appropriately for the weather\, and wear comfortable hiking shoes. Participants should bring bug spray\, sunscreen\, and a water bottle for themselves and their dog(s). \nRequirements for dogs: • A current rabies vaccine and visible rabies tag are required for this event. • All dogs must be spayed/neutered. • No flexi or retractable leashes are allowed. • Participants are required to pick up and dispose of their dog’s waste\, and provide water for their dog(s). (Waste bags will not be provided) • Two dogs max\, per person. • Only adults 18 and older may handle dogs for this hike; attendance is open to participants ages 10 and up. \nAny dogs showing signs of or acting aggressively will be asked to leave.
URL:https://statelinekids.com/event/dog-hike/
LOCATION:Atwood Center\, 2685 New Milford School Rd\, Rockford\, IL\, United States
CATEGORIES:Rockford
ATTACH;FMTTYPE=image/png:https://statelinekids.com/wp-content/uploads/2025/04/Dog.png
END:VEVENT
BEGIN:VEVENT
DTSTART;TZID=America/Chicago:20250822T193000
DTEND;TZID=America/Chicago:20250822T203000
DTSTAMP:20260421T005702
CREATED:20250815T184032Z
LAST-MODIFIED:20250815T184032Z
UID:41791-1755891000-1755894600@statelinekids.com
SUMMARY:Bat Hike
DESCRIPTION:Go hiking and track bats with sound-monitoring techniques. Register here.
URL:https://statelinekids.com/event/bat-hike-3/
LOCATION:Blackhawk Springs County Forest Preserve\, 5360 Mulford Rd.\, Rockford\, IL\, United States
CATEGORIES:Cherry Valley
END:VEVENT
END:VCALENDAR