BEGIN:VCALENDAR
VERSION:2.0
PRODID:-//Stateline Kids - ECPv6.5.1.3//NONSGML v1.0//EN
CALSCALE:GREGORIAN
METHOD:PUBLISH
X-WR-CALNAME:Stateline Kids
X-ORIGINAL-URL:https://statelinekids.com
X-WR-CALDESC:Events for Stateline Kids
REFRESH-INTERVAL;VALUE=DURATION:PT1H
X-Robots-Tag:noindex
X-PUBLISHED-TTL:PT1H
BEGIN:VTIMEZONE
TZID:America/Chicago
BEGIN:DAYLIGHT
TZOFFSETFROM:-0600
TZOFFSETTO:-0500
TZNAME:CDT
DTSTART:20180311T080000
END:DAYLIGHT
BEGIN:STANDARD
TZOFFSETFROM:-0500
TZOFFSETTO:-0600
TZNAME:CST
DTSTART:20181104T070000
END:STANDARD
END:VTIMEZONE
BEGIN:VEVENT
DTSTART;TZID=America/Chicago:20181030T163000
DTEND;TZID=America/Chicago:20181030T170000
DTSTAMP:20260423T091403
CREATED:20181028T195354Z
LAST-MODIFIED:20181028T195354Z
UID:3520-1540917000-1540918800@statelinekids.com
SUMMARY:Nick Jr. Library Adventure
DESCRIPTION:Come to this special storytime and celebrate your favorite Paw Patrol and Top Wing characters while learning about heroes in your community. For kids of all ages.
URL:https://statelinekids.com/event/nick-jr-library-adventure-2/
LOCATION:Rockford Public Library Hart Interim Library\, 214 N Church St\, Rockford\, IL\, United States
CATEGORIES:Rockford
END:VEVENT
END:VCALENDAR