BEGIN:VCALENDAR
VERSION:2.0
PRODID:-//Stateline Kids - ECPv6.5.1.3//NONSGML v1.0//EN
CALSCALE:GREGORIAN
METHOD:PUBLISH
X-WR-CALNAME:Stateline Kids
X-ORIGINAL-URL:https://statelinekids.com
X-WR-CALDESC:Events for Stateline Kids
REFRESH-INTERVAL;VALUE=DURATION:PT1H
X-Robots-Tag:noindex
X-PUBLISHED-TTL:PT1H
BEGIN:VTIMEZONE
TZID:America/Chicago
BEGIN:DAYLIGHT
TZOFFSETFROM:-0600
TZOFFSETTO:-0500
TZNAME:CDT
DTSTART:20180311T080000
END:DAYLIGHT
BEGIN:STANDARD
TZOFFSETFROM:-0500
TZOFFSETTO:-0600
TZNAME:CST
DTSTART:20181104T070000
END:STANDARD
BEGIN:DAYLIGHT
TZOFFSETFROM:-0600
TZOFFSETTO:-0500
TZNAME:CDT
DTSTART:20190310T080000
END:DAYLIGHT
BEGIN:STANDARD
TZOFFSETFROM:-0500
TZOFFSETTO:-0600
TZNAME:CST
DTSTART:20191103T070000
END:STANDARD
BEGIN:DAYLIGHT
TZOFFSETFROM:-0600
TZOFFSETTO:-0500
TZNAME:CDT
DTSTART:20200308T080000
END:DAYLIGHT
BEGIN:STANDARD
TZOFFSETFROM:-0500
TZOFFSETTO:-0600
TZNAME:CST
DTSTART:20201101T070000
END:STANDARD
BEGIN:DAYLIGHT
TZOFFSETFROM:-0600
TZOFFSETTO:-0500
TZNAME:CDT
DTSTART:20210314T080000
END:DAYLIGHT
BEGIN:STANDARD
TZOFFSETFROM:-0500
TZOFFSETTO:-0600
TZNAME:CST
DTSTART:20211107T070000
END:STANDARD
BEGIN:DAYLIGHT
TZOFFSETFROM:-0600
TZOFFSETTO:-0500
TZNAME:CDT
DTSTART:20220313T080000
END:DAYLIGHT
BEGIN:STANDARD
TZOFFSETFROM:-0500
TZOFFSETTO:-0600
TZNAME:CST
DTSTART:20221106T070000
END:STANDARD
BEGIN:DAYLIGHT
TZOFFSETFROM:-0600
TZOFFSETTO:-0500
TZNAME:CDT
DTSTART:20230312T080000
END:DAYLIGHT
BEGIN:STANDARD
TZOFFSETFROM:-0500
TZOFFSETTO:-0600
TZNAME:CST
DTSTART:20231105T070000
END:STANDARD
BEGIN:DAYLIGHT
TZOFFSETFROM:-0600
TZOFFSETTO:-0500
TZNAME:CDT
DTSTART:20240310T080000
END:DAYLIGHT
BEGIN:STANDARD
TZOFFSETFROM:-0500
TZOFFSETTO:-0600
TZNAME:CST
DTSTART:20241103T070000
END:STANDARD
BEGIN:DAYLIGHT
TZOFFSETFROM:-0600
TZOFFSETTO:-0500
TZNAME:CDT
DTSTART:20250309T080000
END:DAYLIGHT
BEGIN:STANDARD
TZOFFSETFROM:-0500
TZOFFSETTO:-0600
TZNAME:CST
DTSTART:20251102T070000
END:STANDARD
END:VTIMEZONE
BEGIN:VEVENT
DTSTART;TZID=America/Chicago:20180717T091500
DTEND;TZID=America/Chicago:20180717T100000
DTSTAMP:20260421T123847
CREATED:20180710T181623Z
LAST-MODIFIED:20180710T181623Z
UID:886-1531818900-1531821600@statelinekids.com
SUMMARY:Preschool Gymnastics Open Gyms
DESCRIPTION:Not sure if your child would like gymnastics? Or looking for an opportunity for your child to get extra practice? \nJoin us for one of our open gyms this month! A parent or guardian must accompany the child during the open gym. Balance on the beam\, jump on the trampoline\, tumble on the mats\, meet new friends and have fun. \nAges: 1 -5 \nMembers – $5 / Community – $7 per class
URL:https://statelinekids.com/event/preschool-gymnastics-open-gyms/
LOCATION:Stateline Family YMCA\, 501 Third Street\, Beloit\, WI\, United States
CATEGORIES:Beloit
END:VEVENT
BEGIN:VEVENT
DTSTART;TZID=America/Chicago:20180725T184500
DTEND;TZID=America/Chicago:20180725T193000
DTSTAMP:20260421T123847
CREATED:20180710T181826Z
LAST-MODIFIED:20180710T181826Z
UID:889-1532544300-1532547000@statelinekids.com
SUMMARY:Preschool Gymnastics Open Gyms
DESCRIPTION:Not sure if your child would like gymnastics? Or looking for an opportunity for your child to get extra practice? \nJoin us for one of our open gyms this month! A parent or guardian must accompany the child during the open gym. Balance on the beam\, jump on the trampoline\, tumble on the mats\, meet new friends and have fun. \nAges: 1 -5 \nMembers – $5 / Community – $7 per class
URL:https://statelinekids.com/event/preschool-gymnastics-open-gyms-2/
LOCATION:Stateline Family YMCA\, 501 Third Street\, Beloit\, WI\, United States
CATEGORIES:Beloit
END:VEVENT
BEGIN:VEVENT
DTSTART;TZID=America/Chicago:20180915T120000
DTEND;TZID=America/Chicago:20180915T133000
DTSTAMP:20260421T123847
CREATED:20180914T204356Z
LAST-MODIFIED:20180914T204356Z
UID:2602-1537012800-1537018200@statelinekids.com
SUMMARY:National Gymnastics Day Open Gym
DESCRIPTION:Celebrate National Gymnastics Day with a FREE open gym. There will be stations set up to explore. Ages 2-5 can participate from 12-12:45 pm and 6-13 from 12:45-1:30 pm. Dress kids in comfortable clothes with no strings\, buttons\, or zippers.
URL:https://statelinekids.com/event/national-gymnastics-day-open-gym/
LOCATION:Stateline YMCA\, 1239 Huebbe Pkwy\, Beloit\, WI\, United States
CATEGORIES:Beloit
END:VEVENT
BEGIN:VEVENT
DTSTART;TZID=America/Chicago:20180929T193000
DTEND;TZID=America/Chicago:20180929T213000
DTSTAMP:20260421T123847
CREATED:20180923T171144Z
LAST-MODIFIED:20180923T171236Z
UID:2808-1538249400-1538256600@statelinekids.com
SUMMARY:Super Saturday - Parent's Night Out
DESCRIPTION:Super Saturday is the perfect way for kids to burn off that weekend energy in a safe and exciting environment. Parents\, you’ll be pleased to hear that you can drop off the kids for a well-deserved night out\, every Saturday! This is event is “Walk-in’s Welcome” and will continue for the school year. Join us this weekend and every weekend for hours of fun! \nOpen Gym for kids ages 5-14 \nEvery Saturday evening from 7:30 – 9:30 pm. \nCost is $12 per kid
URL:https://statelinekids.com/event/super-saturday/
LOCATION:Kids Spot\, 9461 N 2nd St\, Roscoe\, IL\, United States
CATEGORIES:Roscoe
END:VEVENT
BEGIN:VEVENT
DTSTART;TZID=America/Chicago:20181001T120000
DTEND;TZID=America/Chicago:20181001T125500
DTSTAMP:20260421T123847
CREATED:20181001T124835Z
LAST-MODIFIED:20181001T124835Z
UID:2932-1538395200-1538398500@statelinekids.com
SUMMARY:Open Gym
DESCRIPTION:Open gym for kids age 6 and under. If your child is potty trained\, they can be dropped off.
URL:https://statelinekids.com/event/open-gym/
LOCATION:Gymnastic Academy of Rockford\, 6630 Spring Brook Rd\, Rockford\, IL\, United States
CATEGORIES:Rockford
END:VEVENT
BEGIN:VEVENT
DTSTART;TZID=America/Chicago:20181001T160000
DTEND;TZID=America/Chicago:20181001T165500
DTSTAMP:20260421T123847
CREATED:20181001T125014Z
LAST-MODIFIED:20181001T125014Z
UID:2935-1538409600-1538412900@statelinekids.com
SUMMARY:Open Gym
DESCRIPTION:Open gym for kids age 6 and under. If your child is potty trained\, they can be dropped off.
URL:https://statelinekids.com/event/open-gym-2/
LOCATION:Gymnastics Academy of Roscoe\, 11447 2nd St\, Roscoe\, IL\, United States
CATEGORIES:Roscoe
END:VEVENT
BEGIN:VEVENT
DTSTART;TZID=America/Chicago:20181006T193000
DTEND;TZID=America/Chicago:20181006T213000
DTSTAMP:20260421T123847
CREATED:20180923T171309Z
LAST-MODIFIED:20180923T171309Z
UID:2810-1538854200-1538861400@statelinekids.com
SUMMARY:Super Saturday - Parent's Night Out
DESCRIPTION:Super Saturday is the perfect way for kids to burn off that weekend energy in a safe and exciting environment. Parents\, you’ll be pleased to hear that you can drop off the kids for a well-deserved night out\, every Saturday! This is event is “Walk-in’s Welcome” and will continue for the school year. Join us this weekend and every weekend for hours of fun! \nOpen Gym for kids ages 5-14 \nEvery Saturday evening from 7:30 – 9:30 pm. \nCost is $12 per kid
URL:https://statelinekids.com/event/super-saturday-parents-night-out/
LOCATION:Kids Spot\, 9461 N 2nd St\, Roscoe\, IL\, United States
CATEGORIES:Roscoe
END:VEVENT
BEGIN:VEVENT
DTSTART;TZID=America/Chicago:20181013T193000
DTEND;TZID=America/Chicago:20181013T213000
DTSTAMP:20260421T123847
CREATED:20180923T171418Z
LAST-MODIFIED:20180923T171418Z
UID:2813-1539459000-1539466200@statelinekids.com
SUMMARY:Super Saturday - Parent's Night Out
DESCRIPTION:Super Saturday is the perfect way for kids to burn off that weekend energy in a safe and exciting environment. Parents\, you’ll be pleased to hear that you can drop off the kids for a well-deserved night out\, every Saturday! This is event is “Walk-in’s Welcome” and will continue for the school year. Join us this weekend and every weekend for hours of fun! \nOpen Gym for kids ages 5-14 \nEvery Saturday evening from 7:30 – 9:30 pm. \nCost is $12 per kid
URL:https://statelinekids.com/event/super-saturday-parents-night-out-2/
LOCATION:Kids Spot\, 9461 N 2nd St\, Roscoe\, IL\, United States
CATEGORIES:Roscoe
END:VEVENT
BEGIN:VEVENT
DTSTART;TZID=America/Chicago:20181020T193000
DTEND;TZID=America/Chicago:20181020T213000
DTSTAMP:20260421T123847
CREATED:20180923T171515Z
LAST-MODIFIED:20180923T171534Z
UID:2815-1540063800-1540071000@statelinekids.com
SUMMARY:Super Saturday - Parent's Night Out
DESCRIPTION:Super Saturday is the perfect way for kids to burn off that weekend energy in a safe and exciting environment. Parents\, you’ll be pleased to hear that you can drop off the kids for a well-deserved night out\, every Saturday! This is event is “Walk-in’s Welcome” and will continue for the school year. Join us this weekend and every weekend for hours of fun! \nOpen Gym for kids ages 5-14 \nEvery Saturday evening from 7:30 – 9:30 pm. \nCost is $12 per kid
URL:https://statelinekids.com/event/super-saturday-parents-night-out-3/
LOCATION:Kids Spot\, 9461 N 2nd St\, Roscoe\, IL\, United States
CATEGORIES:Roscoe
END:VEVENT
BEGIN:VEVENT
DTSTART;TZID=America/Chicago:20181027T193000
DTEND;TZID=America/Chicago:20181027T213000
DTSTAMP:20260421T123847
CREATED:20180923T171632Z
LAST-MODIFIED:20180923T171632Z
UID:2817-1540668600-1540675800@statelinekids.com
SUMMARY:Super Saturday - Parent's Night Out
DESCRIPTION:Super Saturday is the perfect way for kids to burn off that weekend energy in a safe and exciting environment. Parents\, you’ll be pleased to hear that you can drop off the kids for a well-deserved night out\, every Saturday! This is event is “Walk-in’s Welcome” and will continue for the school year. Join us this weekend and every weekend for hours of fun! \nOpen Gym for kids ages 5-14 \nEvery Saturday evening from 7:30 – 9:30 pm. \nCost is $12 per kid
URL:https://statelinekids.com/event/super-saturday-parents-night-out-4/
LOCATION:Kids Spot\, 9461 N 2nd St\, Roscoe\, IL\, United States
END:VEVENT
BEGIN:VEVENT
DTSTART;TZID=America/Chicago:20190118T180000
DTEND;TZID=America/Chicago:20190118T210000
DTSTAMP:20260421T123847
CREATED:20190113T213104Z
LAST-MODIFIED:20190113T213104Z
UID:4540-1547834400-1547845200@statelinekids.com
SUMMARY:Open Gym
DESCRIPTION:Open gym with trampolines\, foam pit\, and other gymnastic equipment. \nCost: $10 per kid
URL:https://statelinekids.com/event/open-gym-3/
LOCATION:Wight Tumble Academy\, 7159 Windsor Lake Pkwy\, Loves Park\, IL\, United States
CATEGORIES:Loves Park
END:VEVENT
BEGIN:VEVENT
DTSTART;TZID=America/Chicago:20190208T180000
DTEND;TZID=America/Chicago:20190208T210000
DTSTAMP:20260421T123847
CREATED:20190203T185250Z
LAST-MODIFIED:20190203T185250Z
UID:4750-1549648800-1549659600@statelinekids.com
SUMMARY:Open Gym
DESCRIPTION:Open gym with trampolines\, foam pit\, and more.
URL:https://statelinekids.com/event/open-gym-4/
LOCATION:Wight Tumble Academy\, 7159 Windsor Lake Pkwy\, Loves Park\, IL\, United States
CATEGORIES:Loves Park
END:VEVENT
BEGIN:VEVENT
DTSTART;TZID=America/Chicago:20190216T180000
DTEND;TZID=America/Chicago:20190216T230000
DTSTAMP:20260421T123847
CREATED:20190210T225103Z
LAST-MODIFIED:20190210T225103Z
UID:4865-1550340000-1550358000@statelinekids.com
SUMMARY:February Parents Night Out at GAR
DESCRIPTION:Drop off your kids to a night of fun while you have a late Valentine’s Day celebration! Kids must be 4-14 years old to attend. There will be pizza\, bounce house\, games\, open gym and more. Register online. \nCost: $25 for first child in family\, $10 for second child\, $5 for third child
URL:https://statelinekids.com/event/february-parents-night-out-at-gar/
LOCATION:Gymnastic Academy of Rockford\, 6630 Spring Brook Rd\, Rockford\, IL\, United States
CATEGORIES:Rockford
END:VEVENT
BEGIN:VEVENT
DTSTART;TZID=America/Chicago:20190630T140000
DTEND;TZID=America/Chicago:20190630T144500
DTSTAMP:20260421T123847
CREATED:20190624T034835Z
LAST-MODIFIED:20190624T034835Z
UID:6260-1561903200-1561905900@statelinekids.com
SUMMARY:Preschool Gymnastics Open Gym
DESCRIPTION:Preschoolers can run around the gym and do activities for 45 minutes. Register here. \nCost: $5 per member\, $7 per non-member \n 
URL:https://statelinekids.com/event/preschool-gymnastics-open-gym/
LOCATION:Stateline Family YMCA Gymnastics Center\, 1239 Huebbe Pkwy\, Beloit\, WI\, United States
CATEGORIES:Beloit
END:VEVENT
BEGIN:VEVENT
DTSTART;TZID=America/Chicago:20190728T140000
DTEND;TZID=America/Chicago:20190728T144500
DTSTAMP:20260421T123847
CREATED:20190720T215043Z
LAST-MODIFIED:20190720T215043Z
UID:6687-1564322400-1564325100@statelinekids.com
SUMMARY:Preschool Gymnastics Open Gym
DESCRIPTION:Bring your preschooler to the open gym to burn off energy. \nCost: $5 for members\, $7 for non-members
URL:https://statelinekids.com/event/preschool-gymnastics-open-gym-2/
LOCATION:Stateline Family YMCA Gymnastics Center\, 1239 Huebbe Pkwy\, Beloit\, WI\, United States
CATEGORIES:Beloit
END:VEVENT
BEGIN:VEVENT
DTSTART;TZID=America/Chicago:20190825T140000
DTEND;TZID=America/Chicago:20190825T144500
DTSTAMP:20260421T123847
CREATED:20190817T231112Z
LAST-MODIFIED:20190817T231112Z
UID:7064-1566741600-1566744300@statelinekids.com
SUMMARY:Preschool Open Gym
DESCRIPTION:Bring your toddler to burn off some energy and learn skills. Register here or in person. \nCost: $5/members\, $7/non-members
URL:https://statelinekids.com/event/preschool-open-gym/
LOCATION:Stateline Family YMCA Gymnastics Center\, 1239 Huebbe Pkwy\, Beloit\, WI\, United States
CATEGORIES:Beloit
END:VEVENT
BEGIN:VEVENT
DTSTART;TZID=America/Chicago:20190829T164500
DTEND;TZID=America/Chicago:20190829T173000
DTSTAMP:20260421T123847
CREATED:20190825T162516Z
LAST-MODIFIED:20190825T162516Z
UID:7151-1567097100-1567099800@statelinekids.com
SUMMARY:Preschool Gymnastics Open Gym
DESCRIPTION:Preschool Open Gym for kids to run around and burn off energy. \n$5 for members\, $7 for non-members
URL:https://statelinekids.com/event/preschool-gymnastics-open-gym-3/
LOCATION:Stateline Family YMCA Gymnastics Center\, 1239 Huebbe Pkwy\, Beloit\, WI\, United States
CATEGORIES:Beloit
END:VEVENT
BEGIN:VEVENT
DTSTART;TZID=America/Chicago:20191019T150000
DTEND;TZID=America/Chicago:20191019T170000
DTSTAMP:20260421T123847
CREATED:20191013T001211Z
LAST-MODIFIED:20191013T001211Z
UID:7989-1571497200-1571504400@statelinekids.com
SUMMARY:GAR Fall Gala
DESCRIPTION:Kids can enjoy an open gym\, inflatables\, Little Stars gym\, ninja gym\, Backyard Adventures and XRcade. They can also meet coaches and talk about future lessons.
URL:https://statelinekids.com/event/gar-fall-gala/
LOCATION:Gymnastic Academy of Rockford\, 6630 Spring Brook Rd\, Rockford\, IL\, United States
CATEGORIES:Rockford
END:VEVENT
BEGIN:VEVENT
DTSTART;TZID=America/Chicago:20191028T114500
DTEND;TZID=America/Chicago:20191028T124500
DTSTAMP:20260421T123847
CREATED:20191027T145202Z
LAST-MODIFIED:20191027T145202Z
UID:8227-1572263100-1572266700@statelinekids.com
SUMMARY:Open Gym
DESCRIPTION:Kids ages 0-6 can play in an open gym with foam blocks\, trampolines\, and more. \nCost: $5 per kid\, parents are free \n 
URL:https://statelinekids.com/event/open-gym-5/
LOCATION:Kids Spot\, 9461 N 2nd St\, Roscoe\, IL\, United States
CATEGORIES:Roscoe
END:VEVENT
BEGIN:VEVENT
DTSTART;TZID=America/Chicago:20191104T114500
DTEND;TZID=America/Chicago:20191104T124500
DTSTAMP:20260421T123847
CREATED:20191102T171215Z
LAST-MODIFIED:20191102T171215Z
UID:8343-1572867900-1572871500@statelinekids.com
SUMMARY:Open Gym at Kids Spot
DESCRIPTION:Kids ages 0-6 can play in an open gym with foam blocks\, trampolines\, and more. \nCost: $5 per kid\, parents are free
URL:https://statelinekids.com/event/open-gym-at-kids-spot/
LOCATION:Kids Spot\, 9461 N 2nd St\, Roscoe\, IL\, United States
CATEGORIES:Roscoe
END:VEVENT
BEGIN:VEVENT
DTSTART;TZID=America/Chicago:20210707T100000
DTEND;TZID=America/Chicago:20210707T110000
DTSTAMP:20260421T123847
CREATED:20210704T201457Z
LAST-MODIFIED:20210704T201457Z
UID:16532-1625652000-1625655600@statelinekids.com
SUMMARY:Little Stars Open Gym
DESCRIPTION:Kids ages 6 and under can run and play in the gym at Open Gym. \nCost: $5 per kid
URL:https://statelinekids.com/event/little-stars-open-gym/
LOCATION:Gymnastic Academy of Rockford\, 6630 Spring Brook Rd\, Rockford\, IL\, United States
CATEGORIES:Rockford
END:VEVENT
BEGIN:VEVENT
DTSTART;TZID=America/Chicago:20250419T180000
DTEND;TZID=America/Chicago:20250419T210000
DTSTAMP:20260421T123847
CREATED:20250411T143446Z
LAST-MODIFIED:20250411T143446Z
UID:40170-1745085600-1745096400@statelinekids.com
SUMMARY:Saturday Night Flips
DESCRIPTION:Open gym time and coaches on site to work on current skills. Also open to the public. \nSaturday April 19th 6:00-9:00pm ages 5-12. $20 each with optional pizza add on for $7
URL:https://statelinekids.com/event/saturday-night-flips-2/
LOCATION:Gymnastic Academy of Rockford\, 6630 Spring Brook Rd\, Rockford\, IL\, United States
CATEGORIES:Rockford
ATTACH;FMTTYPE=image/png:https://statelinekids.com/wp-content/uploads/2025/04/SNFAPRIL.png
END:VEVENT
END:VCALENDAR