BEGIN:VCALENDAR
VERSION:2.0
PRODID:-//Stateline Kids - ECPv6.5.1.3//NONSGML v1.0//EN
CALSCALE:GREGORIAN
METHOD:PUBLISH
X-ORIGINAL-URL:https://statelinekids.com
X-WR-CALDESC:Events for Stateline Kids
REFRESH-INTERVAL;VALUE=DURATION:PT1H
X-Robots-Tag:noindex
X-PUBLISHED-TTL:PT1H
BEGIN:VTIMEZONE
TZID:America/Chicago
BEGIN:DAYLIGHT
TZOFFSETFROM:-0600
TZOFFSETTO:-0500
TZNAME:CDT
DTSTART:20190310T080000
END:DAYLIGHT
BEGIN:STANDARD
TZOFFSETFROM:-0500
TZOFFSETTO:-0600
TZNAME:CST
DTSTART:20191103T070000
END:STANDARD
BEGIN:DAYLIGHT
TZOFFSETFROM:-0600
TZOFFSETTO:-0500
TZNAME:CDT
DTSTART:20200308T080000
END:DAYLIGHT
BEGIN:STANDARD
TZOFFSETFROM:-0500
TZOFFSETTO:-0600
TZNAME:CST
DTSTART:20201101T070000
END:STANDARD
BEGIN:DAYLIGHT
TZOFFSETFROM:-0600
TZOFFSETTO:-0500
TZNAME:CDT
DTSTART:20210314T080000
END:DAYLIGHT
BEGIN:STANDARD
TZOFFSETFROM:-0500
TZOFFSETTO:-0600
TZNAME:CST
DTSTART:20211107T070000
END:STANDARD
BEGIN:DAYLIGHT
TZOFFSETFROM:-0600
TZOFFSETTO:-0500
TZNAME:CDT
DTSTART:20220313T080000
END:DAYLIGHT
BEGIN:STANDARD
TZOFFSETFROM:-0500
TZOFFSETTO:-0600
TZNAME:CST
DTSTART:20221106T070000
END:STANDARD
BEGIN:DAYLIGHT
TZOFFSETFROM:-0600
TZOFFSETTO:-0500
TZNAME:CDT
DTSTART:20230312T080000
END:DAYLIGHT
BEGIN:STANDARD
TZOFFSETFROM:-0500
TZOFFSETTO:-0600
TZNAME:CST
DTSTART:20231105T070000
END:STANDARD
END:VTIMEZONE
BEGIN:VEVENT
DTSTART;TZID=America/Chicago:20191026T173000
DTEND;TZID=America/Chicago:20191026T190000
DTSTAMP:20260422T053508
CREATED:20191014T204228Z
LAST-MODIFIED:20191014T204228Z
UID:8084-1572111000-1572116400@statelinekids.com
SUMMARY:Trunk or Treat
DESCRIPTION:Trunk or treat in the gym\, trunks and tables to visit inside\, magician Magic Mike will be performing every 30 minutes. Concessions available.
URL:https://statelinekids.com/event/trunk-or-treat-4/
LOCATION:Our Savior’s Lutheran Church\, 3300 Rural St\, Rockford\, IL\, United States
CATEGORIES:Rockford
END:VEVENT
BEGIN:VEVENT
DTSTART;TZID=America/Chicago:20220907T100000
DTEND;TZID=America/Chicago:20220907T110000
DTSTAMP:20260422T053508
CREATED:20220904T205718Z
LAST-MODIFIED:20220904T205745Z
UID:23281-1662544800-1662548400@statelinekids.com
SUMMARY:Family Fun Morning
DESCRIPTION:Enjoy a family morning of fun in the gym for kids ages 6 and under.
URL:https://statelinekids.com/event/family-fun-morning/
LOCATION:Kids Spot\, 9461 N 2nd St\, Roscoe\, IL\, United States
CATEGORIES:Roscoe
ATTACH;FMTTYPE=image/jpeg:https://statelinekids.com/wp-content/uploads/2022/09/Family-Fun-Kids-Spot.jpeg
END:VEVENT
BEGIN:VEVENT
DTSTART;TZID=America/Chicago:20220910T180000
DTEND;TZID=America/Chicago:20220910T190000
DTSTAMP:20260422T053508
CREATED:20220904T205618Z
LAST-MODIFIED:20220904T205618Z
UID:23279-1662832800-1662836400@statelinekids.com
SUMMARY:Family Fun Night
DESCRIPTION:Enjoy a family night of fun in the gym for kids ages 6 and under.
URL:https://statelinekids.com/event/family-fun-night/
LOCATION:Kids Spot\, 9461 N 2nd St\, Roscoe\, IL\, United States
CATEGORIES:Roscoe
END:VEVENT
BEGIN:VEVENT
DTSTART;TZID=America/Chicago:20220910T180000
DTEND;TZID=America/Chicago:20220910T210000
DTSTAMP:20260422T053508
CREATED:20220904T210115Z
LAST-MODIFIED:20220904T210115Z
UID:23284-1662832800-1662843600@statelinekids.com
SUMMARY:Parent's Night Out: Super Saturday
DESCRIPTION:Kids ages 6-14 can be dropped off for an evening of fun. You can choose between 1-3 hours of play. Three hours includes pizza. Call 815-623-5437 to reserve your kid’s spot.
URL:https://statelinekids.com/event/parents-night-out-super-saturday/
LOCATION:Kids Spot\, 9461 N 2nd St\, Roscoe\, IL\, United States
CATEGORIES:Roscoe
ATTACH;FMTTYPE=image/jpeg:https://statelinekids.com/wp-content/uploads/2022/09/Super-Satruday.jpeg
END:VEVENT
BEGIN:VEVENT
DTSTART;TZID=America/Chicago:20230108T070000
DTEND;TZID=America/Chicago:20230108T170000
DTSTAMP:20260422T053508
CREATED:20221224T204503Z
LAST-MODIFIED:20221224T204503Z
UID:25462-1673161200-1673197200@statelinekids.com
SUMMARY:Community Day
DESCRIPTION:Work out for free with family open gym and swim.
URL:https://statelinekids.com/event/community-day/
LOCATION:Woodstock Recreation Center\, 820 Lake Ave.\, Woodstock\, IL\, United States
CATEGORIES:Woodstock
END:VEVENT
BEGIN:VEVENT
DTSTART;TZID=America/Chicago:20230111T100000
DTEND;TZID=America/Chicago:20230111T110000
DTSTAMP:20260422T053508
CREATED:20230107T215052Z
LAST-MODIFIED:20230122T191201Z
UID:25747-1673431200-1673434800@statelinekids.com
SUMMARY:Family Fun Open Gym
DESCRIPTION:Kids ages 6 and under can enjoy a morning of fun playing in the indoor gym. Parents and guardians get in free.
URL:https://statelinekids.com/event/family-fun-open-gym-2/2023-01-11/
LOCATION:Kids Spot\, 9461 N 2nd St\, Roscoe\, IL\, United States
CATEGORIES:Roscoe
ATTACH;FMTTYPE=image/jpeg:https://statelinekids.com/wp-content/uploads/2023/01/FAMILY-FUN-2.jpg
END:VEVENT
END:VCALENDAR