BEGIN:VCALENDAR
VERSION:2.0
PRODID:-//Stateline Kids - ECPv6.5.1.3//NONSGML v1.0//EN
CALSCALE:GREGORIAN
METHOD:PUBLISH
X-ORIGINAL-URL:https://statelinekids.com
X-WR-CALDESC:Events for Stateline Kids
REFRESH-INTERVAL;VALUE=DURATION:PT1H
X-Robots-Tag:noindex
X-PUBLISHED-TTL:PT1H
BEGIN:VTIMEZONE
TZID:America/Chicago
BEGIN:DAYLIGHT
TZOFFSETFROM:-0600
TZOFFSETTO:-0500
TZNAME:CDT
DTSTART:20210314T080000
END:DAYLIGHT
BEGIN:STANDARD
TZOFFSETFROM:-0500
TZOFFSETTO:-0600
TZNAME:CST
DTSTART:20211107T070000
END:STANDARD
BEGIN:DAYLIGHT
TZOFFSETFROM:-0600
TZOFFSETTO:-0500
TZNAME:CDT
DTSTART:20220313T080000
END:DAYLIGHT
BEGIN:STANDARD
TZOFFSETFROM:-0500
TZOFFSETTO:-0600
TZNAME:CST
DTSTART:20221106T070000
END:STANDARD
END:VTIMEZONE
BEGIN:VEVENT
DTSTART;TZID=America/Chicago:20210424T130000
DTEND;TZID=America/Chicago:20210424T160000
DTSTAMP:20260421T092302
CREATED:20210418T175051Z
LAST-MODIFIED:20210418T175051Z
UID:15334-1619269200-1619280000@statelinekids.com
SUMMARY:Spring Make and Takes
DESCRIPTION:Stop by and paint a piece. Enjoy food trucks\, wine\, and wine slushies while you paint. \nCost: $10 – 25 per piece
URL:https://statelinekids.com/event/spring-make-and-takes/
LOCATION:DC Estate Winery\, 8877 Stateline Rd.\, South Beloit\, IL\, United States
CATEGORIES:South Beloit
END:VEVENT
BEGIN:VEVENT
DTSTART;TZID=America/Chicago:20210526T170000
DTEND;TZID=America/Chicago:20210526T200000
DTSTAMP:20260421T092302
CREATED:20210522T185356Z
LAST-MODIFIED:20210522T185356Z
UID:15781-1622048400-1622059200@statelinekids.com
SUMMARY:Ladies Night Out Downtown Shopping Event
DESCRIPTION:Several downtown Beloit businesses are hosting a night of giveaways\, specials\, and drawings. A list of participating shops here.
URL:https://statelinekids.com/event/ladies-night-out-downtown-shopping-event/
LOCATION:Downtown Beloit\, 500 Public Ave\, Beloit\, WI\, United States
CATEGORIES:Beloit
END:VEVENT
BEGIN:VEVENT
DTSTART;TZID=America/Chicago:20220818T160000
DTEND;TZID=America/Chicago:20220818T200000
DTSTAMP:20260421T092302
CREATED:20220814T175501Z
LAST-MODIFIED:20220814T175501Z
UID:22935-1660838400-1660852800@statelinekids.com
SUMMARY:GNO: Wine and Chocolate Pairing
DESCRIPTION:Try three different wines and three different chocolates. First come\, first serve. 21 and up only.
URL:https://statelinekids.com/event/gno-wine-and-chocolate-pairing/
LOCATION:After the Vine\, 163 E. Hawick\, Rockton\, IL\, United States
CATEGORIES:Rockton
END:VEVENT
END:VCALENDAR