BEGIN:VCALENDAR
VERSION:2.0
PRODID:-//Stateline Kids - ECPv6.5.1.3//NONSGML v1.0//EN
CALSCALE:GREGORIAN
METHOD:PUBLISH
X-ORIGINAL-URL:https://statelinekids.com
X-WR-CALDESC:Events for Stateline Kids
REFRESH-INTERVAL;VALUE=DURATION:PT1H
X-Robots-Tag:noindex
X-PUBLISHED-TTL:PT1H
BEGIN:VTIMEZONE
TZID:America/Chicago
BEGIN:DAYLIGHT
TZOFFSETFROM:-0600
TZOFFSETTO:-0500
TZNAME:CDT
DTSTART:20180311T080000
END:DAYLIGHT
BEGIN:STANDARD
TZOFFSETFROM:-0500
TZOFFSETTO:-0600
TZNAME:CST
DTSTART:20181104T070000
END:STANDARD
BEGIN:DAYLIGHT
TZOFFSETFROM:-0600
TZOFFSETTO:-0500
TZNAME:CDT
DTSTART:20190310T080000
END:DAYLIGHT
BEGIN:STANDARD
TZOFFSETFROM:-0500
TZOFFSETTO:-0600
TZNAME:CST
DTSTART:20191103T070000
END:STANDARD
BEGIN:DAYLIGHT
TZOFFSETFROM:-0600
TZOFFSETTO:-0500
TZNAME:CDT
DTSTART:20200308T080000
END:DAYLIGHT
BEGIN:STANDARD
TZOFFSETFROM:-0500
TZOFFSETTO:-0600
TZNAME:CST
DTSTART:20201101T070000
END:STANDARD
BEGIN:DAYLIGHT
TZOFFSETFROM:-0600
TZOFFSETTO:-0500
TZNAME:CDT
DTSTART:20210314T080000
END:DAYLIGHT
BEGIN:STANDARD
TZOFFSETFROM:-0500
TZOFFSETTO:-0600
TZNAME:CST
DTSTART:20211107T070000
END:STANDARD
END:VTIMEZONE
BEGIN:VEVENT
DTSTART;TZID=America/Chicago:20181103T100000
DTEND;TZID=America/Chicago:20181103T170000
DTSTAMP:20260423T004636
CREATED:20181028T200419Z
LAST-MODIFIED:20181028T200419Z
UID:3537-1541239200-1541264400@statelinekids.com
SUMMARY:Jingle Bell ROCKton
DESCRIPTION:Over 10 shops will be decked out with holiday decor\, vintage & antiques\, unique gifts\, handmade one of a kind items\, boutique apparel\, candy\, stocking stuffers and so much more!. Enjoy strolling from shop to shop and have a bite to eat at one of Rockton’s great pubs or restaurants. Enter to win a Grand Prize valued over $400. This event continues on Saturday\, November 3 from 10 am – 5 pm.
URL:https://statelinekids.com/event/jingle-bell-rockton-2/
LOCATION:Downtown Rockton\, 120 W. Main Street\, Rockton\, IL\, United States
CATEGORIES:Rockton
END:VEVENT
BEGIN:VEVENT
DTSTART;TZID=America/Chicago:20201113T100000
DTEND;TZID=America/Chicago:20201113T160000
DTSTAMP:20260423T004636
CREATED:20201108T180148Z
LAST-MODIFIED:20201108T180148Z
UID:13623-1605261600-1605283200@statelinekids.com
SUMMARY:Holiday Craft Fair
DESCRIPTION:Shop for gifts\, crafts\, decor\, and more. Get tickets here.
URL:https://statelinekids.com/event/holiday-craft-fair/
LOCATION:Riverside Assembly of God\, 4242 W. Riverside Blvd.\, Rockford\, IL\, United States
CATEGORIES:Rockford
END:VEVENT
BEGIN:VEVENT
DTSTART;TZID=America/Chicago:20211126T130000
DTEND;TZID=America/Chicago:20211126T160000
DTSTAMP:20260423T004636
CREATED:20211121T165910Z
LAST-MODIFIED:20211121T165910Z
UID:18273-1637931600-1637942400@statelinekids.com
SUMMARY:DIY Holiday Gifts
DESCRIPTION:Teens ages 13 and up and adults can learn how to make homemade holiday gifts with natural ingredients. Each participant will take home 6 lip balms\, 6 calendula salves\, 6 bars of goat milk soap and bath salts. Get tickets here. \nCost: $85 per person
URL:https://statelinekids.com/event/diy-holiday-gifts/
LOCATION:Angelic Organics Learning Center\, 1545 Rockton Rd.\, Rockton\, IL\, United States
CATEGORIES:Caledonia
END:VEVENT
END:VCALENDAR