BEGIN:VCALENDAR
VERSION:2.0
PRODID:-//Stateline Kids - ECPv6.5.1.3//NONSGML v1.0//EN
CALSCALE:GREGORIAN
METHOD:PUBLISH
X-WR-CALNAME:Stateline Kids
X-ORIGINAL-URL:https://statelinekids.com
X-WR-CALDESC:Events for Stateline Kids
REFRESH-INTERVAL;VALUE=DURATION:PT1H
X-Robots-Tag:noindex
X-PUBLISHED-TTL:PT1H
BEGIN:VTIMEZONE
TZID:America/Chicago
BEGIN:DAYLIGHT
TZOFFSETFROM:-0600
TZOFFSETTO:-0500
TZNAME:CDT
DTSTART:20190310T080000
END:DAYLIGHT
BEGIN:STANDARD
TZOFFSETFROM:-0500
TZOFFSETTO:-0600
TZNAME:CST
DTSTART:20191103T070000
END:STANDARD
BEGIN:DAYLIGHT
TZOFFSETFROM:-0600
TZOFFSETTO:-0500
TZNAME:CDT
DTSTART:20200308T080000
END:DAYLIGHT
BEGIN:STANDARD
TZOFFSETFROM:-0500
TZOFFSETTO:-0600
TZNAME:CST
DTSTART:20201101T070000
END:STANDARD
BEGIN:DAYLIGHT
TZOFFSETFROM:-0600
TZOFFSETTO:-0500
TZNAME:CDT
DTSTART:20210314T080000
END:DAYLIGHT
BEGIN:STANDARD
TZOFFSETFROM:-0500
TZOFFSETTO:-0600
TZNAME:CST
DTSTART:20211107T070000
END:STANDARD
BEGIN:DAYLIGHT
TZOFFSETFROM:-0600
TZOFFSETTO:-0500
TZNAME:CDT
DTSTART:20220313T080000
END:DAYLIGHT
BEGIN:STANDARD
TZOFFSETFROM:-0500
TZOFFSETTO:-0600
TZNAME:CST
DTSTART:20221106T070000
END:STANDARD
BEGIN:DAYLIGHT
TZOFFSETFROM:-0600
TZOFFSETTO:-0500
TZNAME:CDT
DTSTART:20230312T080000
END:DAYLIGHT
BEGIN:STANDARD
TZOFFSETFROM:-0500
TZOFFSETTO:-0600
TZNAME:CST
DTSTART:20231105T070000
END:STANDARD
END:VTIMEZONE
BEGIN:VEVENT
DTSTART;VALUE=DATE:20190223
DTEND;VALUE=DATE:20190225
DTSTAMP:20260422T092123
CREATED:20190206T194031Z
LAST-MODIFIED:20190207T013938Z
UID:4778-1550880000-1551052799@statelinekids.com
SUMMARY:Mini-Golf in the Library and Silent Auction
DESCRIPTION:The Cherry Valley Public Library is transforming into a miniature golf course on Sat.\, Feb. 23 and Sun.\, Feb. 24 for their seventh annual “Mini-Golf in the Library and Silent Auction” fundraiser. \nFor $5.00 each\, young and old alike can test out their putting skills on the nine holes arranged throughout the aisles and bookshelves in the library. Ages three and under are free with a paying adult! Tee times are available on Sat. from 10:00 am to 4:00 pm and on Sun. from 1:00 to 4:00 pm. To reserve your tee time\, call the library at 815-332-5161. Everyone is welcome…no library card is needed! \nRefreshments will be available for purchase on both days and over 100 Silent Auction items will be displayed for bids until 4:00 pm on Sunday. If mini-golf isn’t your thing\, then come for lunch or a snack and stay to browse and bid on the silent auction goodies. On Saturday\, there will be Salamone’s pizza by the slice and Cold Stone Creamery on both days in addition to other snacks. \nItems up for auction include baskets with gift certificates from local restaurants and businesses\, tickets to a variety of entertainment venues\, and some beautiful handcrafted items. Proceeds will go toward a building expansion which will include a youth services program room and drive-up book return.
URL:https://statelinekids.com/event/mini-golf-in-the-library-and-silent-auction/
LOCATION:Cherry Valley Public Library\, 755 E. State St\, Cherry Valley\, IL\, United States
CATEGORIES:Cherry Valley
ATTACH;FMTTYPE=image/png:https://statelinekids.com/wp-content/uploads/2019/02/facebook-mini-golf-poster2-1.png
END:VEVENT
BEGIN:VEVENT
DTSTART;TZID=America/Chicago:20190505T120000
DTEND;TZID=America/Chicago:20190505T160000
DTSTAMP:20260422T092123
CREATED:20190430T035616Z
LAST-MODIFIED:20190430T035616Z
UID:5561-1557057600-1557072000@statelinekids.com
SUMMARY:Third Annual Rock for the Center
DESCRIPTION:Enjoy a family event for children of all abilities with games\, music\, coloring\, photos with superheroes and princesses. Proceeds benefit the Barbara Olson Center of Hope. \nCost: $5 per person
URL:https://statelinekids.com/event/third-annual-rock-for-the-center/
LOCATION:Tebala Event Center\, 7910 Newburg Rd.\, Rockford\, IL\, United States
CATEGORIES:Rockford
END:VEVENT
BEGIN:VEVENT
DTSTART;TZID=America/Chicago:20191206T180000
DTEND;TZID=America/Chicago:20191206T210000
DTSTAMP:20260422T092123
CREATED:20191116T182206Z
LAST-MODIFIED:20191116T182206Z
UID:8573-1575655200-1575666000@statelinekids.com
SUMMARY:Jingle Mingle Christmas Pop Up Market
DESCRIPTION:Come to Jingle Mingle Christmas Market to shop for gifts\, hear some great music\, have some yummy snacks and kick off the Christmas Season. \nThis event is a fundraiser for Realife Student Ministries and SAGU Life.
URL:https://statelinekids.com/event/jingle-mingle-christmas-pop-up-market/
LOCATION:Life Church Assembly of God\, 5910 Elevator Rd.\, Roscoe\, IL\, United States
CATEGORIES:Roscoe
END:VEVENT
BEGIN:VEVENT
DTSTART;TZID=America/Chicago:20191207T153000
DTEND;TZID=America/Chicago:20191207T183000
DTSTAMP:20260422T092123
CREATED:20191201T230347Z
LAST-MODIFIED:20191201T230356Z
UID:8842-1575732600-1575743400@statelinekids.com
SUMMARY:Free Photos with Santa and Donation Drive for Miss Carly's
DESCRIPTION:Stop by PC Tech 2 U for free photos with Santa and drop off items for Miss Carly’s. \nItems needed: Bottled water\nJuice boxes\nSoft snacks for lunches\nSmall bags of chips\nSocks\nShoes\nShampoo\nConditioner\nBody wash\nDeodarant\nBaby wipes\nDiapers
URL:https://statelinekids.com/event/free-photos-with-santa-and-donation-drive-for-miss-carlys/
LOCATION:PC Tech 2 U\, 1654 N. Alpine Rd.\, Rockford\, IL\, United States
CATEGORIES:Rockford
END:VEVENT
BEGIN:VEVENT
DTSTART;TZID=America/Chicago:20200222T100000
DTEND;TZID=America/Chicago:20200222T160000
DTSTAMP:20260422T092123
CREATED:20200215T204152Z
LAST-MODIFIED:20200215T204152Z
UID:9817-1582365600-1582387200@statelinekids.com
SUMMARY:Mini Golf in the Library at CVPL
DESCRIPTION:Mini golf through the library and bid over a hundred silent auction items. Call 815-332-5161 to reserve your tee time. \nCost is $5 per person\, kids 3 and under are free with a paying adult
URL:https://statelinekids.com/event/mini-golf-in-the-library-at-cvpl/
LOCATION:Cherry Valley Public Library\, 755 E. State St\, Cherry Valley\, IL\, United States
CATEGORIES:Cherry Valley
END:VEVENT
BEGIN:VEVENT
DTSTART;TZID=America/Chicago:20200223T130000
DTEND;TZID=America/Chicago:20200223T160000
DTSTAMP:20260422T092123
CREATED:20200215T204305Z
LAST-MODIFIED:20200215T204513Z
UID:9819-1582462800-1582473600@statelinekids.com
SUMMARY:Mini Golf in the Library at CVPL
DESCRIPTION:Mini golf through the library and bid over a hundred silent auction items. Call 815-332-5161 to reserve your tee time. \nCost is $5 per person\, kids 3 and under are free with a paying adult
URL:https://statelinekids.com/event/mini-golf-in-the-library-at-cvpl-2/
LOCATION:Cherry Valley Public Library\, 755 E. State St\, Cherry Valley\, IL\, United States
CATEGORIES:Cherry Valley
END:VEVENT
BEGIN:VEVENT
DTSTART;TZID=America/Chicago:20200726T110000
DTEND;TZID=America/Chicago:20200726T160000
DTSTAMP:20260422T092123
CREATED:20200719T163723Z
LAST-MODIFIED:20200719T224652Z
UID:12298-1595761200-1595779200@statelinekids.com
SUMMARY:Black Centered Art Show and Fundraiser
DESCRIPTION:Purchase art from local Black artists with an auction at 3 pm. There will be food trucks and masks are required.
URL:https://statelinekids.com/event/black-centered-art-show-and-fundraiser/
LOCATION:Misfits Market\, 201 7th St.\, Rockford\, IL\, United States
CATEGORIES:Rockford
END:VEVENT
BEGIN:VEVENT
DTSTART;TZID=America/Chicago:20201217T170000
DTEND;TZID=America/Chicago:20201217T200000
DTSTAMP:20260422T092123
CREATED:20201213T190020Z
LAST-MODIFIED:20201213T190020Z
UID:14163-1608224400-1608235200@statelinekids.com
SUMMARY:WSSR Elf-O-Matic Vending Machine
DESCRIPTION:See Santa Claus and get gifts from Nutlog the Singing Elf inside the Christmas Vending Machine. Choose your group of 8 people\, pick one or more gift bags from their online Christmas store ($20 minimum per group) then choose your time and date to see Santa. This event continues Thursdays through Sunday through December 20th. More information here. \nCost: $20 minimum order per group of 8 people
URL:https://statelinekids.com/event/wssr-elf-o-matic-vending-machine/2020-12-17/
LOCATION:The West Side Show Room\, 1414 N. Main St.\, Rockford\, IL\, United States
CATEGORIES:Rockford
END:VEVENT
BEGIN:VEVENT
DTSTART;TZID=America/Chicago:20210605T090000
DTEND;TZID=America/Chicago:20210605T160000
DTSTAMP:20260422T092123
CREATED:20210529T181010Z
LAST-MODIFIED:20210529T181430Z
UID:15844-1622883600-1622908800@statelinekids.com
SUMMARY:Disc Golf for Youth Suicide Prevention
DESCRIPTION:Players meet at 9:45 am followed by a shotgun start. Between noon to 2 p.m. a raffle\, 50/50 drawing\, live DJ and assorted activities will take place. Catering provided by Sam’s Pizza via Uzzo’s Street Kitchen food truck with proceeds benefiting Marshmallow’s Hope. \nPlay for $25 or play and get a custom disc for $40 \nSign up to play here: https://ticketing.events/app/portal/ticket/1/5920/disc-golf-for-youth-suicide-pevention
URL:https://statelinekids.com/event/disc-golf-for-youth-suicide-prevention/
LOCATION:Anna Page Park\, 3102 N. Springfield Ave\, Rockford\, IL\, United States
CATEGORIES:Rockford
END:VEVENT
BEGIN:VEVENT
DTSTART;TZID=America/Chicago:20210904T150000
DTEND;TZID=America/Chicago:20210904T230000
DTSTAMP:20260422T092123
CREATED:20210828T224214Z
LAST-MODIFIED:20210828T224214Z
UID:17177-1630767600-1630796400@statelinekids.com
SUMMARY:Loves Park Police and Fire Fundraiser
DESCRIPTION:Listen to live music and get some food at the food trucks. This event continues Sunday. \nCost: $5 per person
URL:https://statelinekids.com/event/loves-park-police-and-fire-fundraiser/2021-09-04/
LOCATION:Bullpen Bar and Slots\, 6450 E. Riverside Blvd.\, Loves Park\, IL\, United States
CATEGORIES:Loves Park
END:VEVENT
BEGIN:VEVENT
DTSTART;TZID=America/Chicago:20210925T100000
DTEND;TZID=America/Chicago:20210925T140000
DTSTAMP:20260422T092123
CREATED:20210919T152625Z
LAST-MODIFIED:20210919T152625Z
UID:17390-1632564000-1632578400@statelinekids.com
SUMMARY:GiGi’s Playhouse Car Wash
DESCRIPTION:Get your car washed and grab some lemonade and treats to support GiGi’s Playhouse. \nCost: $10 per car wash
URL:https://statelinekids.com/event/gigis-playhouse-car-wash/
LOCATION:Wheels by R.T.\, 7261 Harrison Ave.\, Rockford\, IL\, United States
CATEGORIES:Rockford
END:VEVENT
BEGIN:VEVENT
DTSTART;TZID=America/Chicago:20211002T090000
DTEND;TZID=America/Chicago:20211002T120000
DTSTAMP:20260422T092123
CREATED:20210926T165459Z
LAST-MODIFIED:20210926T165459Z
UID:17484-1633165200-1633176000@statelinekids.com
SUMMARY:Cars and Coffee
DESCRIPTION:Check out a car show and make a donation to Noah’s Ark while you’re there.
URL:https://statelinekids.com/event/cars-and-coffee/
LOCATION:Katie’s Cup\, 502 7th St.\, Rockford\, IL\, United States
CATEGORIES:Rockford
END:VEVENT
BEGIN:VEVENT
DTSTART;TZID=America/Chicago:20211003T130000
DTEND;TZID=America/Chicago:20211003T170000
DTSTAMP:20260422T092123
CREATED:20210926T163802Z
LAST-MODIFIED:20210926T163802Z
UID:17476-1633266000-1633280400@statelinekids.com
SUMMARY:Down with the 815
DESCRIPTION:Support GiGi’s Playhouse fundraising event with food trucks\, entertainment\, games including a Pie Walk\, and a silent auction. Buy tickets here. \nCost: $10 per adult / $5 per kid
URL:https://statelinekids.com/event/down-with-the-815/
LOCATION:Rockford City Market\, Water Street and Market Street\, Rockford\, IL\, United States
CATEGORIES:Rockford
END:VEVENT
BEGIN:VEVENT
DTSTART;TZID=America/Chicago:20211009T090000
DTEND;TZID=America/Chicago:20211009T110000
DTSTAMP:20260422T092123
CREATED:20211003T183710Z
LAST-MODIFIED:20211003T183710Z
UID:17659-1633770000-1633777200@statelinekids.com
SUMMARY:10th Annual Nik’s Home Run / Walk
DESCRIPTION:Do a 7K or fun run to support a foundation that grants wishes to young adults with cancer. Register here. \nCost: $25 – 40
URL:https://statelinekids.com/event/10th-annual-niks-home-run-walk/
LOCATION:Rockford Rivets Stadium\, 4503 Interstate Blvd.\, Loves Park\, IL\, United States
CATEGORIES:Loves Park
END:VEVENT
BEGIN:VEVENT
DTSTART;TZID=America/Chicago:20211204T090000
DTEND;TZID=America/Chicago:20211204T110000
DTSTAMP:20260422T092123
CREATED:20211128T204251Z
LAST-MODIFIED:20211128T204251Z
UID:18400-1638608400-1638615600@statelinekids.com
SUMMARY:Drive-Thru Gingerbread Extravaganza
DESCRIPTION:Drive-thru to pick up a gingerbread kit that benefits poverty fighting programs in Rock and Walworth counties. Buy your gingerbread house here. \nCost: $15 per gingerbread house
URL:https://statelinekids.com/event/drive-thru-gingerbread-extravaganza/
LOCATION:Eclipse Event Center\, 3 Eclipse Blvd\, Beloit\, WI\, United States
CATEGORIES:Beloit
END:VEVENT
BEGIN:VEVENT
DTSTART;TZID=America/Chicago:20220507T110000
DTEND;TZID=America/Chicago:20220507T160000
DTSTAMP:20260422T092123
CREATED:20220430T214309Z
LAST-MODIFIED:20220430T214309Z
UID:20097-1651921200-1651939200@statelinekids.com
SUMMARY:Fundraiser Festival
DESCRIPTION:Play games\, see fire trucks\, participate in a silent auction\, bounce houses and more. All proceeds go to benefit two local families with ongoing medical expenses: Joey Beard who is awaiting multiple transplants for a rare autoimmune disease and April Doubleday who is fighting Ehlers Danlos Syndrome.
URL:https://statelinekids.com/event/fundraiser-festival/
LOCATION:Roscoe United Methodist Church\, 10816 Main St.\, Roscoe\, IL\, United States
CATEGORIES:Roscoe
END:VEVENT
BEGIN:VEVENT
DTSTART;TZID=America/Chicago:20220811T190000
DTEND;TZID=America/Chicago:20220811T210000
DTSTAMP:20260422T092123
CREATED:20220807T172844Z
LAST-MODIFIED:20220807T172844Z
UID:22861-1660244400-1660251600@statelinekids.com
SUMMARY:Stars of Starlight - A Fundraiser for Starlight Theatre
DESCRIPTION:Enjoy a night of entertainment from stars of Starlight shows past and present. This is a fundraiser for the theater. Get tickets here.
URL:https://statelinekids.com/event/stars-of-starlight-a-fundraiser-for-starlight-theatre/
LOCATION:RVC Starlight Theatre\, 3301 N. Mulford Rd\, Rockford\, IL\, United States
CATEGORIES:Rockford
END:VEVENT
BEGIN:VEVENT
DTSTART;TZID=America/Chicago:20220910T170000
DTEND;TZID=America/Chicago:20220910T193000
DTSTAMP:20260422T092123
CREATED:20220904T201054Z
LAST-MODIFIED:20220904T201055Z
UID:23252-1662829200-1662838200@statelinekids.com
SUMMARY:DATE NIGHT: Golden Hour in the Grove
DESCRIPTION:Enjoy a beautiful adults-only evening fundraiser featuring appetizers from The Norwegian\, signature cocktails and mocktails by VeeDubs Mobile Cocktail Bar\, a gourmet s’mores station\, and live music by Trillium. Get tickets here.
URL:https://statelinekids.com/event/date-night-golden-hour-in-the-grove/
LOCATION:Severson Dells Nature Center\, 8786 Montague Rd\, Rockford\, IL\, United States
CATEGORIES:Rockford
ATTACH;FMTTYPE=image/jpeg:https://statelinekids.com/wp-content/uploads/2022/09/Golden-Hour-Severson.jpeg
END:VEVENT
BEGIN:VEVENT
DTSTART;TZID=America/Chicago:20220924T100000
DTEND;TZID=America/Chicago:20220924T140000
DTSTAMP:20260422T092123
CREATED:20220917T201510Z
LAST-MODIFIED:20220917T201510Z
UID:23669-1664013600-1664028000@statelinekids.com
SUMMARY:Fun Walk / Run
DESCRIPTION:Do a 1.5 mile run / walk and receive a ribbon\, water\, and a refreshment. There will be bounce houses\, music\, face painting and more afterward. Proceeds go towards fundraising for an inclusive playground. Get tickets here.
URL:https://statelinekids.com/event/fun-walk-run/
LOCATION:Prairie Fields Sports Park\, 1111 Fairgrounds Rd.\, Belvidere\, IL\, United States
CATEGORIES:Belvidere
END:VEVENT
BEGIN:VEVENT
DTSTART;TZID=America/Chicago:20221001T170000
DTEND;TZID=America/Chicago:20221001T210000
DTSTAMP:20260422T092123
CREATED:20220925T192502Z
LAST-MODIFIED:20220925T192502Z
UID:23924-1664643600-1664658000@statelinekids.com
SUMMARY:DATE NIGHT: Gather and Grow Farm Social
DESCRIPTION:Enjoy an outdoor event with a locally sourced small-plate meal from Abreo\, live music from Bowmanville Swing\, and more. This is a fundraising event.
URL:https://statelinekids.com/event/date-night-gather-and-grow-farm-social/
LOCATION:Angelic Organics Learning Center\, 1545 Rockton Rd.\, Rockton\, IL\, United States
CATEGORIES:Caledonia
END:VEVENT
BEGIN:VEVENT
DTSTART;TZID=America/Chicago:20221001T170000
DTEND;TZID=America/Chicago:20221001T210000
DTSTAMP:20260422T092123
CREATED:20220911T220841Z
LAST-MODIFIED:20220911T220842Z
UID:23493-1664643600-1664658000@statelinekids.com
SUMMARY:Gather and Grow Farm Social
DESCRIPTION:The Gather & Grow Farm Social is an intentional space and time set aside to learn how our work impacts you and our communities\, and our opportunity to grow and regenerate the resources that fuel the Learning Center. Tickets are limited\, so reserve your spot soon! \n\nPartake in a menu of locally sourced small-plates created especially for us from Chef Paul Sletten and Abreo\nAbsorb the vibrant sounds of Bowmanville Swing as the musical backdrop\nEngage deeper with the program directors\, educators\, board members and staff that are the beating heart of the Learning Center.\nPicture yourself with a goat at our Goat Selfie Stand\nBuy your chance to name our new van and tractor\, acquired recently as a result of the generous contributions of community members like you!\n\nReserve your tickets.
URL:https://statelinekids.com/event/gather-and-grow-farm-social/
LOCATION:Angelic Organics Learning Center\, 1545 Rockton Rd.\, Rockton\, IL\, United States
CATEGORIES:Caledonia
ATTACH;FMTTYPE=image/png:https://statelinekids.com/wp-content/uploads/2022/09/Gather-and-Grow.png
END:VEVENT
BEGIN:VEVENT
DTSTART;TZID=America/Chicago:20221021T180000
DTEND;TZID=America/Chicago:20221021T230000
DTSTAMP:20260422T092123
CREATED:20220914T151225Z
LAST-MODIFIED:20220914T151236Z
UID:23536-1666375200-1666393200@statelinekids.com
SUMMARY:DATE NIGHT: Witches and Wizards Rendezvous Fundraiser
DESCRIPTION:There’s a fun date night happening to raise funds for the YWCA Northwestern Illinois! The Witches and Wizards Rendezvous will be held at Tebala Event Cetner in Rockford and include food\, drinks\, shopping\, psychics\, tarot card readers\, magicians\, music\, and more!  \nTickets are $75 and can be purchased here: https://fallfundraiser.swell.gives/
URL:https://statelinekids.com/event/date-night-witches-and-wizards-rendezvous-fundraiser/
LOCATION:Tebala Event Center\, 7910 Newburg Rd.\, Rockford\, IL\, United States
CATEGORIES:Rockford
END:VEVENT
BEGIN:VEVENT
DTSTART;TZID=America/Chicago:20221022T190000
DTEND;TZID=America/Chicago:20221022T230000
DTSTAMP:20260422T092123
CREATED:20221016T200811Z
LAST-MODIFIED:20221016T200811Z
UID:24308-1666465200-1666479600@statelinekids.com
SUMMARY:DATE NIGHT: Night at the Library Fundraiser
DESCRIPTION:Enjoy a murder mystery fundraiser for the library with the theme Old Hollywood Horror. Get tickets here.
URL:https://statelinekids.com/event/date-night-night-at-the-library-fundraiser/
LOCATION:Hedberg Library\, 316 S. Main St.\, Janesville\, WI\, United States
CATEGORIES:Janesville
END:VEVENT
BEGIN:VEVENT
DTSTART;TZID=America/Chicago:20221028T180000
DTEND;TZID=America/Chicago:20221028T210000
DTSTAMP:20260422T092123
CREATED:20221023T194552Z
LAST-MODIFIED:20221023T194552Z
UID:24479-1666980000-1666990800@statelinekids.com
SUMMARY:GIRLS NIGHT OUT: Witches Night Out
DESCRIPTION:Get your friends together for a witches’ night out with raffle items\, appetizers\, drinks\, and a dance. Witches’ hats are required and you must be 21 and up. This is a fundraiser for Womanspace. Get tickets here.
URL:https://statelinekids.com/event/girls-night-out-witches-night-out/
LOCATION:Bennie’s Cleaners\, 126 N. 1st St.\, Rockford\, IL\, United States
CATEGORIES:Rockford
END:VEVENT
BEGIN:VEVENT
DTSTART;TZID=America/Chicago:20230120T180000
DTEND;TZID=America/Chicago:20230120T210000
DTSTAMP:20260422T092123
CREATED:20230114T234137Z
LAST-MODIFIED:20230114T234137Z
UID:25947-1674237600-1674248400@statelinekids.com
SUMMARY:DATE NIGHT: Old Hollywood Murder Mystery Dinner and Theater
DESCRIPTION:Enjoy dinner\, drinks\, and a murder mystery about Old Hollywood at this fundraiser for the Rockford Symphony Orchestra. Get tickets here.
URL:https://statelinekids.com/event/date-night-old-hollywood-murder-mystery-dinner-and-theater/
LOCATION:Embassy Suites Rockford\, 416 S. Main St.\, Rockford\, IL\, United States
CATEGORIES:Rockford
END:VEVENT
BEGIN:VEVENT
DTSTART;VALUE=DATE:20230201
DTEND;VALUE=DATE:20230301
DTSTAMP:20260422T092123
CREATED:20230206T200018Z
LAST-MODIFIED:20230206T200019Z
UID:26348-1675209600-1677628799@statelinekids.com
SUMMARY:Love Your Library Fundraiser
DESCRIPTION:Stop by the Loves Park or Roscoe North Suburban Library locations to pick up free supplies and instructions on how to make your own miniature Dewey the Donation Dinosaur bank. Feed Dewey spare charge throughout February. Bring the monetary donations back to the library at the end of the month.
URL:https://statelinekids.com/event/love-your-library-fundraiser/
LOCATION:North Suburban Library Roscoe\, 5562 Clayton Circle\, Roscoe\, IL\, United States
CATEGORIES:Loves Park,Roscoe
ATTACH;FMTTYPE=image/png:https://statelinekids.com/wp-content/uploads/2023/02/Screen-Shot-2023-02-06-at-1.59.37-PM.png
END:VEVENT
BEGIN:VEVENT
DTSTART;TZID=America/Chicago:20230223T183000
DTEND;TZID=America/Chicago:20230223T203000
DTSTAMP:20260422T092123
CREATED:20230219T202950Z
LAST-MODIFIED:20230219T202950Z
UID:26561-1677177000-1677184200@statelinekids.com
SUMMARY:Chocoholic Frolic - The Arc After Dark and Chocolate Crave Case
DESCRIPTION:Enjoy sampling chocolate hors d’ourves\, beer and wine and listening to Dueling Pianos. You can also buy $50 chocolate crave cases without attending the event. Get tickets here.
URL:https://statelinekids.com/event/chocoholic-frolic-the-arc-after-dark-and-chocolate-crave-case/
LOCATION:Tebala Event Center\, 7910 Newburg Rd.\, Rockford\, IL\, United States
CATEGORIES:Rockford
END:VEVENT
BEGIN:VEVENT
DTSTART;TZID=America/Chicago:20230225T100000
DTEND;TZID=America/Chicago:20230225T160000
DTSTAMP:20260422T092123
CREATED:20230220T183157Z
LAST-MODIFIED:20230220T183158Z
UID:26591-1677319200-1677340800@statelinekids.com
SUMMARY:Mini Golf in the Library and Silent Auction
DESCRIPTION:Stop by the Cherry Valley Public Library this Saturday from 10 am – 4 pm and Sunday from 1 pm – 4 pm for the 11th annual Mini-Golf in the Library and Silent Auction! ⛳ \n\n\n \n\n\nBeat the winter blues by putting through the library on a newly designed nine-hole miniature golf course\, and grab some food and refreshments along the way. It’s fun for the whole family!\n\n\n \n\n\nGolfers can mini-putt through the indoor course for FREE! ?️‍♂️You can also bid on a huge variety of gift baskets and items in the Silent Auction that will culminate on Sunday evening.
URL:https://statelinekids.com/event/mini-golf-in-the-library-and-silent-auction-2/2023-02-25/
LOCATION:Cherry Valley Public Library\, 755 E. State St\, Cherry Valley\, IL\, United States
CATEGORIES:Cherry Valley
ATTACH;FMTTYPE=image/png:https://statelinekids.com/wp-content/uploads/2023/02/mini-golf-2021-flyer-10-×-6-in-1.png
END:VEVENT
BEGIN:VEVENT
DTSTART;TZID=America/Chicago:20230610T180000
DTEND;TZID=America/Chicago:20230610T203000
DTSTAMP:20260422T092123
CREATED:20230603T212436Z
LAST-MODIFIED:20230603T212436Z
UID:28493-1686420000-1686429000@statelinekids.com
SUMMARY:Golden Hour in the Grove
DESCRIPTION:Enjoy heavy hors d’oeuvres from The Norwegian\, a gourmet S’mores station\, cocktails\, mocktails and live music. This event is only for adults. Get tickets here.
URL:https://statelinekids.com/event/golden-hour-in-the-grove/
LOCATION:Severson Dells Nature Center\, 8786 Montague Rd\, Rockford\, IL\, United States
CATEGORIES:Rockford
ATTACH;FMTTYPE=image/jpeg:https://statelinekids.com/wp-content/uploads/2023/06/Golden.jpeg
END:VEVENT
BEGIN:VEVENT
DTSTART;TZID=America/Chicago:20230617T110000
DTEND;TZID=America/Chicago:20230617T143000
DTSTAMP:20260422T092123
CREATED:20230606T010330Z
LAST-MODIFIED:20230606T010330Z
UID:28722-1686999600-1687012200@statelinekids.com
SUMMARY:Touch a Truck at Culver’s (Beloit)
DESCRIPTION:Touch a truck at a fundraiser to benefit the humane society.
URL:https://statelinekids.com/event/touch-a-truck-at-culvers-beloit/
LOCATION:Culvers in Beloit\, 2676 Cranston Rd.\, Beloit\, WI\, United States
CATEGORIES:Beloit
END:VEVENT
END:VCALENDAR