BEGIN:VCALENDAR
VERSION:2.0
PRODID:-//Stateline Kids - ECPv6.5.1.3//NONSGML v1.0//EN
CALSCALE:GREGORIAN
METHOD:PUBLISH
X-ORIGINAL-URL:https://statelinekids.com
X-WR-CALDESC:Events for Stateline Kids
REFRESH-INTERVAL;VALUE=DURATION:PT1H
X-Robots-Tag:noindex
X-PUBLISHED-TTL:PT1H
BEGIN:VTIMEZONE
TZID:America/Chicago
BEGIN:DAYLIGHT
TZOFFSETFROM:-0600
TZOFFSETTO:-0500
TZNAME:CDT
DTSTART:20250309T080000
END:DAYLIGHT
BEGIN:STANDARD
TZOFFSETFROM:-0500
TZOFFSETTO:-0600
TZNAME:CST
DTSTART:20251102T070000
END:STANDARD
END:VTIMEZONE
BEGIN:VEVENT
DTSTART;TZID=America/Chicago:20250605T100000
DTEND;TZID=America/Chicago:20250605T110000
DTSTAMP:20260420T191915
CREATED:20250601T205913Z
LAST-MODIFIED:20250601T205913Z
UID:40880-1749117600-1749121200@statelinekids.com
SUMMARY:Janesville Fourth Trimester Support Group
DESCRIPTION:Parents with babies ages 0-3 months can join a free support group. No pre-registration is required.
URL:https://statelinekids.com/event/janesville-fourth-trimester-support-group/
LOCATION:SSM Health Janesville\, 3400 E. Racine Street\, Janesville\, IL\, United States
CATEGORIES:Janesville
END:VEVENT
END:VCALENDAR