BEGIN:VCALENDAR
VERSION:2.0
PRODID:-//Stateline Kids - ECPv6.5.1.3//NONSGML v1.0//EN
CALSCALE:GREGORIAN
METHOD:PUBLISH
X-ORIGINAL-URL:https://statelinekids.com
X-WR-CALDESC:Events for Stateline Kids
REFRESH-INTERVAL;VALUE=DURATION:PT1H
X-Robots-Tag:noindex
X-PUBLISHED-TTL:PT1H
BEGIN:VTIMEZONE
TZID:America/Chicago
BEGIN:DAYLIGHT
TZOFFSETFROM:-0600
TZOFFSETTO:-0500
TZNAME:CDT
DTSTART:20180311T080000
END:DAYLIGHT
BEGIN:STANDARD
TZOFFSETFROM:-0500
TZOFFSETTO:-0600
TZNAME:CST
DTSTART:20181104T070000
END:STANDARD
BEGIN:DAYLIGHT
TZOFFSETFROM:-0600
TZOFFSETTO:-0500
TZNAME:CDT
DTSTART:20190310T080000
END:DAYLIGHT
BEGIN:STANDARD
TZOFFSETFROM:-0500
TZOFFSETTO:-0600
TZNAME:CST
DTSTART:20191103T070000
END:STANDARD
BEGIN:DAYLIGHT
TZOFFSETFROM:-0600
TZOFFSETTO:-0500
TZNAME:CDT
DTSTART:20200308T080000
END:DAYLIGHT
BEGIN:STANDARD
TZOFFSETFROM:-0500
TZOFFSETTO:-0600
TZNAME:CST
DTSTART:20201101T070000
END:STANDARD
BEGIN:DAYLIGHT
TZOFFSETFROM:-0600
TZOFFSETTO:-0500
TZNAME:CDT
DTSTART:20210314T080000
END:DAYLIGHT
BEGIN:STANDARD
TZOFFSETFROM:-0500
TZOFFSETTO:-0600
TZNAME:CST
DTSTART:20211107T070000
END:STANDARD
BEGIN:DAYLIGHT
TZOFFSETFROM:-0600
TZOFFSETTO:-0500
TZNAME:CDT
DTSTART:20220313T080000
END:DAYLIGHT
BEGIN:STANDARD
TZOFFSETFROM:-0500
TZOFFSETTO:-0600
TZNAME:CST
DTSTART:20221106T070000
END:STANDARD
BEGIN:DAYLIGHT
TZOFFSETFROM:-0600
TZOFFSETTO:-0500
TZNAME:CDT
DTSTART:20230312T080000
END:DAYLIGHT
BEGIN:STANDARD
TZOFFSETFROM:-0500
TZOFFSETTO:-0600
TZNAME:CST
DTSTART:20231105T070000
END:STANDARD
BEGIN:DAYLIGHT
TZOFFSETFROM:-0600
TZOFFSETTO:-0500
TZNAME:CDT
DTSTART:20240310T080000
END:DAYLIGHT
BEGIN:STANDARD
TZOFFSETFROM:-0500
TZOFFSETTO:-0600
TZNAME:CST
DTSTART:20241103T070000
END:STANDARD
BEGIN:DAYLIGHT
TZOFFSETFROM:-0600
TZOFFSETTO:-0500
TZNAME:CDT
DTSTART:20250309T080000
END:DAYLIGHT
BEGIN:STANDARD
TZOFFSETFROM:-0500
TZOFFSETTO:-0600
TZNAME:CST
DTSTART:20251102T070000
END:STANDARD
END:VTIMEZONE
BEGIN:VEVENT
DTSTART;TZID=America/Chicago:20180818T120000
DTEND;TZID=America/Chicago:20180819T170000
DTSTAMP:20260421T094005
CREATED:20180802T180244Z
LAST-MODIFIED:20180802T180342Z
UID:1535-1534593600-1534698000@statelinekids.com
SUMMARY:Intro to Family Camping Overnight Experiences at Atwood
DESCRIPTION:Ever wonder what it would be like to sleep outside in a tree house? Now families can experience it by staying overnight in the Birds of Prey exhibit at Atwood Center in either of two Saturday-Sunday programs: August 18-19 or September 8-9\, 2018. \nEnjoy campfire meals and stay under the stars in this very unique exhibit. The program includes meals\, guided hikes\, and a live Birds of Prey show; all you need to bring is a sleeping bag and any personal items. Children need to be accompanied by an adult for this one-of-a-kind experience. Restrooms are available\, and the indoor Atwood Center facility\, 2685 New Milford School Rd.\, Rockford\, IL can be used in the case of inclement weather. \nFees vary according to age and residency. Register here.
URL:https://statelinekids.com/event/intro-to-family-camping-overnight-experiences-at-atwood/
LOCATION:Atwood Center\, 2685 New Milford School Rd\, Rockford\, IL\, United States
CATEGORIES:Rockford
END:VEVENT
BEGIN:VEVENT
DTSTART;TZID=America/Chicago:20180908T120000
DTEND;TZID=America/Chicago:20180909T170000
DTSTAMP:20260421T094005
CREATED:20180802T180452Z
LAST-MODIFIED:20180802T180452Z
UID:1537-1536408000-1536512400@statelinekids.com
SUMMARY:Intro to Family Camping Overnight Experiences at Atwood
DESCRIPTION:Ever wonder what it would be like to sleep outside in a tree house? Now families can experience it by staying overnight in the Birds of Prey exhibit at Atwood Center in either of two Saturday-Sunday programs: August 18-19 or September 8-9\, 2018. \nEnjoy campfire meals and stay under the stars in this very unique exhibit. The program includes meals\, guided hikes\, and a live Birds of Prey show; all you need to bring is a sleeping bag and any personal items. Children need to be accompanied by an adult for this one-of-a-kind experience. Restrooms are available\, and the indoor Atwood Center facility\, 2685 New Milford School Rd.\, Rockford\, IL can be used in the case of inclement weather. \nFees vary according to age and residency. Register here.
URL:https://statelinekids.com/event/intro-to-family-camping-overnight-experiences-at-atwood-2/
LOCATION:Atwood Center\, 2685 New Milford School Rd\, Rockford\, IL\, United States
CATEGORIES:Rockford
END:VEVENT
BEGIN:VEVENT
DTSTART;TZID=America/Chicago:20190824T160000
DTEND;TZID=America/Chicago:20190825T160000
DTSTAMP:20260421T094005
CREATED:20190817T204357Z
LAST-MODIFIED:20190817T204357Z
UID:7051-1566662400-1566748800@statelinekids.com
SUMMARY:Intro to Family Camping
DESCRIPTION:Experience sleeping outside in a treehouse in the Birds of Prey exhibit at Atwood Center. Enjoy a campfire meals\, hikes\, and birds of prey show. Bring your own sleeping bag and personal items. For kids ages 5-17 and parent or guardian. Register here. \nCost: $37 (kids ages 5-17 resident)\, $47 (non-resident)\, $19 (adult resident)\, $24 (non-resident)
URL:https://statelinekids.com/event/intro-to-family-camping-2/
LOCATION:Atwood Center\, 2685 New Milford School Rd\, Rockford\, IL\, United States
CATEGORIES:Rockford
END:VEVENT
BEGIN:VEVENT
DTSTART;TZID=America/Chicago:20230610T120000
DTEND;TZID=America/Chicago:20230611T110000
DTSTAMP:20260421T094005
CREATED:20230603T150245Z
LAST-MODIFIED:20230603T150245Z
UID:28425-1686398400-1686481200@statelinekids.com
SUMMARY:Family Wilderness Camp Out
DESCRIPTION:Families with kids ages 8 and up (no kids under 3) can have an overnight adventure in nature. You will learn survival skills\, shelter building\, and cooking over an open fire. Families will bring their own gear and tent. Register here. \nCost: $50 per family
URL:https://statelinekids.com/event/family-wilderness-camp-out/
LOCATION:Angelic Organics Learning Center\, 1545 Rockton Rd.\, Rockton\, IL\, United States
CATEGORIES:Caledonia
ATTACH;FMTTYPE=image/jpeg:https://statelinekids.com/wp-content/uploads/2023/06/Family-Camp.jpeg
END:VEVENT
BEGIN:VEVENT
DTSTART;TZID=America/Chicago:20240928T120000
DTEND;TZID=America/Chicago:20240928T233000
DTSTAMP:20260421T094005
CREATED:20240922T180501Z
LAST-MODIFIED:20240922T180501Z
UID:37782-1727524800-1727566200@statelinekids.com
SUMMARY:Family Overnight: Fall Edition
DESCRIPTION:Enjoy a night of camping with classic camp activities\, s’mores\, keepsakes\, and more. Bring your own tent or camper or sleep indoors at the lodge. Register here. \nCost: $50 per Y member / $65 per non-member (up to 5 people\, $10 each for additional person)
URL:https://statelinekids.com/event/family-overnight-fall-edition/
LOCATION:Camp Winnebago\, 5804 N. Main St.\, Rockford\, IL\, United States
CATEGORIES:Rockford
END:VEVENT
BEGIN:VEVENT
DTSTART;TZID=America/Chicago:20250712T120000
DTEND;TZID=America/Chicago:20250712T233000
DTSTAMP:20260421T094005
CREATED:20250706T185402Z
LAST-MODIFIED:20250706T185402Z
UID:41297-1752321600-1752363000@statelinekids.com
SUMMARY:Family Overnight
DESCRIPTION:Bring your family and tents for a night of camping with smores\, dinner\, crafts and more. Register here.
URL:https://statelinekids.com/event/family-overnight/
LOCATION:Camp Winnebago\, 5804 N. Main St.\, Rockford\, IL\, United States
CATEGORIES:Rockford
END:VEVENT
END:VCALENDAR