BEGIN:VCALENDAR
VERSION:2.0
PRODID:-//Stateline Kids - ECPv6.5.1.3//NONSGML v1.0//EN
CALSCALE:GREGORIAN
METHOD:PUBLISH
X-ORIGINAL-URL:https://statelinekids.com
X-WR-CALDESC:Events for Stateline Kids
REFRESH-INTERVAL;VALUE=DURATION:PT1H
X-Robots-Tag:noindex
X-PUBLISHED-TTL:PT1H
BEGIN:VTIMEZONE
TZID:America/Chicago
BEGIN:DAYLIGHT
TZOFFSETFROM:-0600
TZOFFSETTO:-0500
TZNAME:CDT
DTSTART:20180311T080000
END:DAYLIGHT
BEGIN:STANDARD
TZOFFSETFROM:-0500
TZOFFSETTO:-0600
TZNAME:CST
DTSTART:20181104T070000
END:STANDARD
BEGIN:DAYLIGHT
TZOFFSETFROM:-0600
TZOFFSETTO:-0500
TZNAME:CDT
DTSTART:20190310T080000
END:DAYLIGHT
BEGIN:STANDARD
TZOFFSETFROM:-0500
TZOFFSETTO:-0600
TZNAME:CST
DTSTART:20191103T070000
END:STANDARD
END:VTIMEZONE
BEGIN:VEVENT
DTSTART;TZID=America/Chicago:20180901T100000
DTEND;TZID=America/Chicago:20180901T170000
DTSTAMP:20260419T121902
CREATED:20180829T144835Z
LAST-MODIFIED:20180829T144835Z
UID:2277-1535796000-1535821200@statelinekids.com
SUMMARY:Maple Park Fun Fest
DESCRIPTION:If you’re up for a short drive (45 minutes from Rockford)\, Maple Park Fun Fest has a bunch of free activities for kids on Saturday. The Fun Fest continues through Monday\, September 3. Admission is FREE! \nSaturday’s schedule: \nPetting zoo from 12 pm – 4 pm \nTraveling reptiles show from 12:30 – 1:30 pm \nBobby “Circus Boy” Hunt at 4 pm \nToilet Bowl Races at 2 pm \nRock climbing wall from 12 pm – 4 pm \nFace painting by Maddie from 1 pm – 3 pm \nCaricaturist David Curbis from 2:30 – 5:00 pm \n  \n 
URL:https://statelinekids.com/event/maple-park-fun-fest/
LOCATION:Maple Park Main Street\, 309 Main Street\, Maple Park\, IL\, United States
CATEGORIES:Maple Park
END:VEVENT
BEGIN:VEVENT
DTSTART;TZID=America/Chicago:20180907T170000
DTEND;TZID=America/Chicago:20180907T220000
DTSTAMP:20260419T121902
CREATED:20180907T133401Z
LAST-MODIFIED:20180907T133401Z
UID:2473-1536339600-1536357600@statelinekids.com
SUMMARY:Roscoe Fall Fair
DESCRIPTION:Enjoy a small town fair in Roscoe. There will be rides\, games\, fair food\, local vendors\, and Bingo. Fair starts on Friday at 5 pm and continues through Sunday at 8 pm.
URL:https://statelinekids.com/event/roscoe-fall-fair/
LOCATION:Leland Park\, 10701 3rd St\, Roscoe\, IL\, United States
CATEGORIES:Roscoe
END:VEVENT
BEGIN:VEVENT
DTSTART;TZID=America/Chicago:20180908T120000
DTEND;TZID=America/Chicago:20180908T220000
DTSTAMP:20260419T121902
CREATED:20180907T124216Z
LAST-MODIFIED:20180907T124216Z
UID:2471-1536408000-1536444000@statelinekids.com
SUMMARY:Roscoe Fall Festival
DESCRIPTION:Enjoy a small town fair in Roscoe. There will be rides\, games\, fair food\, local vendors\, and Bingo. Fair starts on Friday at 5 pm and continues through Sunday at 8 pm.
URL:https://statelinekids.com/event/roscoe-fall-festival/
LOCATION:Leland Park\, 10701 3rd St\, Roscoe\, IL\, United States
CATEGORIES:Roscoe
END:VEVENT
BEGIN:VEVENT
DTSTART;TZID=America/Chicago:20180909T120000
DTEND;TZID=America/Chicago:20180909T200000
DTSTAMP:20260419T121902
CREATED:20180907T135605Z
LAST-MODIFIED:20180907T135628Z
UID:2475-1536494400-1536523200@statelinekids.com
SUMMARY:Roscoe Fall Fair
DESCRIPTION:Enjoy a small town fair in Roscoe. There will be rides\, games\, fair food\, local vendors\, and Bingo. Fair starts on Friday at 5 pm and continues through Sunday at 8 pm.
URL:https://statelinekids.com/event/roscoe-fall-fair-2/
LOCATION:Leland Park\, 10701 3rd St\, Roscoe\, IL\, United States
CATEGORIES:Roscoe
END:VEVENT
BEGIN:VEVENT
DTSTART;TZID=America/Chicago:20180921T170000
DTEND;TZID=America/Chicago:20180921T210000
DTSTAMP:20260419T121902
CREATED:20180916T161649Z
LAST-MODIFIED:20180916T161649Z
UID:2623-1537549200-1537563600@statelinekids.com
SUMMARY:Stillman Valley Fall Festival 2018
DESCRIPTION:The 81st annual Fall Festival in Stillman Valley. Indoor Craft show\, Car Show\, Tractor Show\, Parade\, Live music\, Food\, Carnival and much more.
URL:https://statelinekids.com/event/stillman-valley-fall-festival-2018/
LOCATION:Stillman Valley\, 120 N. Walnut St\, Stillman Valley\, IL\, United States
CATEGORIES:Stillman Valley
END:VEVENT
BEGIN:VEVENT
DTSTART;TZID=America/Chicago:20180922T090000
DTEND;TZID=America/Chicago:20180922T170000
DTSTAMP:20260419T121902
CREATED:20180916T192221Z
LAST-MODIFIED:20180916T192221Z
UID:2670-1537606800-1537635600@statelinekids.com
SUMMARY:Autumn Pioneer Festival
DESCRIPTION:Travel back to the 1800’s to learn about lifestyles and crafts of the day. There will be horse drawn wagons\, games and old-fashioned food items.
URL:https://statelinekids.com/event/autumn-pioneer-festival/
LOCATION:Boone County Conservation District\, 603 N Appleton Rd\, Belvidere\, IL\, United States
CATEGORIES:Belvidere
END:VEVENT
BEGIN:VEVENT
DTSTART;TZID=America/Chicago:20180922T100000
DTEND;TZID=America/Chicago:20180922T170000
DTSTAMP:20260419T121902
CREATED:20180916T161749Z
LAST-MODIFIED:20180916T161749Z
UID:2626-1537610400-1537635600@statelinekids.com
SUMMARY:Stillman Valley Fall Festival 2018
DESCRIPTION:The 81st annual Fall Festival in Stillman Valley. Indoor Craft show\, Car Show\, Tractor Show\, Parade\, Live music\, Food\, Carnival and much more.
URL:https://statelinekids.com/event/stillman-valley-fall-festival-2018-2/
LOCATION:Stillman Valley\, 120 N. Walnut St\, Stillman Valley\, IL\, United States
CATEGORIES:Stillman Valley
END:VEVENT
BEGIN:VEVENT
DTSTART;TZID=America/Chicago:20180922T140000
DTEND;TZID=America/Chicago:20180922T200000
DTSTAMP:20260419T121902
CREATED:20180913T160307Z
LAST-MODIFIED:20180913T160307Z
UID:2571-1537624800-1537646400@statelinekids.com
SUMMARY:Fall For Rockford
DESCRIPTION:Rediscover Rockford’s best tastes\, sights and sounds as you walk through downtown’s historic River District. With more than a dozen local restaurants featuring signature menu items and free entertainment\, we encourage you to fall in love with Rockford at northern Illinois’ premier outdoor food and music festival.
URL:https://statelinekids.com/event/fall-for-rockford/
LOCATION:Rockford River District\, 100-200 blocks of N. Main St.\, Rockford\, IL\, United States
CATEGORIES:Rockford
END:VEVENT
BEGIN:VEVENT
DTSTART;TZID=America/Chicago:20180923T100000
DTEND;TZID=America/Chicago:20180923T160000
DTSTAMP:20260419T121902
CREATED:20180916T192316Z
LAST-MODIFIED:20180916T192316Z
UID:2673-1537696800-1537718400@statelinekids.com
SUMMARY:Autumn Pioneer Festival
DESCRIPTION:Travel back to the 1800’s to learn about lifestyles and crafts of the day. There will be horse drawn wagons\, games and old-fashioned food items.
URL:https://statelinekids.com/event/autumn-pioneer-festival-2/
LOCATION:Boone County Conservation District\, 603 N Appleton Rd\, Belvidere\, IL\, United States
CATEGORIES:Belvidere
END:VEVENT
BEGIN:VEVENT
DTSTART;TZID=America/Chicago:20180923T100000
DTEND;TZID=America/Chicago:20180923T170000
DTSTAMP:20260419T121902
CREATED:20180916T161851Z
LAST-MODIFIED:20180916T161851Z
UID:2628-1537696800-1537722000@statelinekids.com
SUMMARY:Stillman Valley Fall Festival 2018
DESCRIPTION:The 81st annual Fall Festival in Stillman Valley. Indoor Craft show\, Car Show\, Tractor Show\, Parade\, Live music\, Food\, Carnival and much more.
URL:https://statelinekids.com/event/stillman-valley-fall-festival-2018-3/
LOCATION:Stillman Valley\, 120 N. Walnut St\, Stillman Valley\, IL\, United States
CATEGORIES:Stillman Valley
END:VEVENT
BEGIN:VEVENT
DTSTART;TZID=America/Chicago:20181006T090000
DTEND;TZID=America/Chicago:20181006T170000
DTSTAMP:20260419T121902
CREATED:20181001T145022Z
LAST-MODIFIED:20181001T145022Z
UID:3007-1538816400-1538845200@statelinekids.com
SUMMARY:Family Fall Fest
DESCRIPTION:Family Fall Fest has free fun for all ages including food\, music\, games\, straw maze\, bounce houses\, hayrides\, face painting\, Pickles the Clown and more. Event is also on Sunday\, October 7 from 9 am – 5 pm.
URL:https://statelinekids.com/event/family-fall-fest-2/
LOCATION:The Landscape Connection\, 4472 S. Mulford Rd\, Rockford\, IL\, United States
CATEGORIES:Rockford
END:VEVENT
BEGIN:VEVENT
DTSTART;TZID=America/Chicago:20181006T090000
DTEND;TZID=America/Chicago:20181006T200000
DTSTAMP:20260419T121902
CREATED:20181001T153028Z
LAST-MODIFIED:20181001T153028Z
UID:3039-1538816400-1538856000@statelinekids.com
SUMMARY:Oregon Autumn on Parade
DESCRIPTION:Oregon Autumn on Parade takes place in front of historic Ogle County Courthouse in Oregon\, IL. There will be a farmer’s market\, live entertainment\, food\, rides\, games and a parade. \nEvents for Kids:\n\nDonut eating contest\nCreate a canvas\nFun zone with slide\, obstacle course\, and Bungee Run\nParade\nSunday\, October 7 at 1 pm
URL:https://statelinekids.com/event/oregon-autumn-on-parade/
LOCATION:Downtown Oregon\, 105 S 5th St\, Oregon\, IL\, United States
CATEGORIES:Oregon
END:VEVENT
BEGIN:VEVENT
DTSTART;TZID=America/Chicago:20181006T100000
DTEND;TZID=America/Chicago:20181006T160000
DTSTAMP:20260419T121902
CREATED:20181001T151153Z
LAST-MODIFIED:20181001T151153Z
UID:3016-1538820000-1538841600@statelinekids.com
SUMMARY:Scarecrow Harvest Festival
DESCRIPTION:Scarecrow Harvest Festival at Midway Village in Rockford\, IL is a scarecrow themed event for all ages. There will be a scarecrow decorating contest\, antique farm demonstrations\, pumpkin carving demonstrations\, square dancing\, and fall games and crafts. Make-A-Scarecrow kit advance discount is available at www.midwayvillage.com. Make-A-Scarecrow kits available for purchase at the event for $10 ($2 per clothing or accessory piece). \nEvents for Kids:\n\nScarecrow building\nHoo Haven’s Birds of Prey program at 1 pm\nFall games and crafts
URL:https://statelinekids.com/event/scarecrow-harvest-festival/
LOCATION:Midway Village\, 6799 Guilford Road\, Rockford\, IL\, United States
END:VEVENT
BEGIN:VEVENT
DTSTART;TZID=America/Chicago:20181006T100000
DTEND;TZID=America/Chicago:20181006T210000
DTSTAMP:20260419T121902
CREATED:20181001T151917Z
LAST-MODIFIED:20181001T151917Z
UID:3023-1538820000-1538859600@statelinekids.com
SUMMARY:St. Charles Scarecrow Fest
DESCRIPTION:If you’re only going to make it out of town for one fall festival\, make it St. Charles’ Scarecrow Fest. It is worth the drive! Over 100 handmade and mechanical scarecrows will be on display for you to vote on your favorite. There will also be rides\, live music\, arts and crafts\, and food. \nEvents for Kids:\n\nMake your own scarecrow\nCarnival rides\nGames\n\nEntertainment
URL:https://statelinekids.com/event/st-charles-scarecrow-fest-2/
LOCATION:Downtown St. Charles\, 2 E. Main St\, Saint Charles\, IL\, United States
CATEGORIES:St. Charles
END:VEVENT
BEGIN:VEVENT
DTSTART;TZID=America/Chicago:20181006T110000
DTEND;TZID=America/Chicago:20181006T170000
DTSTAMP:20260419T121902
CREATED:20181001T152736Z
LAST-MODIFIED:20181001T152736Z
UID:3034-1538823600-1538845200@statelinekids.com
SUMMARY:Lake Geneva Oktoberfest
DESCRIPTION:Lake Geneva Oktoberfest is located near lovely Lake Geneva in Wisconsin. There will be pony rides\, bounce houses\, music\, children’s performances\, food\, donuts\, Scootoberfest games\, and the Giant Pumpkin Weigh-in. You can also visit local shops and see the beautiful fall colors around the lake. \nEvents for Kids:\n\nPony rides\nBounce houses\nChildren’s performances
URL:https://statelinekids.com/event/lake-geneva-oktoberfest/
LOCATION:Downtown Lake Geneva\, Main and Broad Streets\, Lake Geneva\, WI\, United States
CATEGORIES:Lake Geneva
END:VEVENT
BEGIN:VEVENT
DTSTART;TZID=America/Chicago:20181007T090000
DTEND;TZID=America/Chicago:20181007T170000
DTSTAMP:20260419T121902
CREATED:20181001T153159Z
LAST-MODIFIED:20181001T153159Z
UID:3042-1538902800-1538931600@statelinekids.com
SUMMARY:Oregon Autumn on Parade
DESCRIPTION:Oregon Autumn on Parade takes place in front of historic Ogle County Courthouse in Oregon\, IL. There will be a farmer’s market\, live entertainment\, food\, rides\, games and a parade. \nEvents for Kids:\n\nDonut eating contest\nCreate a canvas\nFun zone with slide\, obstacle course\, and Bungee Run\nParade\nSunday\, October 7 at 1 pm
URL:https://statelinekids.com/event/oregon-autumn-on-parade-2/
LOCATION:Downtown Oregon\, 105 S 5th St\, Oregon\, IL\, United States
CATEGORIES:Oregon
END:VEVENT
BEGIN:VEVENT
DTSTART;TZID=America/Chicago:20181007T100000
DTEND;TZID=America/Chicago:20181007T170000
DTSTAMP:20260419T121902
CREATED:20181001T152018Z
LAST-MODIFIED:20181001T152018Z
UID:3025-1538906400-1538931600@statelinekids.com
SUMMARY:St. Charles Scarecrow Fest
DESCRIPTION:If you’re only going to make it out of town for one fall festival\, make it St. Charles’ Scarecrow Fest. It is worth the drive! Over 100 handmade and mechanical scarecrows will be on display for you to vote on your favorite. There will also be rides\, live music\, arts and crafts\, and food. \nEvents for Kids:\n\nMake your own scarecrow\nCarnival rides\nGames\n\nEntertainment
URL:https://statelinekids.com/event/st-charles-scarecrow-fest-3/
LOCATION:Downtown St. Charles\, 2 E. Main St\, Saint Charles\, IL\, United States
CATEGORIES:St. Charles
END:VEVENT
BEGIN:VEVENT
DTSTART;TZID=America/Chicago:20181007T110000
DTEND;TZID=America/Chicago:20181007T170000
DTSTAMP:20260419T121902
CREATED:20181001T152844Z
LAST-MODIFIED:20181001T152844Z
UID:3037-1538910000-1538931600@statelinekids.com
SUMMARY:Lake Geneva Oktoberfest
DESCRIPTION:Lake Geneva Oktoberfest is located near lovely Lake Geneva in Wisconsin. There will be pony rides\, bounce houses\, music\, children’s performances\, food\, donuts\, Scootoberfest games\, and the Giant Pumpkin Weigh-in. You can also visit local shops and see the beautiful fall colors around the lake. \nEvents for Kids:\n\nPony rides\nBounce houses\nChildren’s performances
URL:https://statelinekids.com/event/lake-geneva-oktoberfest-2/
LOCATION:Downtown Lake Geneva\, Main and Broad Streets\, Lake Geneva\, WI\, United States
CATEGORIES:Lake Geneva
END:VEVENT
BEGIN:VEVENT
DTSTART;TZID=America/Chicago:20181007T160000
DTEND;TZID=America/Chicago:20181007T173000
DTSTAMP:20260419T121902
CREATED:20181001T150908Z
LAST-MODIFIED:20181001T150908Z
UID:3013-1538928000-1538933400@statelinekids.com
SUMMARY:Fall Bash
DESCRIPTION:Stop by for bounce houses\, pumpkin decorating contest\, and games and snacks.
URL:https://statelinekids.com/event/fall-bash/
LOCATION:Christ UMC\, 4509 Highcrest Rd\, Rockford\, IL\, United States
CATEGORIES:Rockford
END:VEVENT
BEGIN:VEVENT
DTSTART;TZID=America/Chicago:20181013T110000
DTEND;TZID=America/Chicago:20181013T160000
DTSTAMP:20260419T121902
CREATED:20181012T171959Z
LAST-MODIFIED:20181012T172900Z
UID:3187-1539428400-1539446400@statelinekids.com
SUMMARY:Lockwood Pumpkin Fest
DESCRIPTION:Come to Lockwood Park for Lockwood Pumpkin Fest. Activities include pumpkin picking\, pony and horse rides\, making S’Mores\, games\, a corn maze\, haunted corn crib\, and more. Some activities will cost money. The fest continues throughout October including Sunday from 11 am – 4 pm.
URL:https://statelinekids.com/event/lockwood-pumpkin-fest-5/
LOCATION:Lockwood Park\, 5201 Safford Rd\, Rockford\, IL\, United States
CATEGORIES:Rockford
END:VEVENT
BEGIN:VEVENT
DTSTART;TZID=America/Chicago:20181014T100000
DTEND;TZID=America/Chicago:20181014T150000
DTSTAMP:20260419T121902
CREATED:20181001T151349Z
LAST-MODIFIED:20181001T151349Z
UID:3018-1539511200-1539529200@statelinekids.com
SUMMARY:Autumn at the Arboretum
DESCRIPTION:Autumn at the Arboretum is one of Klehm’s most popular family events. There will be scarecrow building\, pumpkin decorating\, face painting\, horse-drawn wagon rides\, and more. Food and drink are available for purchase. \nEvents for Kids:\n\nScarecrow building\nPumpkin decorating\nFace painting\nHorse-drawn wagon rides\nPickles the Clown entertainment with balloon creations\nStorybook princesses and superheroes\nPetting zoo with farm animals
URL:https://statelinekids.com/event/autumn-at-the-arboretum/
LOCATION:Klehm Arboretum and Botanic Garden\, 2715 S Main St\,\, Rockford\, IL\, United States
CATEGORIES:Rockford
END:VEVENT
BEGIN:VEVENT
DTSTART;TZID=America/Chicago:20181014T170000
DTEND;TZID=America/Chicago:20181014T190000
DTSTAMP:20260419T121902
CREATED:20181012T172812Z
LAST-MODIFIED:20181012T172812Z
UID:3195-1539536400-1539543600@statelinekids.com
SUMMARY:Fall Festival
DESCRIPTION:Come to Hononegah High School’s parking lot for bounce houses\, games\, a petting zoo\, pony rides\, free pumpkins\, and food vendors.
URL:https://statelinekids.com/event/fall-festival/
LOCATION:City First Church Hononegah\, 307 Salem St.\, Rockton\, IL\, United States
CATEGORIES:Rockton
END:VEVENT
BEGIN:VEVENT
DTSTART;TZID=America/Chicago:20181026T120000
DTEND;TZID=America/Chicago:20181026T220000
DTSTAMP:20260419T121902
CREATED:20181001T152213Z
LAST-MODIFIED:20181001T152213Z
UID:3027-1540555200-1540591200@statelinekids.com
SUMMARY:Sycamore Pumpkin Festival
DESCRIPTION:Sycamore Pumpkin Fest is a yearly event celebrating the return of fall in Sycamore\, IL. There will be thousands of decorated pumpkins on display\, arts and craft shows\, a pie eating contest\, carnival\, fun fair\, parade\, and race. \nEvents for Kids:\n\nPie eating contest\nCarnival rides\nGames\nParade\nSunday\, October 28 at 1 pm
URL:https://statelinekids.com/event/sycamore-pumpkin-festival/
LOCATION:Downtown Sycamore\, 133 W. State St\, Sycamore\, IL\, United States
CATEGORIES:Sycamore
END:VEVENT
BEGIN:VEVENT
DTSTART;TZID=America/Chicago:20181027T110000
DTEND;TZID=America/Chicago:20181027T160000
DTSTAMP:20260419T121902
CREATED:20181015T152433Z
LAST-MODIFIED:20181015T152433Z
UID:3368-1540638000-1540656000@statelinekids.com
SUMMARY:Lockwood Pumpkin Fest
DESCRIPTION:Come to Lockwood Park for Lockwood Pumpkin Fest. Activities include pumpkin picking\, pony and horse rides\, making S’Mores\, games\, a corn maze\, haunted corn crib\, and more. Some activities will cost money.
URL:https://statelinekids.com/event/lockwood-pumpkin-fest-8/
LOCATION:Lockwood Park\, 5201 Safford Rd\, Rockford\, IL\, United States
CATEGORIES:Rockford
END:VEVENT
BEGIN:VEVENT
DTSTART;TZID=America/Chicago:20181027T120000
DTEND;TZID=America/Chicago:20181027T220000
DTSTAMP:20260419T121902
CREATED:20181001T152333Z
LAST-MODIFIED:20181001T152333Z
UID:3030-1540641600-1540677600@statelinekids.com
SUMMARY:Sycamore Pumpkin Festival
DESCRIPTION:Sycamore Pumpkin Fest is a yearly event celebrating the return of fall in Sycamore\, IL. There will be thousands of decorated pumpkins on display\, arts and craft shows\, a pie eating contest\, carnival\, fun fair\, parade\, and race. \nEvents for Kids:\n\nPie eating contest\nCarnival rides\nGames\nParade\nSunday\, October 28 at 1 pm
URL:https://statelinekids.com/event/sycamore-pumpkin-festival-2/
LOCATION:Downtown Sycamore\, 133 W. State St\, Sycamore\, IL\, United States
CATEGORIES:Sycamore
END:VEVENT
BEGIN:VEVENT
DTSTART;TZID=America/Chicago:20181028T120000
DTEND;TZID=America/Chicago:20181028T170000
DTSTAMP:20260419T121902
CREATED:20181001T152547Z
LAST-MODIFIED:20181001T152547Z
UID:3032-1540728000-1540746000@statelinekids.com
SUMMARY:Sycamore Pumpkin Festival
DESCRIPTION:Sycamore Pumpkin Fest is a yearly event celebrating the return of fall in Sycamore\, IL. There will be thousands of decorated pumpkins on display\, arts and craft shows\, a pie eating contest\, carnival\, fun fair\, parade\, and race. \nEvents for Kids:\n\nPie eating contest\nCarnival rides\nGames\nParade\nSunday\, October 28 at 1 pm
URL:https://statelinekids.com/event/sycamore-pumpkin-festival-3/
LOCATION:Downtown Sycamore\, 133 W. State St\, Sycamore\, IL\, United States
CATEGORIES:Sycamore
END:VEVENT
BEGIN:VEVENT
DTSTART;TZID=America/Chicago:20190906T170000
DTEND;TZID=America/Chicago:20190906T220000
DTSTAMP:20260419T121902
CREATED:20190831T203633Z
LAST-MODIFIED:20190831T203724Z
UID:7182-1567789200-1567807200@statelinekids.com
SUMMARY:Roscoe Fall Festival
DESCRIPTION:Enjoy a small town fair with rides\, carnival games\, live music\, raffles and more. Free admission! Festival continues Saturday from 10 am – 10 pm and Sunday from 7 am – 7 pm.
URL:https://statelinekids.com/event/roscoe-fall-festival-2/
LOCATION:Leland Park\, 10701 3rd St\, Roscoe\, IL\, United States
CATEGORIES:Roscoe
END:VEVENT
BEGIN:VEVENT
DTSTART;TZID=America/Chicago:20190907T100000
DTEND;TZID=America/Chicago:20190907T220000
DTSTAMP:20260419T121902
CREATED:20190831T203810Z
LAST-MODIFIED:20190831T203810Z
UID:7185-1567850400-1567893600@statelinekids.com
SUMMARY:Roscoe Fall Festival
DESCRIPTION:Enjoy a small town fair with rides\, carnival games\, live music\, raffles and more. Festival continues Saturday from 10 am – 10 pm and Sunday from 7 am – 7 pm.
URL:https://statelinekids.com/event/roscoe-fall-festival-3/
LOCATION:Leland Park\, 10701 3rd St\, Roscoe\, IL\, United States
CATEGORIES:Roscoe
END:VEVENT
BEGIN:VEVENT
DTSTART;TZID=America/Chicago:20190921T140000
DTEND;TZID=America/Chicago:20190921T210000
DTSTAMP:20260419T121902
CREATED:20190914T200218Z
LAST-MODIFIED:20190914T200218Z
UID:7478-1569074400-1569099600@statelinekids.com
SUMMARY:Fall for Rockford
DESCRIPTION:Enjoy live music\, food\, and a kids zone with bounce houses\, library van and slime.
URL:https://statelinekids.com/event/fall-for-rockford-2/
LOCATION:Main Street District\, Downtown N Main.\, Rockford\, IL\, United States
CATEGORIES:Rockford
END:VEVENT
BEGIN:VEVENT
DTSTART;TZID=America/Chicago:20190927T170000
DTEND;TZID=America/Chicago:20190927T200000
DTSTAMP:20260419T121902
CREATED:20190921T191141Z
LAST-MODIFIED:20190921T191141Z
UID:7571-1569603600-1569614400@statelinekids.com
SUMMARY:Stillman Valley Fall Festival
DESCRIPTION:Enjoy the Stillman Valley fair with rides\, food\, music\, and more. Fireworks at dusk. Festival continues through Sunday from 1 – 5 pm. \nCost: Free admission\, $1 per ticket
URL:https://statelinekids.com/event/stillman-valley-fall-festival/
LOCATION:Meridian Junior High\, 207 W. Main St.\, Stillman Valley\, IL\, United States
CATEGORIES:Stillman Valley
END:VEVENT
END:VCALENDAR